Workbook

Sheet 全体
G1: ="公 称 町 名 別 集 計 表 （"&+[1]データシート!L1&"）" -> 公 称 町 名 別 集 計 表 （全体） | T1: =+[1]データシート!$H$2 -> 46296 | V1: 現在 | W1: 西尾市 市民課
A3: 町名 | C3: 合計 | D3: 男 | E3: 女 | F3: 世帯 | G3: 町名 | I3: 合計 | J3: 男 | K3: 女 | L3: 世帯 | M3: 町名 | O3: 合計 | P3: 男 | Q3: 女 | R3: 世帯 | S3: 町名 | U3: 合計 | V3: 男 | W3: 女 | X3: 世帯
A4: 西 尾 地 区 | G4: 061000 | H4: =IF(ISNA(VLOOKUP(G4,[1]データシート!$A$1:$I$65536,9,FALSE)),"",IF(RIGHT(G4,3) = "000",VLOOKUP(G4,[1]データシート!$A$1:$I$65536,9,FALSE),VLOOKUP(G4,[1]データシート!$A$1:$I$65536,9,FALSE)&VLOOKUP(G4,[1]データシート!$A$1:$G$65536,4,FALSE))) -> 新渡場町 | I4: =IF(H4="","",SUM(J4:K4)) -> 733 | J4: =IF(ISNA(VLOOKUP(G4,[1]データシート!$A$1:$G$65536,6,FALSE)),"",SUMIF([1]データシート!$A$1:$A$65536,[1]集計表!G4,[1]データシート!$F$1:$F$65536)) -> 374 | K4: =IF(ISNA(VLOOKUP(G4,[1]データシート!$A$1:$G$65536,7,FALSE)),"",SUMIF([1]データシート!$A$1:$A$65536,[1]集計表!G4,[1]データシート!$G$1:$G$65536)) -> 359 | L4: =IF(ISNA(VLOOKUP(G4,[1]データシート!$A$1:$G$65536,5,FALSE)),"",SUMIF([1]データシート!$A$1:$A$65536,[1]集計表!G4,[1]データシート!$E$1:$E$65536)) -> 303 | M4: 022000 | N4: =IF(ISNA(VLOOKUP(M4,[1]データシート!$A$1:$I$65536,9,FALSE)),"",IF(RIGHT(M4,3) = "000",VLOOKUP(M4,[1]データシート!$A$1:$I$65536,9,FALSE),VLOOKUP(M4,[1]データシート!$A$1:$I$65536,9,FALSE)&VLOOKUP(M4,[1]データシート!$A$1:$G$65536,4,FALSE))) -> 鎌谷町 | O4: =IF(N4="","",SUM(P4:Q4)) -> 530 | P4: =IF(ISNA(VLOOKUP(M4,[1]データシート!$A$1:$G$65536,6,FALSE)),"",SUMIF([1]データシート!$A$1:$A$65536,[1]集計表!M4,[1]データシート!$F$1:$F$65536)) -> 257 | Q4: =IF(ISNA(VLOOKUP(M4,[1]データシート!$A$1:$G$65536,7,FALSE)),"",SUMIF([1]データシート!$A$1:$A$65536,[1]集計表!M4,[1]データシート!$G$1:$G$65536)) -> 273 | R4: =IF(ISNA(VLOOKUP(M4,[1]データシート!$A$1:$G$65536,5,FALSE)),"",SUMIF([1]データシート!$A$1:$A$65536,[1]集計表!M4,[1]データシート!$E$1:$E$65536)) -> 234 | S4: 一 色 地 区
A5: 068000 | B5: =IF(ISNA(VLOOKUP(A5,[1]データシート!$A$1:$I$65536,9,FALSE)),"",IF(RIGHT(A5,3) = "000",VLOOKUP(A5,[1]データシート!$A$1:$I$65536,9,FALSE),VLOOKUP(A5,[1]データシート!$A$1:$I$65536,9,FALSE)&VLOOKUP(A5,[1]データシート!$A$1:$G$65536,4,FALSE))) -> 須田町 | C5: =IF(B5="","",SUM(D5:E5)) -> 139 | D5: =IF(ISNA(VLOOKUP(A5,[1]データシート!$A$1:$G$65536,6,FALSE)),"",SUMIF([1]データシート!$A$1:$A$65536,[1]集計表!A5,[1]データシート!$F$1:$F$65536)) -> 61 | E5: =IF(ISNA(VLOOKUP(A5,[1]データシート!$A$1:$G$65536,7,FALSE)),"",SUMIF([1]データシート!$A$1:$A$65536,[1]集計表!A5,[1]データシート!$G$1:$G$65536)) -> 78 | F5: =IF(ISNA(VLOOKUP(A5,[1]データシート!$A$1:$G$65536,5,FALSE)),"",SUMIF([1]データシート!$A$1:$A$65536,[1]集計表!A5,[1]データシート!$E$1:$E$65536)) -> 61 | G5: 060001 | H5: =IF(ISNA(VLOOKUP(G5,[1]データシート!$A$1:$I$65536,9,FALSE)),"",IF(RIGHT(G5,3) = "000",VLOOKUP(G5,[1]データシート!$A$1:$I$65536,9,FALSE),VLOOKUP(G5,[1]データシート!$A$1:$I$65536,9,FALSE)&VLOOKUP(G5,[1]データシート!$A$1:$G$65536,4,FALSE))) -> 新渡場１丁目 | I5: =IF(H5="","",SUM(J5:K5)) -> 297 | J5: =IF(ISNA(VLOOKUP(G5,[1]データシート!$A$1:$G$65536,6,FALSE)),"",SUMIF([1]データシート!$A$1:$A$65536,[1]集計表!G5,[1]データシート!$F$1:$F$65536)) -> 149 | K5: =IF(ISNA(VLOOKUP(G5,[1]データシート!$A$1:$G$65536,7,FALSE)),"",SUMIF([1]データシート!$A$1:$A$65536,[1]集計表!G5,[1]データシート!$G$1:$G$65536)) -> 148 | L5: =IF(ISNA(VLOOKUP(G5,[1]データシート!$A$1:$G$65536,5,FALSE)),"",SUMIF([1]データシート!$A$1:$A$65536,[1]集計表!G5,[1]データシート!$E$1:$E$65536)) -> 126 | M5: 064000 | N5: =IF(ISNA(VLOOKUP(M5,[1]データシート!$A$1:$I$65536,9,FALSE)),"",IF(RIGHT(M5,3) = "000",VLOOKUP(M5,[1]データシート!$A$1:$I$65536,9,FALSE),VLOOKUP(M5,[1]データシート!$A$1:$I$65536,9,FALSE)&VLOOKUP(M5,[1]データシート!$A$1:$G$65536,4,FALSE))) -> 十郎島町 | O5: =IF(N5="","",SUM(P5:Q5)) -> 207 | P5: =IF(ISNA(VLOOKUP(M5,[1]データシート!$A$1:$G$65536,6,FALSE)),"",SUMIF([1]データシート!$A$1:$A$65536,[1]集計表!M5,[1]データシート!$F$1:$F$65536)) -> 104 | Q5: =IF(ISNA(VLOOKUP(M5,[1]データシート!$A$1:$G$65536,7,FALSE)),"",SUMIF([1]データシート!$A$1:$A$65536,[1]集計表!M5,[1]データシート!$G$1:$G$65536)) -> 103 | R5: =IF(ISNA(VLOOKUP(M5,[1]データシート!$A$1:$G$65536,5,FALSE)),"",SUMIF([1]データシート!$A$1:$A$65536,[1]集計表!M5,[1]データシート!$E$1:$E$65536)) -> 76 | S5: 149000 | T5: =IF(ISNA(VLOOKUP(S5,[1]データシート!$A$1:$I$65536,9,FALSE)),"",IF(RIGHT(S5,3) = "000",VLOOKUP(S5,[1]データシート!$A$1:$I$65536,9,FALSE),VLOOKUP(S5,[1]データシート!$A$1:$I$65536,9,FALSE)&VLOOKUP(S5,[1]データシート!$A$1:$G$65536,4,FALSE))) -> 一色町赤羽 | U5: =IF(T5="","",SUM(V5:W5)) -> 1740 | V5: =IF(ISNA(VLOOKUP(S5,[1]データシート!$A$1:$G$65536,6,FALSE)),"",SUMIF([1]データシート!$A$1:$A$65536,[1]集計表!S5,[1]データシート!$F$1:$F$65536)) -> 847 | W5: =IF(ISNA(VLOOKUP(S5,[1]データシート!$A$1:$G$65536,7,FALSE)),"",SUMIF([1]データシート!$A$1:$A$65536,[1]集計表!S5,[1]データシート!$G$1:$G$65536)) -> 893 | X5: =IF(ISNA(VLOOKUP(S5,[1]データシート!$A$1:$G$65536,5,FALSE)),"",SUMIF([1]データシート!$A$1:$A$65536,[1]集計表!S5,[1]データシート!$E$1:$E$65536)) -> 674
A6: 121000 | B6: =IF(ISNA(VLOOKUP(A6,[1]データシート!$A$1:$I$65536,9,FALSE)),"",IF(RIGHT(A6,3) = "000",VLOOKUP(A6,[1]データシート!$A$1:$I$65536,9,FALSE),VLOOKUP(A6,[1]データシート!$A$1:$I$65536,9,FALSE)&VLOOKUP(A6,[1]データシート!$A$1:$G$65536,4,FALSE))) -> 本町 | C6: =IF(B6="","",SUM(D6:E6)) -> 137 | D6: =IF(ISNA(VLOOKUP(A6,[1]データシート!$A$1:$G$65536,6,FALSE)),"",SUMIF([1]データシート!$A$1:$A$65536,[1]集計表!A6,[1]データシート!$F$1:$F$65536)) -> 70 | E6: =IF(ISNA(VLOOKUP(A6,[1]データシート!$A$1:$G$65536,7,FALSE)),"",SUMIF([1]データシート!$A$1:$A$65536,[1]集計表!A6,[1]データシート!$G$1:$G$65536)) -> 67 | F6: =IF(ISNA(VLOOKUP(A6,[1]データシート!$A$1:$G$65536,5,FALSE)),"",SUMIF([1]データシート!$A$1:$A$65536,[1]集計表!A6,[1]データシート!$E$1:$E$65536)) -> 70 | G6: 060002 | H6: =IF(ISNA(VLOOKUP(G6,[1]データシート!$A$1:$I$65536,9,FALSE)),"",IF(RIGHT(G6,3) = "000",VLOOKUP(G6,[1]データシート!$A$1:$I$65536,9,FALSE),VLOOKUP(G6,[1]データシート!$A$1:$I$65536,9,FALSE)&VLOOKUP(G6,[1]データシート!$A$1:$G$65536,4,FALSE))) -> 新渡場２丁目 | I6: =IF(H6="","",SUM(J6:K6)) -> 176 | J6: =IF(ISNA(VLOOKUP(G6,[1]データシート!$A$1:$G$65536,6,FALSE)),"",SUMIF([1]データシート!$A$1:$A$65536,[1]集計表!G6,[1]データシート!$F$1:$F$65536)) -> 97 | K6: =IF(ISNA(VLOOKUP(G6,[1]データシート!$A$1:$G$65536,7,FALSE)),"",SUMIF([1]データシート!$A$1:$A$65536,[1]集計表!G6,[1]データシート!$G$1:$G$65536)) -> 79 | L6: =IF(ISNA(VLOOKUP(G6,[1]データシート!$A$1:$G$65536,5,FALSE)),"",SUMIF([1]データシート!$A$1:$A$65536,[1]集計表!G6,[1]データシート!$E$1:$E$65536)) -> 88 | M6: 120000 | N6: =IF(ISNA(VLOOKUP(M6,[1]データシート!$A$1:$I$65536,9,FALSE)),"",IF(RIGHT(M6,3) = "000",VLOOKUP(M6,[1]データシート!$A$1:$I$65536,9,FALSE),VLOOKUP(M6,[1]データシート!$A$1:$I$65536,9,FALSE)&VLOOKUP(M6,[1]データシート!$A$1:$G$65536,4,FALSE))) -> 細池町 | O6: =IF(N6="","",SUM(P6:Q6)) -> 721 | P6: =IF(ISNA(VLOOKUP(M6,[1]データシート!$A$1:$G$65536,6,FALSE)),"",SUMIF([1]データシート!$A$1:$A$65536,[1]集計表!M6,[1]データシート!$F$1:$F$65536)) -> 367 | Q6: =IF(ISNA(VLOOKUP(M6,[1]データシート!$A$1:$G$65536,7,FALSE)),"",SUMIF([1]データシート!$A$1:$A$65536,[1]集計表!M6,[1]データシート!$G$1:$G$65536)) -> 354 | R6: =IF(ISNA(VLOOKUP(M6,[1]データシート!$A$1:$G$65536,5,FALSE)),"",SUMIF([1]データシート!$A$1:$A$65536,[1]集計表!M6,[1]データシート!$E$1:$E$65536)) -> 254 | S6: 150000 | T6: =IF(ISNA(VLOOKUP(S6,[1]データシート!$A$1:$I$65536,9,FALSE)),"",IF(RIGHT(S6,3) = "000",VLOOKUP(S6,[1]データシート!$A$1:$I$65536,9,FALSE),VLOOKUP(S6,[1]データシート!$A$1:$I$65536,9,FALSE)&VLOOKUP(S6,[1]データシート!$A$1:$G$65536,4,FALSE))) -> 一色町味浜 | U6: =IF(T6="","",SUM(V6:W6)) -> 2509 | V6: =IF(ISNA(VLOOKUP(S6,[1]データシート!$A$1:$G$65536,6,FALSE)),"",SUMIF([1]データシート!$A$1:$A$65536,[1]集計表!S6,[1]データシート!$F$1:$F$65536)) -> 1222 | W6: =IF(ISNA(VLOOKUP(S6,[1]データシート!$A$1:$G$65536,7,FALSE)),"",SUMIF([1]データシート!$A$1:$A$65536,[1]集計表!S6,[1]データシート!$G$1:$G$65536)) -> 1287 | X6: =IF(ISNA(VLOOKUP(S6,[1]データシート!$A$1:$G$65536,5,FALSE)),"",SUMIF([1]データシート!$A$1:$A$65536,[1]集計表!S6,[1]データシート!$E$1:$E$65536)) -> 1006
A7: 045000 | B7: =IF(ISNA(VLOOKUP(A7,[1]データシート!$A$1:$I$65536,9,FALSE)),"",IF(RIGHT(A7,3) = "000",VLOOKUP(A7,[1]データシート!$A$1:$I$65536,9,FALSE),VLOOKUP(A7,[1]データシート!$A$1:$I$65536,9,FALSE)&VLOOKUP(A7,[1]データシート!$A$1:$G$65536,4,FALSE))) -> 幸町 | C7: =IF(B7="","",SUM(D7:E7)) -> 37 | D7: =IF(ISNA(VLOOKUP(A7,[1]データシート!$A$1:$G$65536,6,FALSE)),"",SUMIF([1]データシート!$A$1:$A$65536,[1]集計表!A7,[1]データシート!$F$1:$F$65536)) -> 20 | E7: =IF(ISNA(VLOOKUP(A7,[1]データシート!$A$1:$G$65536,7,FALSE)),"",SUMIF([1]データシート!$A$1:$A$65536,[1]集計表!A7,[1]データシート!$G$1:$G$65536)) -> 17 | F7: =IF(ISNA(VLOOKUP(A7,[1]データシート!$A$1:$G$65536,5,FALSE)),"",SUMIF([1]データシート!$A$1:$A$65536,[1]集計表!A7,[1]データシート!$E$1:$E$65536)) -> 13 | G7: 005000 | H7: =IF(ISNA(VLOOKUP(G7,[1]データシート!$A$1:$I$65536,9,FALSE)),"",IF(RIGHT(G7,3) = "000",VLOOKUP(G7,[1]データシート!$A$1:$I$65536,9,FALSE),VLOOKUP(G7,[1]データシート!$A$1:$I$65536,9,FALSE)&VLOOKUP(G7,[1]データシート!$A$1:$G$65536,4,FALSE))) -> 伊藤町 | I7: =IF(H7="","",SUM(J7:K7)) -> 684 | J7: =IF(ISNA(VLOOKUP(G7,[1]データシート!$A$1:$G$65536,6,FALSE)),"",SUMIF([1]データシート!$A$1:$A$65536,[1]集計表!G7,[1]データシート!$F$1:$F$65536)) -> 346 | K7: =IF(ISNA(VLOOKUP(G7,[1]データシート!$A$1:$G$65536,7,FALSE)),"",SUMIF([1]データシート!$A$1:$A$65536,[1]集計表!G7,[1]データシート!$G$1:$G$65536)) -> 338 | L7: =IF(ISNA(VLOOKUP(G7,[1]データシート!$A$1:$G$65536,5,FALSE)),"",SUMIF([1]データシート!$A$1:$A$65536,[1]集計表!G7,[1]データシート!$E$1:$E$65536)) -> 301 | M7: 031000 | N7: =IF(ISNA(VLOOKUP(M7,[1]データシート!$A$1:$I$65536,9,FALSE)),"",IF(RIGHT(M7,3) = "000",VLOOKUP(M7,[1]データシート!$A$1:$I$65536,9,FALSE),VLOOKUP(M7,[1]データシート!$A$1:$I$65536,9,FALSE)&VLOOKUP(M7,[1]データシート!$A$1:$G$65536,4,FALSE))) -> 川口町 | O7: =IF(N7="","",SUM(P7:Q7)) -> 560 | P7: =IF(ISNA(VLOOKUP(M7,[1]データシート!$A$1:$G$65536,6,FALSE)),"",SUMIF([1]データシート!$A$1:$A$65536,[1]集計表!M7,[1]データシート!$F$1:$F$65536)) -> 273 | Q7: =IF(ISNA(VLOOKUP(M7,[1]データシート!$A$1:$G$65536,7,FALSE)),"",SUMIF([1]データシート!$A$1:$A$65536,[1]集計表!M7,[1]データシート!$G$1:$G$65536)) -> 287 | R7: =IF(ISNA(VLOOKUP(M7,[1]データシート!$A$1:$G$65536,5,FALSE)),"",SUMIF([1]データシート!$A$1:$A$65536,[1]集計表!M7,[1]データシート!$E$1:$E$65536)) -> 202 | S7: 151000 | T7: =IF(ISNA(VLOOKUP(S7,[1]データシート!$A$1:$I$65536,9,FALSE)),"",IF(RIGHT(S7,3) = "000",VLOOKUP(S7,[1]データシート!$A$1:$I$65536,9,FALSE),VLOOKUP(S7,[1]データシート!$A$1:$I$65536,9,FALSE)&VLOOKUP(S7,[1]データシート!$A$1:$G$65536,4,FALSE))) -> 一色町生田 | U7: =IF(T7="","",SUM(V7:W7)) -> 1037 | V7: =IF(ISNA(VLOOKUP(S7,[1]データシート!$A$1:$G$65536,6,FALSE)),"",SUMIF([1]データシート!$A$1:$A$65536,[1]集計表!S7,[1]データシート!$F$1:$F$65536)) -> 540 | W7: =IF(ISNA(VLOOKUP(S7,[1]データシート!$A$1:$G$65536,7,FALSE)),"",SUMIF([1]データシート!$A$1:$A$65536,[1]集計表!S7,[1]データシート!$G$1:$G$65536)) -> 497 | X7: =IF(ISNA(VLOOKUP(S7,[1]データシート!$A$1:$G$65536,5,FALSE)),"",SUMIF([1]データシート!$A$1:$A$65536,[1]集計表!S7,[1]データシート!$E$1:$E$65536)) -> 372
A8: 046000 | B8: =IF(ISNA(VLOOKUP(A8,[1]データシート!$A$1:$I$65536,9,FALSE)),"",IF(RIGHT(A8,3) = "000",VLOOKUP(A8,[1]データシート!$A$1:$I$65536,9,FALSE),VLOOKUP(A8,[1]データシート!$A$1:$I$65536,9,FALSE)&VLOOKUP(A8,[1]データシート!$A$1:$G$65536,4,FALSE))) -> 肴町 | C8: =IF(B8="","",SUM(D8:E8)) -> 73 | D8: =IF(ISNA(VLOOKUP(A8,[1]データシート!$A$1:$G$65536,6,FALSE)),"",SUMIF([1]データシート!$A$1:$A$65536,[1]集計表!A8,[1]データシート!$F$1:$F$65536)) -> 35 | E8: =IF(ISNA(VLOOKUP(A8,[1]データシート!$A$1:$G$65536,7,FALSE)),"",SUMIF([1]データシート!$A$1:$A$65536,[1]集計表!A8,[1]データシート!$G$1:$G$65536)) -> 38 | F8: =IF(ISNA(VLOOKUP(A8,[1]データシート!$A$1:$G$65536,5,FALSE)),"",SUMIF([1]データシート!$A$1:$A$65536,[1]集計表!A8,[1]データシート!$E$1:$E$65536)) -> 31 | G8: 148001 | H8: =IF(ISNA(VLOOKUP(G8,[1]データシート!$A$1:$I$65536,9,FALSE)),"",IF(RIGHT(G8,3) = "000",VLOOKUP(G8,[1]データシート!$A$1:$I$65536,9,FALSE),VLOOKUP(G8,[1]データシート!$A$1:$I$65536,9,FALSE)&VLOOKUP(G8,[1]データシート!$A$1:$G$65536,4,FALSE))) -> 伊藤１丁目 | I8: =IF(H8="","",SUM(J8:K8)) -> 353 | J8: =IF(ISNA(VLOOKUP(G8,[1]データシート!$A$1:$G$65536,6,FALSE)),"",SUMIF([1]データシート!$A$1:$A$65536,[1]集計表!G8,[1]データシート!$F$1:$F$65536)) -> 168 | K8: =IF(ISNA(VLOOKUP(G8,[1]データシート!$A$1:$G$65536,7,FALSE)),"",SUMIF([1]データシート!$A$1:$A$65536,[1]集計表!G8,[1]データシート!$G$1:$G$65536)) -> 185 | L8: =IF(ISNA(VLOOKUP(G8,[1]データシート!$A$1:$G$65536,5,FALSE)),"",SUMIF([1]データシート!$A$1:$A$65536,[1]集計表!G8,[1]データシート!$E$1:$E$65536)) -> 148 | M8: 117000 | N8: =IF(ISNA(VLOOKUP(M8,[1]データシート!$A$1:$I$65536,9,FALSE)),"",IF(RIGHT(M8,3) = "000",VLOOKUP(M8,[1]データシート!$A$1:$I$65536,9,FALSE),VLOOKUP(M8,[1]データシート!$A$1:$I$65536,9,FALSE)&VLOOKUP(M8,[1]データシート!$A$1:$G$65536,4,FALSE))) -> 深池町 | O8: =IF(N8="","",SUM(P8:Q8)) -> 263 | P8: =IF(ISNA(VLOOKUP(M8,[1]データシート!$A$1:$G$65536,6,FALSE)),"",SUMIF([1]データシート!$A$1:$A$65536,[1]集計表!M8,[1]データシート!$F$1:$F$65536)) -> 128 | Q8: =IF(ISNA(VLOOKUP(M8,[1]データシート!$A$1:$G$65536,7,FALSE)),"",SUMIF([1]データシート!$A$1:$A$65536,[1]集計表!M8,[1]データシート!$G$1:$G$65536)) -> 135 | R8: =IF(ISNA(VLOOKUP(M8,[1]データシート!$A$1:$G$65536,5,FALSE)),"",SUMIF([1]データシート!$A$1:$A$65536,[1]集計表!M8,[1]データシート!$E$1:$E$65536)) -> 98 | S8: 152000 | T8: =IF(ISNA(VLOOKUP(S8,[1]データシート!$A$1:$I$65536,9,FALSE)),"",IF(RIGHT(S8,3) = "000",VLOOKUP(S8,[1]データシート!$A$1:$I$65536,9,FALSE),VLOOKUP(S8,[1]データシート!$A$1:$I$65536,9,FALSE)&VLOOKUP(S8,[1]データシート!$A$1:$G$65536,4,FALSE))) -> 一色町池田 | U8: =IF(T8="","",SUM(V8:W8)) -> 684 | V8: =IF(ISNA(VLOOKUP(S8,[1]データシート!$A$1:$G$65536,6,FALSE)),"",SUMIF([1]データシート!$A$1:$A$65536,[1]集計表!S8,[1]データシート!$F$1:$F$65536)) -> 335 | W8: =IF(ISNA(VLOOKUP(S8,[1]データシート!$A$1:$G$65536,7,FALSE)),"",SUMIF([1]データシート!$A$1:$A$65536,[1]集計表!S8,[1]データシート!$G$1:$G$65536)) -> 349 | X8: =IF(ISNA(VLOOKUP(S8,[1]データシート!$A$1:$G$65536,5,FALSE)),"",SUMIF([1]データシート!$A$1:$A$65536,[1]集計表!S8,[1]データシート!$E$1:$E$65536)) -> 242
A9: 089000 | B9: =IF(ISNA(VLOOKUP(A9,[1]データシート!$A$1:$I$65536,9,FALSE)),"",IF(RIGHT(A9,3) = "000",VLOOKUP(A9,[1]データシート!$A$1:$I$65536,9,FALSE),VLOOKUP(A9,[1]データシート!$A$1:$I$65536,9,FALSE)&VLOOKUP(A9,[1]データシート!$A$1:$G$65536,4,FALSE))) -> 天王町 | C9: =IF(B9="","",SUM(D9:E9)) -> 108 | D9: =IF(ISNA(VLOOKUP(A9,[1]データシート!$A$1:$G$65536,6,FALSE)),"",SUMIF([1]データシート!$A$1:$A$65536,[1]集計表!A9,[1]データシート!$F$1:$F$65536)) -> 45 | E9: =IF(ISNA(VLOOKUP(A9,[1]データシート!$A$1:$G$65536,7,FALSE)),"",SUMIF([1]データシート!$A$1:$A$65536,[1]集計表!A9,[1]データシート!$G$1:$G$65536)) -> 63 | F9: =IF(ISNA(VLOOKUP(A9,[1]データシート!$A$1:$G$65536,5,FALSE)),"",SUMIF([1]データシート!$A$1:$A$65536,[1]集計表!A9,[1]データシート!$E$1:$E$65536)) -> 46 | G9: 148002 | H9: =IF(ISNA(VLOOKUP(G9,[1]データシート!$A$1:$I$65536,9,FALSE)),"",IF(RIGHT(G9,3) = "000",VLOOKUP(G9,[1]データシート!$A$1:$I$65536,9,FALSE),VLOOKUP(G9,[1]データシート!$A$1:$I$65536,9,FALSE)&VLOOKUP(G9,[1]データシート!$A$1:$G$65536,4,FALSE))) -> 伊藤２丁目 | I9: =IF(H9="","",SUM(J9:K9)) -> 195 | J9: =IF(ISNA(VLOOKUP(G9,[1]データシート!$A$1:$G$65536,6,FALSE)),"",SUMIF([1]データシート!$A$1:$A$65536,[1]集計表!G9,[1]データシート!$F$1:$F$65536)) -> 91 | K9: =IF(ISNA(VLOOKUP(G9,[1]データシート!$A$1:$G$65536,7,FALSE)),"",SUMIF([1]データシート!$A$1:$A$65536,[1]集計表!G9,[1]データシート!$G$1:$G$65536)) -> 104 | L9: =IF(ISNA(VLOOKUP(G9,[1]データシート!$A$1:$G$65536,5,FALSE)),"",SUMIF([1]データシート!$A$1:$A$65536,[1]集計表!G9,[1]データシート!$E$1:$E$65536)) -> 78 | M9: 114000 | N9: =IF(ISNA(VLOOKUP(M9,[1]データシート!$A$1:$I$65536,9,FALSE)),"",IF(RIGHT(M9,3) = "000",VLOOKUP(M9,[1]データシート!$A$1:$I$65536,9,FALSE),VLOOKUP(M9,[1]データシート!$A$1:$I$65536,9,FALSE)&VLOOKUP(M9,[1]データシート!$A$1:$G$65536,4,FALSE))) -> 菱池町 | O9: =IF(N9="","",SUM(P9:Q9)) -> 469 | P9: =IF(ISNA(VLOOKUP(M9,[1]データシート!$A$1:$G$65536,6,FALSE)),"",SUMIF([1]データシート!$A$1:$A$65536,[1]集計表!M9,[1]データシート!$F$1:$F$65536)) -> 235 | Q9: =IF(ISNA(VLOOKUP(M9,[1]データシート!$A$1:$G$65536,7,FALSE)),"",SUMIF([1]データシート!$A$1:$A$65536,[1]集計表!M9,[1]データシート!$G$1:$G$65536)) -> 234 | R9: =IF(ISNA(VLOOKUP(M9,[1]データシート!$A$1:$G$65536,5,FALSE)),"",SUMIF([1]データシート!$A$1:$A$65536,[1]集計表!M9,[1]データシート!$E$1:$E$65536)) -> 181 | S9: 153000 | T9: =IF(ISNA(VLOOKUP(S9,[1]データシート!$A$1:$I$65536,9,FALSE)),"",IF(RIGHT(S9,3) = "000",VLOOKUP(S9,[1]データシート!$A$1:$I$65536,9,FALSE),VLOOKUP(S9,[1]データシート!$A$1:$I$65536,9,FALSE)&VLOOKUP(S9,[1]データシート!$A$1:$G$65536,4,FALSE))) -> 一色町一色 | U9: =IF(T9="","",SUM(V9:W9)) -> 5978 | V9: =IF(ISNA(VLOOKUP(S9,[1]データシート!$A$1:$G$65536,6,FALSE)),"",SUMIF([1]データシート!$A$1:$A$65536,[1]集計表!S9,[1]データシート!$F$1:$F$65536)) -> 3033 | W9: =IF(ISNA(VLOOKUP(S9,[1]データシート!$A$1:$G$65536,7,FALSE)),"",SUMIF([1]データシート!$A$1:$A$65536,[1]集計表!S9,[1]データシート!$G$1:$G$65536)) -> 2945 | X9: =IF(ISNA(VLOOKUP(S9,[1]データシート!$A$1:$G$65536,5,FALSE)),"",SUMIF([1]データシート!$A$1:$A$65536,[1]集計表!S9,[1]データシート!$E$1:$E$65536)) -> 2491
A10: 100000 | B10: =IF(ISNA(VLOOKUP(A10,[1]データシート!$A$1:$I$65536,9,FALSE)),"",IF(RIGHT(A10,3) = "000",VLOOKUP(A10,[1]データシート!$A$1:$I$65536,9,FALSE),VLOOKUP(A10,[1]データシート!$A$1:$I$65536,9,FALSE)&VLOOKUP(A10,[1]データシート!$A$1:$G$65536,4,FALSE))) -> 中町 | C10: =IF(B10="","",SUM(D10:E10)) -> 168 | D10: =IF(ISNA(VLOOKUP(A10,[1]データシート!$A$1:$G$65536,6,FALSE)),"",SUMIF([1]データシート!$A$1:$A$65536,[1]集計表!A10,[1]データシート!$F$1:$F$65536)) -> 82 | E10: =IF(ISNA(VLOOKUP(A10,[1]データシート!$A$1:$G$65536,7,FALSE)),"",SUMIF([1]データシート!$A$1:$A$65536,[1]集計表!A10,[1]データシート!$G$1:$G$65536)) -> 86 | F10: =IF(ISNA(VLOOKUP(A10,[1]データシート!$A$1:$G$65536,5,FALSE)),"",SUMIF([1]データシート!$A$1:$A$65536,[1]集計表!A10,[1]データシート!$E$1:$E$65536)) -> 76 | G10: 148003 | H10: =IF(ISNA(VLOOKUP(G10,[1]データシート!$A$1:$I$65536,9,FALSE)),"",IF(RIGHT(G10,3) = "000",VLOOKUP(G10,[1]データシート!$A$1:$I$65536,9,FALSE),VLOOKUP(G10,[1]データシート!$A$1:$I$65536,9,FALSE)&VLOOKUP(G10,[1]データシート!$A$1:$G$65536,4,FALSE))) -> 伊藤３丁目 | I10: =IF(H10="","",SUM(J10:K10)) -> 424 | J10: =IF(ISNA(VLOOKUP(G10,[1]データシート!$A$1:$G$65536,6,FALSE)),"",SUMIF([1]データシート!$A$1:$A$65536,[1]集計表!G10,[1]データシート!$F$1:$F$65536)) -> 222 | K10: =IF(ISNA(VLOOKUP(G10,[1]データシート!$A$1:$G$65536,7,FALSE)),"",SUMIF([1]データシート!$A$1:$A$65536,[1]集計表!G10,[1]データシート!$G$1:$G$65536)) -> 202 | L10: =IF(ISNA(VLOOKUP(G10,[1]データシート!$A$1:$G$65536,5,FALSE)),"",SUMIF([1]データシート!$A$1:$A$65536,[1]集計表!G10,[1]データシート!$E$1:$E$65536)) -> 181 | M10: 072000 | N10: =IF(ISNA(VLOOKUP(M10,[1]データシート!$A$1:$I$65536,9,FALSE)),"",IF(RIGHT(M10,3) = "000",VLOOKUP(M10,[1]データシート!$A$1:$I$65536,9,FALSE),VLOOKUP(M10,[1]データシート!$A$1:$I$65536,9,FALSE)&VLOOKUP(M10,[1]データシート!$A$1:$G$65536,4,FALSE))) -> 須脇町 | O10: =IF(N10="","",SUM(P10:Q10)) -> 182 | P10: =IF(ISNA(VLOOKUP(M10,[1]データシート!$A$1:$G$65536,6,FALSE)),"",SUMIF([1]データシート!$A$1:$A$65536,[1]集計表!M10,[1]データシート!$F$1:$F$65536)) -> 94 | Q10: =IF(ISNA(VLOOKUP(M10,[1]データシート!$A$1:$G$65536,7,FALSE)),"",SUMIF([1]データシート!$A$1:$A$65536,[1]集計表!M10,[1]データシート!$G$1:$G$65536)) -> 88 | R10: =IF(ISNA(VLOOKUP(M10,[1]データシート!$A$1:$G$65536,5,FALSE)),"",SUMIF([1]データシート!$A$1:$A$65536,[1]集計表!M10,[1]データシート!$E$1:$E$65536)) -> 64 | S10: 154000 | T10: =IF(ISNA(VLOOKUP(S10,[1]データシート!$A$1:$I$65536,9,FALSE)),"",IF(RIGHT(S10,3) = "000",VLOOKUP(S10,[1]データシート!$A$1:$I$65536,9,FALSE),VLOOKUP(S10,[1]データシート!$A$1:$I$65536,9,FALSE)&VLOOKUP(S10,[1]データシート!$A$1:$G$65536,4,FALSE))) -> 一色町大塚 | U10: =IF(T10="","",SUM(V10:W10)) -> 852 | V10: =IF(ISNA(VLOOKUP(S10,[1]データシート!$A$1:$G$65536,6,FALSE)),"",SUMIF([1]データシート!$A$1:$A$65536,[1]集計表!S10,[1]データシート!$F$1:$F$65536)) -> 441 | W10: =IF(ISNA(VLOOKUP(S10,[1]データシート!$A$1:$G$65536,7,FALSE)),"",SUMIF([1]データシート!$A$1:$A$65536,[1]集計表!S10,[1]データシート!$G$1:$G$65536)) -> 411 | X10: =IF(ISNA(VLOOKUP(S10,[1]データシート!$A$1:$G$65536,5,FALSE)),"",SUMIF([1]データシート!$A$1:$A$65536,[1]集計表!S10,[1]データシート!$E$1:$E$65536)) -> 316
A11: 034000 | B11: =IF(ISNA(VLOOKUP(A11,[1]データシート!$A$1:$I$65536,9,FALSE)),"",IF(RIGHT(A11,3) = "000",VLOOKUP(A11,[1]データシート!$A$1:$I$65536,9,FALSE),VLOOKUP(A11,[1]データシート!$A$1:$I$65536,9,FALSE)&VLOOKUP(A11,[1]データシート!$A$1:$G$65536,4,FALSE))) -> 錦城町 | C11: =IF(B11="","",SUM(D11:E11)) -> 329 | D11: =IF(ISNA(VLOOKUP(A11,[1]データシート!$A$1:$G$65536,6,FALSE)),"",SUMIF([1]データシート!$A$1:$A$65536,[1]集計表!A11,[1]データシート!$F$1:$F$65536)) -> 165 | E11: =IF(ISNA(VLOOKUP(A11,[1]データシート!$A$1:$G$65536,7,FALSE)),"",SUMIF([1]データシート!$A$1:$A$65536,[1]集計表!A11,[1]データシート!$G$1:$G$65536)) -> 164 | F11: =IF(ISNA(VLOOKUP(A11,[1]データシート!$A$1:$G$65536,5,FALSE)),"",SUMIF([1]データシート!$A$1:$A$65536,[1]集計表!A11,[1]データシート!$E$1:$E$65536)) -> 157 | G11: 148004 | H11: =IF(ISNA(VLOOKUP(G11,[1]データシート!$A$1:$I$65536,9,FALSE)),"",IF(RIGHT(G11,3) = "000",VLOOKUP(G11,[1]データシート!$A$1:$I$65536,9,FALSE),VLOOKUP(G11,[1]データシート!$A$1:$I$65536,9,FALSE)&VLOOKUP(G11,[1]データシート!$A$1:$G$65536,4,FALSE))) -> 伊藤４丁目 | I11: =IF(H11="","",SUM(J11:K11)) -> 608 | J11: =IF(ISNA(VLOOKUP(G11,[1]データシート!$A$1:$G$65536,6,FALSE)),"",SUMIF([1]データシート!$A$1:$A$65536,[1]集計表!G11,[1]データシート!$F$1:$F$65536)) -> 307 | K11: =IF(ISNA(VLOOKUP(G11,[1]データシート!$A$1:$G$65536,7,FALSE)),"",SUMIF([1]データシート!$A$1:$A$65536,[1]集計表!G11,[1]データシート!$G$1:$G$65536)) -> 301 | L11: =IF(ISNA(VLOOKUP(G11,[1]データシート!$A$1:$G$65536,5,FALSE)),"",SUMIF([1]データシート!$A$1:$A$65536,[1]集計表!G11,[1]データシート!$E$1:$E$65536)) -> 240 | M11: 044000 | N11: =IF(ISNA(VLOOKUP(M11,[1]データシート!$A$1:$I$65536,9,FALSE)),"",IF(RIGHT(M11,3) = "000",VLOOKUP(M11,[1]データシート!$A$1:$I$65536,9,FALSE),VLOOKUP(M11,[1]データシート!$A$1:$I$65536,9,FALSE)&VLOOKUP(M11,[1]データシート!$A$1:$G$65536,4,FALSE))) -> 斉藤町 | O11: =IF(N11="","",SUM(P11:Q11)) -> 375 | P11: =IF(ISNA(VLOOKUP(M11,[1]データシート!$A$1:$G$65536,6,FALSE)),"",SUMIF([1]データシート!$A$1:$A$65536,[1]集計表!M11,[1]データシート!$F$1:$F$65536)) -> 177 | Q11: =IF(ISNA(VLOOKUP(M11,[1]データシート!$A$1:$G$65536,7,FALSE)),"",SUMIF([1]データシート!$A$1:$A$65536,[1]集計表!M11,[1]データシート!$G$1:$G$65536)) -> 198 | R11: =IF(ISNA(VLOOKUP(M11,[1]データシート!$A$1:$G$65536,5,FALSE)),"",SUMIF([1]データシート!$A$1:$A$65536,[1]集計表!M11,[1]データシート!$E$1:$E$65536)) -> 131 | S11: 155000 | T11: =IF(ISNA(VLOOKUP(S11,[1]データシート!$A$1:$I$65536,9,FALSE)),"",IF(RIGHT(S11,3) = "000",VLOOKUP(S11,[1]データシート!$A$1:$I$65536,9,FALSE),VLOOKUP(S11,[1]データシート!$A$1:$I$65536,9,FALSE)&VLOOKUP(S11,[1]データシート!$A$1:$G$65536,4,FALSE))) -> 一色町開正 | U11: =IF(T11="","",SUM(V11:W11)) -> 941 | V11: =IF(ISNA(VLOOKUP(S11,[1]データシート!$A$1:$G$65536,6,FALSE)),"",SUMIF([1]データシート!$A$1:$A$65536,[1]集計表!S11,[1]データシート!$F$1:$F$65536)) -> 452 | W11: =IF(ISNA(VLOOKUP(S11,[1]データシート!$A$1:$G$65536,7,FALSE)),"",SUMIF([1]データシート!$A$1:$A$65536,[1]集計表!S11,[1]データシート!$G$1:$G$65536)) -> 489 | X11: =IF(ISNA(VLOOKUP(S11,[1]データシート!$A$1:$G$65536,5,FALSE)),"",SUMIF([1]データシート!$A$1:$A$65536,[1]集計表!S11,[1]データシート!$E$1:$E$65536)) -> 363
A12: 001000 | B12: =IF(ISNA(VLOOKUP(A12,[1]データシート!$A$1:$I$65536,9,FALSE)),"",IF(RIGHT(A12,3) = "000",VLOOKUP(A12,[1]データシート!$A$1:$I$65536,9,FALSE),VLOOKUP(A12,[1]データシート!$A$1:$I$65536,9,FALSE)&VLOOKUP(A12,[1]データシート!$A$1:$G$65536,4,FALSE))) -> 葵町 | C12: =IF(B12="","",SUM(D12:E12)) -> 304 | D12: =IF(ISNA(VLOOKUP(A12,[1]データシート!$A$1:$G$65536,6,FALSE)),"",SUMIF([1]データシート!$A$1:$A$65536,[1]集計表!A12,[1]データシート!$F$1:$F$65536)) -> 155 | E12: =IF(ISNA(VLOOKUP(A12,[1]データシート!$A$1:$G$65536,7,FALSE)),"",SUMIF([1]データシート!$A$1:$A$65536,[1]集計表!A12,[1]データシート!$G$1:$G$65536)) -> 149 | F12: =IF(ISNA(VLOOKUP(A12,[1]データシート!$A$1:$G$65536,5,FALSE)),"",SUMIF([1]データシート!$A$1:$A$65536,[1]集計表!A12,[1]データシート!$E$1:$E$65536)) -> 135 | G12: 148005 | H12: =IF(ISNA(VLOOKUP(G12,[1]データシート!$A$1:$I$65536,9,FALSE)),"",IF(RIGHT(G12,3) = "000",VLOOKUP(G12,[1]データシート!$A$1:$I$65536,9,FALSE),VLOOKUP(G12,[1]データシート!$A$1:$I$65536,9,FALSE)&VLOOKUP(G12,[1]データシート!$A$1:$G$65536,4,FALSE))) -> 伊藤５丁目 | I12: =IF(H12="","",SUM(J12:K12)) -> 331 | J12: =IF(ISNA(VLOOKUP(G12,[1]データシート!$A$1:$G$65536,6,FALSE)),"",SUMIF([1]データシート!$A$1:$A$65536,[1]集計表!G12,[1]データシート!$F$1:$F$65536)) -> 160 | K12: =IF(ISNA(VLOOKUP(G12,[1]データシート!$A$1:$G$65536,7,FALSE)),"",SUMIF([1]データシート!$A$1:$A$65536,[1]集計表!G12,[1]データシート!$G$1:$G$65536)) -> 171 | L12: =IF(ISNA(VLOOKUP(G12,[1]データシート!$A$1:$G$65536,5,FALSE)),"",SUMIF([1]データシート!$A$1:$A$65536,[1]集計表!G12,[1]データシート!$E$1:$E$65536)) -> 137 | M12: 103000 | N12: =IF(ISNA(VLOOKUP(M12,[1]データシート!$A$1:$I$65536,9,FALSE)),"",IF(RIGHT(M12,3) = "000",VLOOKUP(M12,[1]データシート!$A$1:$I$65536,9,FALSE),VLOOKUP(M12,[1]データシート!$A$1:$I$65536,9,FALSE)&VLOOKUP(M12,[1]データシート!$A$1:$G$65536,4,FALSE))) -> 熱池町 | O12: =IF(N12="","",SUM(P12:Q12)) -> 385 | P12: =IF(ISNA(VLOOKUP(M12,[1]データシート!$A$1:$G$65536,6,FALSE)),"",SUMIF([1]データシート!$A$1:$A$65536,[1]集計表!M12,[1]データシート!$F$1:$F$65536)) -> 189 | Q12: =IF(ISNA(VLOOKUP(M12,[1]データシート!$A$1:$G$65536,7,FALSE)),"",SUMIF([1]データシート!$A$1:$A$65536,[1]集計表!M12,[1]データシート!$G$1:$G$65536)) -> 196 | R12: =IF(ISNA(VLOOKUP(M12,[1]データシート!$A$1:$G$65536,5,FALSE)),"",SUMIF([1]データシート!$A$1:$A$65536,[1]集計表!M12,[1]データシート!$E$1:$E$65536)) -> 166 | S12: 156000 | T12: =IF(ISNA(VLOOKUP(S12,[1]データシート!$A$1:$I$65536,9,FALSE)),"",IF(RIGHT(S12,3) = "000",VLOOKUP(S12,[1]データシート!$A$1:$I$65536,9,FALSE),VLOOKUP(S12,[1]データシート!$A$1:$I$65536,9,FALSE)&VLOOKUP(S12,[1]データシート!$A$1:$G$65536,4,FALSE))) -> 一色町小薮 | U12: =IF(T12="","",SUM(V12:W12)) -> 96 | V12: =IF(ISNA(VLOOKUP(S12,[1]データシート!$A$1:$G$65536,6,FALSE)),"",SUMIF([1]データシート!$A$1:$A$65536,[1]集計表!S12,[1]データシート!$F$1:$F$65536)) -> 55 | W12: =IF(ISNA(VLOOKUP(S12,[1]データシート!$A$1:$G$65536,7,FALSE)),"",SUMIF([1]データシート!$A$1:$A$65536,[1]集計表!S12,[1]データシート!$G$1:$G$65536)) -> 41 | X12: =IF(ISNA(VLOOKUP(S12,[1]データシート!$A$1:$G$65536,5,FALSE)),"",SUMIF([1]データシート!$A$1:$A$65536,[1]集計表!S12,[1]データシート!$E$1:$E$65536)) -> 38
A13: 050000 | B13: =IF(ISNA(VLOOKUP(A13,[1]データシート!$A$1:$I$65536,9,FALSE)),"",IF(RIGHT(A13,3) = "000",VLOOKUP(A13,[1]データシート!$A$1:$I$65536,9,FALSE),VLOOKUP(A13,[1]データシート!$A$1:$I$65536,9,FALSE)&VLOOKUP(A13,[1]データシート!$A$1:$G$65536,4,FALSE))) -> 塩町 | C13: =IF(B13="","",SUM(D13:E13)) -> 63 | D13: =IF(ISNA(VLOOKUP(A13,[1]データシート!$A$1:$G$65536,6,FALSE)),"",SUMIF([1]データシート!$A$1:$A$65536,[1]集計表!A13,[1]データシート!$F$1:$F$65536)) -> 30 | E13: =IF(ISNA(VLOOKUP(A13,[1]データシート!$A$1:$G$65536,7,FALSE)),"",SUMIF([1]データシート!$A$1:$A$65536,[1]集計表!A13,[1]データシート!$G$1:$G$65536)) -> 33 | F13: =IF(ISNA(VLOOKUP(A13,[1]データシート!$A$1:$G$65536,5,FALSE)),"",SUMIF([1]データシート!$A$1:$A$65536,[1]集計表!A13,[1]データシート!$E$1:$E$65536)) -> 28 | G13: 091000 | H13: =IF(ISNA(VLOOKUP(G13,[1]データシート!$A$1:$I$65536,9,FALSE)),"",IF(RIGHT(G13,3) = "000",VLOOKUP(G13,[1]データシート!$A$1:$I$65536,9,FALSE),VLOOKUP(G13,[1]データシート!$A$1:$I$65536,9,FALSE)&VLOOKUP(G13,[1]データシート!$A$1:$G$65536,4,FALSE))) -> 戸ケ崎町 | I13: =IF(H13="","",SUM(J13:K13)) -> 276 | J13: =IF(ISNA(VLOOKUP(G13,[1]データシート!$A$1:$G$65536,6,FALSE)),"",SUMIF([1]データシート!$A$1:$A$65536,[1]集計表!G13,[1]データシート!$F$1:$F$65536)) -> 123 | K13: =IF(ISNA(VLOOKUP(G13,[1]データシート!$A$1:$G$65536,7,FALSE)),"",SUMIF([1]データシート!$A$1:$A$65536,[1]集計表!G13,[1]データシート!$G$1:$G$65536)) -> 153 | L13: =IF(ISNA(VLOOKUP(G13,[1]データシート!$A$1:$G$65536,5,FALSE)),"",SUMIF([1]データシート!$A$1:$A$65536,[1]集計表!G13,[1]データシート!$E$1:$E$65536)) -> 101 | M13: 101000 | N13: =IF(ISNA(VLOOKUP(M13,[1]データシート!$A$1:$I$65536,9,FALSE)),"",IF(RIGHT(M13,3) = "000",VLOOKUP(M13,[1]データシート!$A$1:$I$65536,9,FALSE),VLOOKUP(M13,[1]データシート!$A$1:$I$65536,9,FALSE)&VLOOKUP(M13,[1]データシート!$A$1:$G$65536,4,FALSE))) -> 長縄町 | O13: =IF(N13="","",SUM(P13:Q13)) -> 142 | P13: =IF(ISNA(VLOOKUP(M13,[1]データシート!$A$1:$G$65536,6,FALSE)),"",SUMIF([1]データシート!$A$1:$A$65536,[1]集計表!M13,[1]データシート!$F$1:$F$65536)) -> 65 | Q13: =IF(ISNA(VLOOKUP(M13,[1]データシート!$A$1:$G$65536,7,FALSE)),"",SUMIF([1]データシート!$A$1:$A$65536,[1]集計表!M13,[1]データシート!$G$1:$G$65536)) -> 77 | R13: =IF(ISNA(VLOOKUP(M13,[1]データシート!$A$1:$G$65536,5,FALSE)),"",SUMIF([1]データシート!$A$1:$A$65536,[1]集計表!M13,[1]データシート!$E$1:$E$65536)) -> 63 | S13: 157000 | T13: =IF(ISNA(VLOOKUP(S13,[1]データシート!$A$1:$I$65536,9,FALSE)),"",IF(RIGHT(S13,3) = "000",VLOOKUP(S13,[1]データシート!$A$1:$I$65536,9,FALSE),VLOOKUP(S13,[1]データシート!$A$1:$I$65536,9,FALSE)&VLOOKUP(S13,[1]データシート!$A$1:$G$65536,4,FALSE))) -> 一色町坂田新田 | U13: =IF(T13="","",SUM(V13:W13)) -> 47 | V13: =IF(ISNA(VLOOKUP(S13,[1]データシート!$A$1:$G$65536,6,FALSE)),"",SUMIF([1]データシート!$A$1:$A$65536,[1]集計表!S13,[1]データシート!$F$1:$F$65536)) -> 20 | W13: =IF(ISNA(VLOOKUP(S13,[1]データシート!$A$1:$G$65536,7,FALSE)),"",SUMIF([1]データシート!$A$1:$A$65536,[1]集計表!S13,[1]データシート!$G$1:$G$65536)) -> 27 | X13: =IF(ISNA(VLOOKUP(S13,[1]データシート!$A$1:$G$65536,5,FALSE)),"",SUMIF([1]データシート!$A$1:$A$65536,[1]集計表!S13,[1]データシート!$E$1:$E$65536)) -> 22
A14: 122000 | B14: =IF(ISNA(VLOOKUP(A14,[1]データシート!$A$1:$I$65536,9,FALSE)),"",IF(RIGHT(A14,3) = "000",VLOOKUP(A14,[1]データシート!$A$1:$I$65536,9,FALSE),VLOOKUP(A14,[1]データシート!$A$1:$I$65536,9,FALSE)&VLOOKUP(A14,[1]データシート!$A$1:$G$65536,4,FALSE))) -> 満全町 | C14: =IF(B14="","",SUM(D14:E14)) -> 47 | D14: =IF(ISNA(VLOOKUP(A14,[1]データシート!$A$1:$G$65536,6,FALSE)),"",SUMIF([1]データシート!$A$1:$A$65536,[1]集計表!A14,[1]データシート!$F$1:$F$65536)) -> 23 | E14: =IF(ISNA(VLOOKUP(A14,[1]データシート!$A$1:$G$65536,7,FALSE)),"",SUMIF([1]データシート!$A$1:$A$65536,[1]集計表!A14,[1]データシート!$G$1:$G$65536)) -> 24 | F14: =IF(ISNA(VLOOKUP(A14,[1]データシート!$A$1:$G$65536,5,FALSE)),"",SUMIF([1]データシート!$A$1:$A$65536,[1]集計表!A14,[1]データシート!$E$1:$E$65536)) -> 24 | G14: 090001 | H14: =IF(ISNA(VLOOKUP(G14,[1]データシート!$A$1:$I$65536,9,FALSE)),"",IF(RIGHT(G14,3) = "000",VLOOKUP(G14,[1]データシート!$A$1:$I$65536,9,FALSE),VLOOKUP(G14,[1]データシート!$A$1:$I$65536,9,FALSE)&VLOOKUP(G14,[1]データシート!$A$1:$G$65536,4,FALSE))) -> 戸ケ崎１丁目 | I14: =IF(H14="","",SUM(J14:K14)) -> 232 | J14: =IF(ISNA(VLOOKUP(G14,[1]データシート!$A$1:$G$65536,6,FALSE)),"",SUMIF([1]データシート!$A$1:$A$65536,[1]集計表!G14,[1]データシート!$F$1:$F$65536)) -> 122 | K14: =IF(ISNA(VLOOKUP(G14,[1]データシート!$A$1:$G$65536,7,FALSE)),"",SUMIF([1]データシート!$A$1:$A$65536,[1]集計表!G14,[1]データシート!$G$1:$G$65536)) -> 110 | L14: =IF(ISNA(VLOOKUP(G14,[1]データシート!$A$1:$G$65536,5,FALSE)),"",SUMIF([1]データシート!$A$1:$A$65536,[1]集計表!G14,[1]データシート!$E$1:$E$65536)) -> 105 | M14: 024000 | N14: =IF(ISNA(VLOOKUP(M14,[1]データシート!$A$1:$I$65536,9,FALSE)),"",IF(RIGHT(M14,3) = "000",VLOOKUP(M14,[1]データシート!$A$1:$I$65536,9,FALSE),VLOOKUP(M14,[1]データシート!$A$1:$I$65536,9,FALSE)&VLOOKUP(M14,[1]データシート!$A$1:$G$65536,4,FALSE))) -> 上道目記町 | O14: =IF(N14="","",SUM(P14:Q14)) -> 553 | P14: =IF(ISNA(VLOOKUP(M14,[1]データシート!$A$1:$G$65536,6,FALSE)),"",SUMIF([1]データシート!$A$1:$A$65536,[1]集計表!M14,[1]データシート!$F$1:$F$65536)) -> 283 | Q14: =IF(ISNA(VLOOKUP(M14,[1]データシート!$A$1:$G$65536,7,FALSE)),"",SUMIF([1]データシート!$A$1:$A$65536,[1]集計表!M14,[1]データシート!$G$1:$G$65536)) -> 270 | R14: =IF(ISNA(VLOOKUP(M14,[1]データシート!$A$1:$G$65536,5,FALSE)),"",SUMIF([1]データシート!$A$1:$A$65536,[1]集計表!M14,[1]データシート!$E$1:$E$65536)) -> 211 | S14: 158000 | T14: =IF(ISNA(VLOOKUP(S14,[1]データシート!$A$1:$I$65536,9,FALSE)),"",IF(RIGHT(S14,3) = "000",VLOOKUP(S14,[1]データシート!$A$1:$I$65536,9,FALSE),VLOOKUP(S14,[1]データシート!$A$1:$I$65536,9,FALSE)&VLOOKUP(S14,[1]データシート!$A$1:$G$65536,4,FALSE))) -> 一色町酒手島 | U14: =IF(T14="","",SUM(V14:W14)) -> 750 | V14: =IF(ISNA(VLOOKUP(S14,[1]データシート!$A$1:$G$65536,6,FALSE)),"",SUMIF([1]データシート!$A$1:$A$65536,[1]集計表!S14,[1]データシート!$F$1:$F$65536)) -> 369 | W14: =IF(ISNA(VLOOKUP(S14,[1]データシート!$A$1:$G$65536,7,FALSE)),"",SUMIF([1]データシート!$A$1:$A$65536,[1]集計表!S14,[1]データシート!$G$1:$G$65536)) -> 381 | X14: =IF(ISNA(VLOOKUP(S14,[1]データシート!$A$1:$G$65536,5,FALSE)),"",SUMIF([1]データシート!$A$1:$A$65536,[1]集計表!S14,[1]データシート!$E$1:$E$65536)) -> 269
A15: 020000 | B15: =IF(ISNA(VLOOKUP(A15,[1]データシート!$A$1:$I$65536,9,FALSE)),"",IF(RIGHT(A15,3) = "000",VLOOKUP(A15,[1]データシート!$A$1:$I$65536,9,FALSE),VLOOKUP(A15,[1]データシート!$A$1:$I$65536,9,FALSE)&VLOOKUP(A15,[1]データシート!$A$1:$G$65536,4,FALSE))) -> 会生町 | C15: =IF(B15="","",SUM(D15:E15)) -> 94 | D15: =IF(ISNA(VLOOKUP(A15,[1]データシート!$A$1:$G$65536,6,FALSE)),"",SUMIF([1]データシート!$A$1:$A$65536,[1]集計表!A15,[1]データシート!$F$1:$F$65536)) -> 48 | E15: =IF(ISNA(VLOOKUP(A15,[1]データシート!$A$1:$G$65536,7,FALSE)),"",SUMIF([1]データシート!$A$1:$A$65536,[1]集計表!A15,[1]データシート!$G$1:$G$65536)) -> 46 | F15: =IF(ISNA(VLOOKUP(A15,[1]データシート!$A$1:$G$65536,5,FALSE)),"",SUMIF([1]データシート!$A$1:$A$65536,[1]集計表!A15,[1]データシート!$E$1:$E$65536)) -> 49 | G15: 090002 | H15: =IF(ISNA(VLOOKUP(G15,[1]データシート!$A$1:$I$65536,9,FALSE)),"",IF(RIGHT(G15,3) = "000",VLOOKUP(G15,[1]データシート!$A$1:$I$65536,9,FALSE),VLOOKUP(G15,[1]データシート!$A$1:$I$65536,9,FALSE)&VLOOKUP(G15,[1]データシート!$A$1:$G$65536,4,FALSE))) -> 戸ケ崎２丁目 | I15: =IF(H15="","",SUM(J15:K15)) -> 769 | J15: =IF(ISNA(VLOOKUP(G15,[1]データシート!$A$1:$G$65536,6,FALSE)),"",SUMIF([1]データシート!$A$1:$A$65536,[1]集計表!G15,[1]データシート!$F$1:$F$65536)) -> 398 | K15: =IF(ISNA(VLOOKUP(G15,[1]データシート!$A$1:$G$65536,7,FALSE)),"",SUMIF([1]データシート!$A$1:$A$65536,[1]集計表!G15,[1]データシート!$G$1:$G$65536)) -> 371 | L15: =IF(ISNA(VLOOKUP(G15,[1]データシート!$A$1:$G$65536,5,FALSE)),"",SUMIF([1]データシート!$A$1:$A$65536,[1]集計表!G15,[1]データシート!$E$1:$E$65536)) -> 346 | M15: 053000 | N15: =IF(ISNA(VLOOKUP(M15,[1]データシート!$A$1:$I$65536,9,FALSE)),"",IF(RIGHT(M15,3) = "000",VLOOKUP(M15,[1]データシート!$A$1:$I$65536,9,FALSE),VLOOKUP(M15,[1]データシート!$A$1:$I$65536,9,FALSE)&VLOOKUP(M15,[1]データシート!$A$1:$G$65536,4,FALSE))) -> 下道目記町 | O15: =IF(N15="","",SUM(P15:Q15)) -> 260 | P15: =IF(ISNA(VLOOKUP(M15,[1]データシート!$A$1:$G$65536,6,FALSE)),"",SUMIF([1]データシート!$A$1:$A$65536,[1]集計表!M15,[1]データシート!$F$1:$F$65536)) -> 137 | Q15: =IF(ISNA(VLOOKUP(M15,[1]データシート!$A$1:$G$65536,7,FALSE)),"",SUMIF([1]データシート!$A$1:$A$65536,[1]集計表!M15,[1]データシート!$G$1:$G$65536)) -> 123 | R15: =IF(ISNA(VLOOKUP(M15,[1]データシート!$A$1:$G$65536,5,FALSE)),"",SUMIF([1]データシート!$A$1:$A$65536,[1]集計表!M15,[1]データシート!$E$1:$E$65536)) -> 91 | S15: 159000 | T15: =IF(ISNA(VLOOKUP(S15,[1]データシート!$A$1:$I$65536,9,FALSE)),"",IF(RIGHT(S15,3) = "000",VLOOKUP(S15,[1]データシート!$A$1:$I$65536,9,FALSE),VLOOKUP(S15,[1]データシート!$A$1:$I$65536,9,FALSE)&VLOOKUP(S15,[1]データシート!$A$1:$G$65536,4,FALSE))) -> 一色町佐久島 | U15: =IF(T15="","",SUM(V15:W15)) -> 174 | V15: =IF(ISNA(VLOOKUP(S15,[1]データシート!$A$1:$G$65536,6,FALSE)),"",SUMIF([1]データシート!$A$1:$A$65536,[1]集計表!S15,[1]データシート!$F$1:$F$65536)) -> 76 | W15: =IF(ISNA(VLOOKUP(S15,[1]データシート!$A$1:$G$65536,7,FALSE)),"",SUMIF([1]データシート!$A$1:$A$65536,[1]集計表!S15,[1]データシート!$G$1:$G$65536)) -> 98 | X15: =IF(ISNA(VLOOKUP(S15,[1]データシート!$A$1:$G$65536,5,FALSE)),"",SUMIF([1]データシート!$A$1:$A$65536,[1]集計表!S15,[1]データシート!$E$1:$E$65536)) -> 108
A16: 065000 | B16: =IF(ISNA(VLOOKUP(A16,[1]データシート!$A$1:$I$65536,9,FALSE)),"",IF(RIGHT(A16,3) = "000",VLOOKUP(A16,[1]データシート!$A$1:$I$65536,9,FALSE),VLOOKUP(A16,[1]データシート!$A$1:$I$65536,9,FALSE)&VLOOKUP(A16,[1]データシート!$A$1:$G$65536,4,FALSE))) -> 順海町 | C16: =IF(B16="","",SUM(D16:E16)) -> 74 | D16: =IF(ISNA(VLOOKUP(A16,[1]データシート!$A$1:$G$65536,6,FALSE)),"",SUMIF([1]データシート!$A$1:$A$65536,[1]集計表!A16,[1]データシート!$F$1:$F$65536)) -> 35 | E16: =IF(ISNA(VLOOKUP(A16,[1]データシート!$A$1:$G$65536,7,FALSE)),"",SUMIF([1]データシート!$A$1:$A$65536,[1]集計表!A16,[1]データシート!$G$1:$G$65536)) -> 39 | F16: =IF(ISNA(VLOOKUP(A16,[1]データシート!$A$1:$G$65536,5,FALSE)),"",SUMIF([1]データシート!$A$1:$A$65536,[1]集計表!A16,[1]データシート!$E$1:$E$65536)) -> 23 | G16: 090003 | H16: =IF(ISNA(VLOOKUP(G16,[1]データシート!$A$1:$I$65536,9,FALSE)),"",IF(RIGHT(G16,3) = "000",VLOOKUP(G16,[1]データシート!$A$1:$I$65536,9,FALSE),VLOOKUP(G16,[1]データシート!$A$1:$I$65536,9,FALSE)&VLOOKUP(G16,[1]データシート!$A$1:$G$65536,4,FALSE))) -> 戸ケ崎３丁目 | I16: =IF(H16="","",SUM(J16:K16)) -> 1180 | J16: =IF(ISNA(VLOOKUP(G16,[1]データシート!$A$1:$G$65536,6,FALSE)),"",SUMIF([1]データシート!$A$1:$A$65536,[1]集計表!G16,[1]データシート!$F$1:$F$65536)) -> 623 | K16: =IF(ISNA(VLOOKUP(G16,[1]データシート!$A$1:$G$65536,7,FALSE)),"",SUMIF([1]データシート!$A$1:$A$65536,[1]集計表!G16,[1]データシート!$G$1:$G$65536)) -> 557 | L16: =IF(ISNA(VLOOKUP(G16,[1]データシート!$A$1:$G$65536,5,FALSE)),"",SUMIF([1]データシート!$A$1:$A$65536,[1]集計表!G16,[1]データシート!$E$1:$E$65536)) -> 524 | M16: 111000 | N16: =IF(ISNA(VLOOKUP(M16,[1]データシート!$A$1:$I$65536,9,FALSE)),"",IF(RIGHT(M16,3) = "000",VLOOKUP(M16,[1]データシート!$A$1:$I$65536,9,FALSE),VLOOKUP(M16,[1]データシート!$A$1:$I$65536,9,FALSE)&VLOOKUP(M16,[1]データシート!$A$1:$G$65536,4,FALSE))) -> 針曽根町 | O16: =IF(N16="","",SUM(P16:Q16)) -> 357 | P16: =IF(ISNA(VLOOKUP(M16,[1]データシート!$A$1:$G$65536,6,FALSE)),"",SUMIF([1]データシート!$A$1:$A$65536,[1]集計表!M16,[1]データシート!$F$1:$F$65536)) -> 185 | Q16: =IF(ISNA(VLOOKUP(M16,[1]データシート!$A$1:$G$65536,7,FALSE)),"",SUMIF([1]データシート!$A$1:$A$65536,[1]集計表!M16,[1]データシート!$G$1:$G$65536)) -> 172 | R16: =IF(ISNA(VLOOKUP(M16,[1]データシート!$A$1:$G$65536,5,FALSE)),"",SUMIF([1]データシート!$A$1:$A$65536,[1]集計表!M16,[1]データシート!$E$1:$E$65536)) -> 139 | S16: 160000 | T16: =IF(ISNA(VLOOKUP(S16,[1]データシート!$A$1:$I$65536,9,FALSE)),"",IF(RIGHT(S16,3) = "000",VLOOKUP(S16,[1]データシート!$A$1:$I$65536,9,FALSE),VLOOKUP(S16,[1]データシート!$A$1:$I$65536,9,FALSE)&VLOOKUP(S16,[1]データシート!$A$1:$G$65536,4,FALSE))) -> 一色町治明 | U16: =IF(T16="","",SUM(V16:W16)) -> 1568 | V16: =IF(ISNA(VLOOKUP(S16,[1]データシート!$A$1:$G$65536,6,FALSE)),"",SUMIF([1]データシート!$A$1:$A$65536,[1]集計表!S16,[1]データシート!$F$1:$F$65536)) -> 794 | W16: =IF(ISNA(VLOOKUP(S16,[1]データシート!$A$1:$G$65536,7,FALSE)),"",SUMIF([1]データシート!$A$1:$A$65536,[1]集計表!S16,[1]データシート!$G$1:$G$65536)) -> 774 | X16: =IF(ISNA(VLOOKUP(S16,[1]データシート!$A$1:$G$65536,5,FALSE)),"",SUMIF([1]データシート!$A$1:$A$65536,[1]集計表!S16,[1]データシート!$E$1:$E$65536)) -> 675
... A18: 006000 | B18: =IF(ISNA(VLOOKUP(A18,[1]データシート!$A$1:$I$65536,9,FALSE)),"",IF(RIGHT(A18,3) = "000",VLOOKUP(A18,[1]データシート!$A$1:$I$65536,9,FALSE),VLOOKUP(A18,[1]データシート!$A$1:$I$65536,9,FALSE)&VLOOKUP(A18,[1]データシート!$A$1:$G$65536,4,FALSE))) -> 伊文町 | C18: =IF(B18="","",SUM(D18:E18)) -> 217 | D18: =IF(ISNA(VLOOKUP(A18,[1]データシート!$A$1:$G$65536,6,FALSE)),"",SUMIF([1]データシート!$A$1:$A$65536,[1]集計表!A18,[1]データシート!$F$1:$F$65536)) -> 102 | E18: =IF(ISNA(VLOOKUP(A18,[1]データシート!$A$1:$G$65536,7,FALSE)),"",SUMIF([1]データシート!$A$1:$A$65536,[1]集計表!A18,[1]データシート!$G$1:$G$65536)) -> 115 | F18: =IF(ISNA(VLOOKUP(A18,[1]データシート!$A$1:$G$65536,5,FALSE)),"",SUMIF([1]データシート!$A$1:$A$65536,[1]集計表!A18,[1]データシート!$E$1:$E$65536)) -> 93 | G18: 090005 | H18: =IF(ISNA(VLOOKUP(G18,[1]データシート!$A$1:$I$65536,9,FALSE)),"",IF(RIGHT(G18,3) = "000",VLOOKUP(G18,[1]データシート!$A$1:$I$65536,9,FALSE),VLOOKUP(G18,[1]データシート!$A$1:$I$65536,9,FALSE)&VLOOKUP(G18,[1]データシート!$A$1:$G$65536,4,FALSE))) -> 戸ケ崎５丁目 | I18: =IF(H18="","",SUM(J18:K18)) -> 720 | J18: =IF(ISNA(VLOOKUP(G18,[1]データシート!$A$1:$G$65536,6,FALSE)),"",SUMIF([1]データシート!$A$1:$A$65536,[1]集計表!G18,[1]データシート!$F$1:$F$65536)) -> 340 | K18: =IF(ISNA(VLOOKUP(G18,[1]データシート!$A$1:$G$65536,7,FALSE)),"",SUMIF([1]データシート!$A$1:$A$65536,[1]集計表!G18,[1]データシート!$G$1:$G$65536)) -> 380 | L18: =IF(ISNA(VLOOKUP(G18,[1]データシート!$A$1:$G$65536,5,FALSE)),"",SUMIF([1]データシート!$A$1:$A$65536,[1]集計表!G18,[1]データシート!$E$1:$E$65536)) -> 310 | M18: 108000 | N18: =IF(ISNA(VLOOKUP(M18,[1]データシート!$A$1:$I$65536,9,FALSE)),"",IF(RIGHT(M18,3) = "000",VLOOKUP(M18,[1]データシート!$A$1:$I$65536,9,FALSE),VLOOKUP(M18,[1]データシート!$A$1:$I$65536,9,FALSE)&VLOOKUP(M18,[1]データシート!$A$1:$G$65536,4,FALSE))) -> 八ケ尻町 | O18: =IF(N18="","",SUM(P18:Q18)) -> 197 | P18: =IF(ISNA(VLOOKUP(M18,[1]データシート!$A$1:$G$65536,6,FALSE)),"",SUMIF([1]データシート!$A$1:$A$65536,[1]集計表!M18,[1]データシート!$F$1:$F$65536)) -> 105 | Q18: =IF(ISNA(VLOOKUP(M18,[1]データシート!$A$1:$G$65536,7,FALSE)),"",SUMIF([1]データシート!$A$1:$A$65536,[1]集計表!M18,[1]データシート!$G$1:$G$65536)) -> 92 | R18: =IF(ISNA(VLOOKUP(M18,[1]データシート!$A$1:$G$65536,5,FALSE)),"",SUMIF([1]データシート!$A$1:$A$65536,[1]集計表!M18,[1]データシート!$E$1:$E$65536)) -> 79 | S18: 162000 | T18: =IF(ISNA(VLOOKUP(S18,[1]データシート!$A$1:$I$65536,9,FALSE)),"",IF(RIGHT(S18,3) = "000",VLOOKUP(S18,[1]データシート!$A$1:$I$65536,9,FALSE),VLOOKUP(S18,[1]データシート!$A$1:$I$65536,9,FALSE)&VLOOKUP(S18,[1]データシート!$A$1:$G$65536,4,FALSE))) -> 一色町惣五郎 | U18: =IF(T18="","",SUM(V18:W18)) -> 79 | V18: =IF(ISNA(VLOOKUP(S18,[1]データシート!$A$1:$G$65536,6,FALSE)),"",SUMIF([1]データシート!$A$1:$A$65536,[1]集計表!S18,[1]データシート!$F$1:$F$65536)) -> 38 | W18: =IF(ISNA(VLOOKUP(S18,[1]データシート!$A$1:$G$65536,7,FALSE)),"",SUMIF([1]データシート!$A$1:$A$65536,[1]集計表!S18,[1]データシート!$G$1:$G$65536)) -> 41 | X18: =IF(ISNA(VLOOKUP(S18,[1]データシート!$A$1:$G$65536,5,FALSE)),"",SUMIF([1]データシート!$A$1:$A$65536,[1]集計表!S18,[1]データシート!$E$1:$E$65536)) -> 26
A19: 032000 | B19: =IF(ISNA(VLOOKUP(A19,[1]データシート!$A$1:$I$65536,9,FALSE)),"",IF(RIGHT(A19,3) = "000",VLOOKUP(A19,[1]データシート!$A$1:$I$65536,9,FALSE),VLOOKUP(A19,[1]データシート!$A$1:$I$65536,9,FALSE)&VLOOKUP(A19,[1]データシート!$A$1:$G$65536,4,FALSE))) -> 瓦町 | C19: =IF(B19="","",SUM(D19:E19)) -> 108 | D19: =IF(ISNA(VLOOKUP(A19,[1]データシート!$A$1:$G$65536,6,FALSE)),"",SUMIF([1]データシート!$A$1:$A$65536,[1]集計表!A19,[1]データシート!$F$1:$F$65536)) -> 54 | E19: =IF(ISNA(VLOOKUP(A19,[1]データシート!$A$1:$G$65536,7,FALSE)),"",SUMIF([1]データシート!$A$1:$A$65536,[1]集計表!A19,[1]データシート!$G$1:$G$65536)) -> 54 | F19: =IF(ISNA(VLOOKUP(A19,[1]データシート!$A$1:$G$65536,5,FALSE)),"",SUMIF([1]データシート!$A$1:$A$65536,[1]集計表!A19,[1]データシート!$E$1:$E$65536)) -> 48 | H19: =IF(ISNA(VLOOKUP(G19,[1]データシート!$A$1:$I$65536,9,FALSE)),"",IF(RIGHT(G19,3) = "000",VLOOKUP(G19,[1]データシート!$A$1:$I$65536,9,FALSE),VLOOKUP(G19,[1]データシート!$A$1:$I$65536,9,FALSE)&VLOOKUP(G19,[1]データシート!$A$1:$G$65536,4,FALSE))) | I19: =IF(H19="","",SUM(J19:K19)) | J19: =IF(ISNA(VLOOKUP(G19,[1]データシート!$A$1:$G$65536,6,FALSE)),"",SUMIF([1]データシート!$A$1:$A$65536,[1]集計表!G19,[1]データシート!$F$1:$F$65536)) | K19: =IF(ISNA(VLOOKUP(G19,[1]データシート!$A$1:$G$65536,7,FALSE)),"",SUMIF([1]データシート!$A$1:$A$65536,[1]集計表!G19,[1]データシート!$G$1:$G$65536)) | L19: =IF(ISNA(VLOOKUP(G19,[1]データシート!$A$1:$G$65536,5,FALSE)),"",SUMIF([1]データシート!$A$1:$A$65536,[1]集計表!G19,[1]データシート!$E$1:$E$65536)) | M19: 004000 | N19: =IF(ISNA(VLOOKUP(M19,[1]データシート!$A$1:$I$65536,9,FALSE)),"",IF(RIGHT(M19,3) = "000",VLOOKUP(M19,[1]データシート!$A$1:$I$65536,9,FALSE),VLOOKUP(M19,[1]データシート!$A$1:$I$65536,9,FALSE)&VLOOKUP(M19,[1]データシート!$A$1:$G$65536,4,FALSE))) -> 市子町 | O19: =IF(N19="","",SUM(P19:Q19)) -> 772 | P19: =IF(ISNA(VLOOKUP(M19,[1]データシート!$A$1:$G$65536,6,FALSE)),"",SUMIF([1]データシート!$A$1:$A$65536,[1]集計表!M19,[1]データシート!$F$1:$F$65536)) -> 380 | Q19: =IF(ISNA(VLOOKUP(M19,[1]データシート!$A$1:$G$65536,7,FALSE)),"",SUMIF([1]データシート!$A$1:$A$65536,[1]集計表!M19,[1]データシート!$G$1:$G$65536)) -> 392 | R19: =IF(ISNA(VLOOKUP(M19,[1]データシート!$A$1:$G$65536,5,FALSE)),"",SUMIF([1]データシート!$A$1:$A$65536,[1]集計表!M19,[1]データシート!$E$1:$E$65536)) -> 305 | S19: 163000 | T19: =IF(ISNA(VLOOKUP(S19,[1]データシート!$A$1:$I$65536,9,FALSE)),"",IF(RIGHT(S19,3) = "000",VLOOKUP(S19,[1]データシート!$A$1:$I$65536,9,FALSE),VLOOKUP(S19,[1]データシート!$A$1:$I$65536,9,FALSE)&VLOOKUP(S19,[1]データシート!$A$1:$G$65536,4,FALSE))) -> 一色町対米 | U19: =IF(T19="","",SUM(V19:W19)) -> 1433 | V19: =IF(ISNA(VLOOKUP(S19,[1]データシート!$A$1:$G$65536,6,FALSE)),"",SUMIF([1]データシート!$A$1:$A$65536,[1]集計表!S19,[1]データシート!$F$1:$F$65536)) -> 713 | W19: =IF(ISNA(VLOOKUP(S19,[1]データシート!$A$1:$G$65536,7,FALSE)),"",SUMIF([1]データシート!$A$1:$A$65536,[1]集計表!S19,[1]データシート!$G$1:$G$65536)) -> 720 | X19: =IF(ISNA(VLOOKUP(S19,[1]データシート!$A$1:$G$65536,5,FALSE)),"",SUMIF([1]データシート!$A$1:$A$65536,[1]集計表!S19,[1]データシート!$E$1:$E$65536)) -> 586
A20: 131000 | B20: =IF(ISNA(VLOOKUP(A20,[1]データシート!$A$1:$I$65536,9,FALSE)),"",IF(RIGHT(A20,3) = "000",VLOOKUP(A20,[1]データシート!$A$1:$I$65536,9,FALSE),VLOOKUP(A20,[1]データシート!$A$1:$I$65536,9,FALSE)&VLOOKUP(A20,[1]データシート!$A$1:$G$65536,4,FALSE))) -> 矢場町 | C20: =IF(B20="","",SUM(D20:E20)) -> 122 | D20: =IF(ISNA(VLOOKUP(A20,[1]データシート!$A$1:$G$65536,6,FALSE)),"",SUMIF([1]データシート!$A$1:$A$65536,[1]集計表!A20,[1]データシート!$F$1:$F$65536)) -> 61 | E20: =IF(ISNA(VLOOKUP(A20,[1]データシート!$A$1:$G$65536,7,FALSE)),"",SUMIF([1]データシート!$A$1:$A$65536,[1]集計表!A20,[1]データシート!$G$1:$G$65536)) -> 61 | F20: =IF(ISNA(VLOOKUP(A20,[1]データシート!$A$1:$G$65536,5,FALSE)),"",SUMIF([1]データシート!$A$1:$A$65536,[1]集計表!A20,[1]データシート!$E$1:$E$65536)) -> 61 | H20: =IF(ISNA(VLOOKUP(G20,[1]データシート!$A$1:$I$65536,9,FALSE)),"",IF(RIGHT(G20,3) = "000",VLOOKUP(G20,[1]データシート!$A$1:$I$65536,9,FALSE),VLOOKUP(G20,[1]データシート!$A$1:$I$65536,9,FALSE)&VLOOKUP(G20,[1]データシート!$A$1:$G$65536,4,FALSE))) | I20: =IF(H20="","",SUM(J20:K20)) | J20: =IF(ISNA(VLOOKUP(G20,[1]データシート!$A$1:$G$65536,6,FALSE)),"",SUMIF([1]データシート!$A$1:$A$65536,[1]集計表!G20,[1]データシート!$F$1:$F$65536)) | K20: =IF(ISNA(VLOOKUP(G20,[1]データシート!$A$1:$G$65536,7,FALSE)),"",SUMIF([1]データシート!$A$1:$A$65536,[1]集計表!G20,[1]データシート!$G$1:$G$65536)) | L20: =IF(ISNA(VLOOKUP(G20,[1]データシート!$A$1:$G$65536,5,FALSE)),"",SUMIF([1]データシート!$A$1:$A$65536,[1]集計表!G20,[1]データシート!$E$1:$E$65536)) | M20: 115000 | N20: =IF(ISNA(VLOOKUP(M20,[1]データシート!$A$1:$I$65536,9,FALSE)),"",IF(RIGHT(M20,3) = "000",VLOOKUP(M20,[1]データシート!$A$1:$I$65536,9,FALSE),VLOOKUP(M20,[1]データシート!$A$1:$I$65536,9,FALSE)&VLOOKUP(M20,[1]データシート!$A$1:$G$65536,4,FALSE))) -> 平口町 | O20: =IF(N20="","",SUM(P20:Q20)) -> 412 | P20: =IF(ISNA(VLOOKUP(M20,[1]データシート!$A$1:$G$65536,6,FALSE)),"",SUMIF([1]データシート!$A$1:$A$65536,[1]集計表!M20,[1]データシート!$F$1:$F$65536)) -> 182 | Q20: =IF(ISNA(VLOOKUP(M20,[1]データシート!$A$1:$G$65536,7,FALSE)),"",SUMIF([1]データシート!$A$1:$A$65536,[1]集計表!M20,[1]データシート!$G$1:$G$65536)) -> 230 | R20: =IF(ISNA(VLOOKUP(M20,[1]データシート!$A$1:$G$65536,5,FALSE)),"",SUMIF([1]データシート!$A$1:$A$65536,[1]集計表!M20,[1]データシート!$E$1:$E$65536)) -> 187 | S20: 164000 | T20: =IF(ISNA(VLOOKUP(S20,[1]データシート!$A$1:$I$65536,9,FALSE)),"",IF(RIGHT(S20,3) = "000",VLOOKUP(S20,[1]データシート!$A$1:$I$65536,9,FALSE),VLOOKUP(S20,[1]データシート!$A$1:$I$65536,9,FALSE)&VLOOKUP(S20,[1]データシート!$A$1:$G$65536,4,FALSE))) -> 一色町中外沢 | U20: =IF(T20="","",SUM(V20:W20)) -> 595 | V20: =IF(ISNA(VLOOKUP(S20,[1]データシート!$A$1:$G$65536,6,FALSE)),"",SUMIF([1]データシート!$A$1:$A$65536,[1]集計表!S20,[1]データシート!$F$1:$F$65536)) -> 298 | W20: =IF(ISNA(VLOOKUP(S20,[1]データシート!$A$1:$G$65536,7,FALSE)),"",SUMIF([1]データシート!$A$1:$A$65536,[1]集計表!S20,[1]データシート!$G$1:$G$65536)) -> 297 | X20: =IF(ISNA(VLOOKUP(S20,[1]データシート!$A$1:$G$65536,5,FALSE)),"",SUMIF([1]データシート!$A$1:$A$65536,[1]集計表!S20,[1]データシート!$E$1:$E$65536)) -> 198
A21: 014000 | B21: =IF(ISNA(VLOOKUP(A21,[1]データシート!$A$1:$I$65536,9,FALSE)),"",IF(RIGHT(A21,3) = "000",VLOOKUP(A21,[1]データシート!$A$1:$I$65536,9,FALSE),VLOOKUP(A21,[1]データシート!$A$1:$I$65536,9,FALSE)&VLOOKUP(A21,[1]データシート!$A$1:$G$65536,4,FALSE))) -> 大給町 | C21: =IF(B21="","",SUM(D21:E21)) -> 282 | D21: =IF(ISNA(VLOOKUP(A21,[1]データシート!$A$1:$G$65536,6,FALSE)),"",SUMIF([1]データシート!$A$1:$A$65536,[1]集計表!A21,[1]データシート!$F$1:$F$65536)) -> 123 | E21: =IF(ISNA(VLOOKUP(A21,[1]データシート!$A$1:$G$65536,7,FALSE)),"",SUMIF([1]データシート!$A$1:$A$65536,[1]集計表!A21,[1]データシート!$G$1:$G$65536)) -> 159 | F21: =IF(ISNA(VLOOKUP(A21,[1]データシート!$A$1:$G$65536,5,FALSE)),"",SUMIF([1]データシート!$A$1:$A$65536,[1]集計表!A21,[1]データシート!$E$1:$E$65536)) -> 124 | H21: =IF(ISNA(VLOOKUP(G21,[1]データシート!$A$1:$I$65536,9,FALSE)),"",IF(RIGHT(G21,3) = "000",VLOOKUP(G21,[1]データシート!$A$1:$I$65536,9,FALSE),VLOOKUP(G21,[1]データシート!$A$1:$I$65536,9,FALSE)&VLOOKUP(G21,[1]データシート!$A$1:$G$65536,4,FALSE))) | I21: =IF(H21="","",SUM(J21:K21)) | J21: =IF(ISNA(VLOOKUP(G21,[1]データシート!$A$1:$G$65536,6,FALSE)),"",SUMIF([1]データシート!$A$1:$A$65536,[1]集計表!G21,[1]データシート!$F$1:$F$65536)) | K21: =IF(ISNA(VLOOKUP(G21,[1]データシート!$A$1:$G$65536,7,FALSE)),"",SUMIF([1]データシート!$A$1:$A$65536,[1]集計表!G21,[1]データシート!$G$1:$G$65536)) | L21: =IF(ISNA(VLOOKUP(G21,[1]データシート!$A$1:$G$65536,5,FALSE)),"",SUMIF([1]データシート!$A$1:$A$65536,[1]集計表!G21,[1]データシート!$E$1:$E$65536)) | M21: 049000 | N21: =IF(ISNA(VLOOKUP(M21,[1]データシート!$A$1:$I$65536,9,FALSE)),"",IF(RIGHT(M21,3) = "000",VLOOKUP(M21,[1]データシート!$A$1:$I$65536,9,FALSE),VLOOKUP(M21,[1]データシート!$A$1:$I$65536,9,FALSE)&VLOOKUP(M21,[1]データシート!$A$1:$G$65536,4,FALSE))) -> 笹曽根町 | O21: =IF(N21="","",SUM(P21:Q21)) -> 257 | P21: =IF(ISNA(VLOOKUP(M21,[1]データシート!$A$1:$G$65536,6,FALSE)),"",SUMIF([1]データシート!$A$1:$A$65536,[1]集計表!M21,[1]データシート!$F$1:$F$65536)) -> 126 | Q21: =IF(ISNA(VLOOKUP(M21,[1]データシート!$A$1:$G$65536,7,FALSE)),"",SUMIF([1]データシート!$A$1:$A$65536,[1]集計表!M21,[1]データシート!$G$1:$G$65536)) -> 131 | R21: =IF(ISNA(VLOOKUP(M21,[1]データシート!$A$1:$G$65536,5,FALSE)),"",SUMIF([1]データシート!$A$1:$A$65536,[1]集計表!M21,[1]データシート!$E$1:$E$65536)) -> 82 | S21: 165000 | T21: =IF(ISNA(VLOOKUP(S21,[1]データシート!$A$1:$I$65536,9,FALSE)),"",IF(RIGHT(S21,3) = "000",VLOOKUP(S21,[1]データシート!$A$1:$I$65536,9,FALSE),VLOOKUP(S21,[1]データシート!$A$1:$I$65536,9,FALSE)&VLOOKUP(S21,[1]データシート!$A$1:$G$65536,4,FALSE))) -> 一色町野田 | U21: =IF(T21="","",SUM(V21:W21)) -> 458 | V21: =IF(ISNA(VLOOKUP(S21,[1]データシート!$A$1:$G$65536,6,FALSE)),"",SUMIF([1]データシート!$A$1:$A$65536,[1]集計表!S21,[1]データシート!$F$1:$F$65536)) -> 228 | W21: =IF(ISNA(VLOOKUP(S21,[1]データシート!$A$1:$G$65536,7,FALSE)),"",SUMIF([1]データシート!$A$1:$A$65536,[1]集計表!S21,[1]データシート!$G$1:$G$65536)) -> 230 | X21: =IF(ISNA(VLOOKUP(S21,[1]データシート!$A$1:$G$65536,5,FALSE)),"",SUMIF([1]データシート!$A$1:$A$65536,[1]集計表!S21,[1]データシート!$E$1:$E$65536)) -> 175
A22: 112000 | B22: =IF(ISNA(VLOOKUP(A22,[1]データシート!$A$1:$I$65536,9,FALSE)),"",IF(RIGHT(A22,3) = "000",VLOOKUP(A22,[1]データシート!$A$1:$I$65536,9,FALSE),VLOOKUP(A22,[1]データシート!$A$1:$I$65536,9,FALSE)&VLOOKUP(A22,[1]データシート!$A$1:$G$65536,4,FALSE))) -> 馬場町 | C22: =IF(B22="","",SUM(D22:E22)) -> 198 | D22: =IF(ISNA(VLOOKUP(A22,[1]データシート!$A$1:$G$65536,6,FALSE)),"",SUMIF([1]データシート!$A$1:$A$65536,[1]集計表!A22,[1]データシート!$F$1:$F$65536)) -> 95 | E22: =IF(ISNA(VLOOKUP(A22,[1]データシート!$A$1:$G$65536,7,FALSE)),"",SUMIF([1]データシート!$A$1:$A$65536,[1]集計表!A22,[1]データシート!$G$1:$G$65536)) -> 103 | F22: =IF(ISNA(VLOOKUP(A22,[1]データシート!$A$1:$G$65536,5,FALSE)),"",SUMIF([1]データシート!$A$1:$A$65536,[1]集計表!A22,[1]データシート!$E$1:$E$65536)) -> 100 | H22: =IF(ISNA(VLOOKUP(G22,[1]データシート!$A$1:$I$65536,9,FALSE)),"",IF(RIGHT(G22,3) = "000",VLOOKUP(G22,[1]データシート!$A$1:$I$65536,9,FALSE),VLOOKUP(G22,[1]データシート!$A$1:$I$65536,9,FALSE)&VLOOKUP(G22,[1]データシート!$A$1:$G$65536,4,FALSE))) | I22: =IF(H22="","",SUM(J22:K22)) | J22: =IF(ISNA(VLOOKUP(G22,[1]データシート!$A$1:$G$65536,6,FALSE)),"",SUMIF([1]データシート!$A$1:$A$65536,[1]集計表!G22,[1]データシート!$F$1:$F$65536)) | K22: =IF(ISNA(VLOOKUP(G22,[1]データシート!$A$1:$G$65536,7,FALSE)),"",SUMIF([1]データシート!$A$1:$A$65536,[1]集計表!G22,[1]データシート!$G$1:$G$65536)) | L22: =IF(ISNA(VLOOKUP(G22,[1]データシート!$A$1:$G$65536,5,FALSE)),"",SUMIF([1]データシート!$A$1:$A$65536,[1]集計表!G22,[1]データシート!$E$1:$E$65536)) | M22: 134000 | N22: =IF(ISNA(VLOOKUP(M22,[1]データシート!$A$1:$I$65536,9,FALSE)),"",IF(RIGHT(M22,3) = "000",VLOOKUP(M22,[1]データシート!$A$1:$I$65536,9,FALSE),VLOOKUP(M22,[1]データシート!$A$1:$I$65536,9,FALSE)&VLOOKUP(M22,[1]データシート!$A$1:$G$65536,4,FALSE))) -> 横手町 | O22: =IF(N22="","",SUM(P22:Q22)) -> 402 | P22: =IF(ISNA(VLOOKUP(M22,[1]データシート!$A$1:$G$65536,6,FALSE)),"",SUMIF([1]データシート!$A$1:$A$65536,[1]集計表!M22,[1]データシート!$F$1:$F$65536)) -> 207 | Q22: =IF(ISNA(VLOOKUP(M22,[1]データシート!$A$1:$G$65536,7,FALSE)),"",SUMIF([1]データシート!$A$1:$A$65536,[1]集計表!M22,[1]データシート!$G$1:$G$65536)) -> 195 | R22: =IF(ISNA(VLOOKUP(M22,[1]データシート!$A$1:$G$65536,5,FALSE)),"",SUMIF([1]データシート!$A$1:$A$65536,[1]集計表!M22,[1]データシート!$E$1:$E$65536)) -> 138 | S22: 166000 | T22: =IF(ISNA(VLOOKUP(S22,[1]データシート!$A$1:$I$65536,9,FALSE)),"",IF(RIGHT(S22,3) = "000",VLOOKUP(S22,[1]データシート!$A$1:$I$65536,9,FALSE),VLOOKUP(S22,[1]データシート!$A$1:$I$65536,9,FALSE)&VLOOKUP(S22,[1]データシート!$A$1:$G$65536,4,FALSE))) -> 一色町藤江 | U22: =IF(T22="","",SUM(V22:W22)) -> 152 | V22: =IF(ISNA(VLOOKUP(S22,[1]データシート!$A$1:$G$65536,6,FALSE)),"",SUMIF([1]データシート!$A$1:$A$65536,[1]集計表!S22,[1]データシート!$F$1:$F$65536)) -> 78 | W22: =IF(ISNA(VLOOKUP(S22,[1]データシート!$A$1:$G$65536,7,FALSE)),"",SUMIF([1]データシート!$A$1:$A$65536,[1]集計表!S22,[1]データシート!$G$1:$G$65536)) -> 74 | X22: =IF(ISNA(VLOOKUP(S22,[1]データシート!$A$1:$G$65536,5,FALSE)),"",SUMIF([1]データシート!$A$1:$A$65536,[1]集計表!S22,[1]データシート!$E$1:$E$65536)) -> 56
A23: 133000 | B23: =IF(ISNA(VLOOKUP(A23,[1]データシート!$A$1:$I$65536,9,FALSE)),"",IF(RIGHT(A23,3) = "000",VLOOKUP(A23,[1]データシート!$A$1:$I$65536,9,FALSE),VLOOKUP(A23,[1]データシート!$A$1:$I$65536,9,FALSE)&VLOOKUP(A23,[1]データシート!$A$1:$G$65536,4,FALSE))) -> 弥生町 | C23: =IF(B23="","",SUM(D23:E23)) -> 112 | D23: =IF(ISNA(VLOOKUP(A23,[1]データシート!$A$1:$G$65536,6,FALSE)),"",SUMIF([1]データシート!$A$1:$A$65536,[1]集計表!A23,[1]データシート!$F$1:$F$65536)) -> 60 | E23: =IF(ISNA(VLOOKUP(A23,[1]データシート!$A$1:$G$65536,7,FALSE)),"",SUMIF([1]データシート!$A$1:$A$65536,[1]集計表!A23,[1]データシート!$G$1:$G$65536)) -> 52 | F23: =IF(ISNA(VLOOKUP(A23,[1]データシート!$A$1:$G$65536,5,FALSE)),"",SUMIF([1]データシート!$A$1:$A$65536,[1]集計表!A23,[1]データシート!$E$1:$E$65536)) -> 50 | H23: =IF(ISNA(VLOOKUP(G23,[1]データシート!$A$1:$I$65536,9,FALSE)),"",IF(RIGHT(G23,3) = "000",VLOOKUP(G23,[1]データシート!$A$1:$I$65536,9,FALSE),VLOOKUP(G23,[1]データシート!$A$1:$I$65536,9,FALSE)&VLOOKUP(G23,[1]データシート!$A$1:$G$65536,4,FALSE))) | I23: =IF(H23="","",SUM(J23:K23)) | J23: =IF(ISNA(VLOOKUP(G23,[1]データシート!$A$1:$G$65536,6,FALSE)),"",SUMIF([1]データシート!$A$1:$A$65536,[1]集計表!G23,[1]データシート!$F$1:$F$65536)) | K23: =IF(ISNA(VLOOKUP(G23,[1]データシート!$A$1:$G$65536,7,FALSE)),"",SUMIF([1]データシート!$A$1:$A$65536,[1]集計表!G23,[1]データシート!$G$1:$G$65536)) | L23: =IF(ISNA(VLOOKUP(G23,[1]データシート!$A$1:$G$65536,5,FALSE)),"",SUMIF([1]データシート!$A$1:$A$65536,[1]集計表!G23,[1]データシート!$E$1:$E$65536)) | M23: 087000 | N23: =IF(ISNA(VLOOKUP(M23,[1]データシート!$A$1:$I$65536,9,FALSE)),"",IF(RIGHT(M23,3) = "000",VLOOKUP(M23,[1]データシート!$A$1:$I$65536,9,FALSE),VLOOKUP(M23,[1]データシート!$A$1:$I$65536,9,FALSE)&VLOOKUP(M23,[1]データシート!$A$1:$G$65536,4,FALSE))) -> 天竹町 | O23: =IF(N23="","",SUM(P23:Q23)) -> 213 | P23: =IF(ISNA(VLOOKUP(M23,[1]データシート!$A$1:$G$65536,6,FALSE)),"",SUMIF([1]データシート!$A$1:$A$65536,[1]集計表!M23,[1]データシート!$F$1:$F$65536)) -> 104 | Q23: =IF(ISNA(VLOOKUP(M23,[1]データシート!$A$1:$G$65536,7,FALSE)),"",SUMIF([1]データシート!$A$1:$A$65536,[1]集計表!M23,[1]データシート!$G$1:$G$65536)) -> 109 | R23: =IF(ISNA(VLOOKUP(M23,[1]データシート!$A$1:$G$65536,5,FALSE)),"",SUMIF([1]データシート!$A$1:$A$65536,[1]集計表!M23,[1]データシート!$E$1:$E$65536)) -> 82 | S23: 167000 | T23: =IF(ISNA(VLOOKUP(S23,[1]データシート!$A$1:$I$65536,9,FALSE)),"",IF(RIGHT(S23,3) = "000",VLOOKUP(S23,[1]データシート!$A$1:$I$65536,9,FALSE),VLOOKUP(S23,[1]データシート!$A$1:$I$65536,9,FALSE)&VLOOKUP(S23,[1]データシート!$A$1:$G$65536,4,FALSE))) -> 一色町細川 | U23: =IF(T23="","",SUM(V23:W23)) -> 97 | V23: =IF(ISNA(VLOOKUP(S23,[1]データシート!$A$1:$G$65536,6,FALSE)),"",SUMIF([1]データシート!$A$1:$A$65536,[1]集計表!S23,[1]データシート!$F$1:$F$65536)) -> 42 | W23: =IF(ISNA(VLOOKUP(S23,[1]データシート!$A$1:$G$65536,7,FALSE)),"",SUMIF([1]データシート!$A$1:$A$65536,[1]集計表!S23,[1]データシート!$G$1:$G$65536)) -> 55 | X23: =IF(ISNA(VLOOKUP(S23,[1]データシート!$A$1:$G$65536,5,FALSE)),"",SUMIF([1]データシート!$A$1:$A$65536,[1]集計表!S23,[1]データシート!$E$1:$E$65536)) -> 31
A24: 066000 | B24: =IF(ISNA(VLOOKUP(A24,[1]データシート!$A$1:$I$65536,9,FALSE)),"",IF(RIGHT(A24,3) = "000",VLOOKUP(A24,[1]データシート!$A$1:$I$65536,9,FALSE),VLOOKUP(A24,[1]データシート!$A$1:$I$65536,9,FALSE)&VLOOKUP(A24,[1]データシート!$A$1:$G$65536,4,FALSE))) -> 末広町 | C24: =IF(B24="","",SUM(D24:E24)) -> 62 | D24: =IF(ISNA(VLOOKUP(A24,[1]データシート!$A$1:$G$65536,6,FALSE)),"",SUMIF([1]データシート!$A$1:$A$65536,[1]集計表!A24,[1]データシート!$F$1:$F$65536)) -> 27 | E24: =IF(ISNA(VLOOKUP(A24,[1]データシート!$A$1:$G$65536,7,FALSE)),"",SUMIF([1]データシート!$A$1:$A$65536,[1]集計表!A24,[1]データシート!$G$1:$G$65536)) -> 35 | F24: =IF(ISNA(VLOOKUP(A24,[1]データシート!$A$1:$G$65536,5,FALSE)),"",SUMIF([1]データシート!$A$1:$A$65536,[1]集計表!A24,[1]データシート!$E$1:$E$65536)) -> 23 | G24: 西尾地区 計 | I24: =SUM(I4:I23)+SUM(C5:C77) -> 49551 | J24: =SUM(J4:J23)+SUM(D5:D77) -> 25102 | K24: =SUM(K4:K23)+SUM(E5:E77) -> 24449 | L24: =SUM(L4:L23)+SUM(F5:F77) -> 22038 | M24: 107000 | N24: =IF(ISNA(VLOOKUP(M24,[1]データシート!$A$1:$I$65536,9,FALSE)),"",IF(RIGHT(M24,3) = "000",VLOOKUP(M24,[1]データシート!$A$1:$I$65536,9,FALSE),VLOOKUP(M24,[1]データシート!$A$1:$I$65536,9,FALSE)&VLOOKUP(M24,[1]データシート!$A$1:$G$65536,4,FALSE))) -> 野々宮町 | O24: =IF(N24="","",SUM(P24:Q24)) -> 272 | P24: =IF(ISNA(VLOOKUP(M24,[1]データシート!$A$1:$G$65536,6,FALSE)),"",SUMIF([1]データシート!$A$1:$A$65536,[1]集計表!M24,[1]データシート!$F$1:$F$65536)) -> 142 | Q24: =IF(ISNA(VLOOKUP(M24,[1]データシート!$A$1:$G$65536,7,FALSE)),"",SUMIF([1]データシート!$A$1:$A$65536,[1]集計表!M24,[1]データシート!$G$1:$G$65536)) -> 130 | R24: =IF(ISNA(VLOOKUP(M24,[1]データシート!$A$1:$G$65536,5,FALSE)),"",SUMIF([1]データシート!$A$1:$A$65536,[1]集計表!M24,[1]データシート!$E$1:$E$65536)) -> 117 | S24: 168000 | T24: =IF(ISNA(VLOOKUP(S24,[1]データシート!$A$1:$I$65536,9,FALSE)),"",IF(RIGHT(S24,3) = "000",VLOOKUP(S24,[1]データシート!$A$1:$I$65536,9,FALSE),VLOOKUP(S24,[1]データシート!$A$1:$I$65536,9,FALSE)&VLOOKUP(S24,[1]データシート!$A$1:$G$65536,4,FALSE))) -> 一色町前野 | U24: =IF(T24="","",SUM(V24:W24)) -> 676 | V24: =IF(ISNA(VLOOKUP(S24,[1]データシート!$A$1:$G$65536,6,FALSE)),"",SUMIF([1]データシート!$A$1:$A$65536,[1]集計表!S24,[1]データシート!$F$1:$F$65536)) -> 342 | W24: =IF(ISNA(VLOOKUP(S24,[1]データシート!$A$1:$G$65536,7,FALSE)),"",SUMIF([1]データシート!$A$1:$A$65536,[1]集計表!S24,[1]データシート!$G$1:$G$65536)) -> 334 | X24: =IF(ISNA(VLOOKUP(S24,[1]データシート!$A$1:$G$65536,5,FALSE)),"",SUMIF([1]データシート!$A$1:$A$65536,[1]集計表!S24,[1]データシート!$E$1:$E$65536)) -> 284
A25: 085000 | B25: =IF(ISNA(VLOOKUP(A25,[1]データシート!$A$1:$I$65536,9,FALSE)),"",IF(RIGHT(A25,3) = "000",VLOOKUP(A25,[1]データシート!$A$1:$I$65536,9,FALSE),VLOOKUP(A25,[1]データシート!$A$1:$I$65536,9,FALSE)&VLOOKUP(A25,[1]データシート!$A$1:$G$65536,4,FALSE))) -> 鶴舞町 | C25: =IF(B25="","",SUM(D25:E25)) -> 175 | D25: =IF(ISNA(VLOOKUP(A25,[1]データシート!$A$1:$G$65536,6,FALSE)),"",SUMIF([1]データシート!$A$1:$A$65536,[1]集計表!A25,[1]データシート!$F$1:$F$65536)) -> 88 | E25: =IF(ISNA(VLOOKUP(A25,[1]データシート!$A$1:$G$65536,7,FALSE)),"",SUMIF([1]データシート!$A$1:$A$65536,[1]集計表!A25,[1]データシート!$G$1:$G$65536)) -> 87 | F25: =IF(ISNA(VLOOKUP(A25,[1]データシート!$A$1:$G$65536,5,FALSE)),"",SUMIF([1]データシート!$A$1:$A$65536,[1]集計表!A25,[1]データシート!$E$1:$E$65536)) -> 70 | G25: 平 坂 地 区 | N25: =IF(ISNA(VLOOKUP(M25,[1]データシート!$A$1:$I$65536,9,FALSE)),"",IF(RIGHT(M25,3) = "000",VLOOKUP(M25,[1]データシート!$A$1:$I$65536,9,FALSE),VLOOKUP(M25,[1]データシート!$A$1:$I$65536,9,FALSE)&VLOOKUP(M25,[1]データシート!$A$1:$G$65536,4,FALSE))) | O25: =IF(N25="","",SUM(P25:Q25)) | P25: =IF(ISNA(VLOOKUP(M25,[1]データシート!$A$1:$G$65536,6,FALSE)),"",SUMIF([1]データシート!$A$1:$A$65536,[1]集計表!M25,[1]データシート!$F$1:$F$65536)) | Q25: =IF(ISNA(VLOOKUP(M25,[1]データシート!$A$1:$G$65536,7,FALSE)),"",SUMIF([1]データシート!$A$1:$A$65536,[1]集計表!M25,[1]データシート!$G$1:$G$65536)) | R25: =IF(ISNA(VLOOKUP(M25,[1]データシート!$A$1:$G$65536,5,FALSE)),"",SUMIF([1]データシート!$A$1:$A$65536,[1]集計表!M25,[1]データシート!$E$1:$E$65536)) | S25: 169000 | T25: =IF(ISNA(VLOOKUP(S25,[1]データシート!$A$1:$I$65536,9,FALSE)),"",IF(RIGHT(S25,3) = "000",VLOOKUP(S25,[1]データシート!$A$1:$I$65536,9,FALSE),VLOOKUP(S25,[1]データシート!$A$1:$I$65536,9,FALSE)&VLOOKUP(S25,[1]データシート!$A$1:$G$65536,4,FALSE))) -> 一色町松木島 | U25: =IF(T25="","",SUM(V25:W25)) -> 1964 | V25: =IF(ISNA(VLOOKUP(S25,[1]データシート!$A$1:$G$65536,6,FALSE)),"",SUMIF([1]データシート!$A$1:$A$65536,[1]集計表!S25,[1]データシート!$F$1:$F$65536)) -> 962 | W25: =IF(ISNA(VLOOKUP(S25,[1]データシート!$A$1:$G$65536,7,FALSE)),"",SUMIF([1]データシート!$A$1:$A$65536,[1]集計表!S25,[1]データシート!$G$1:$G$65536)) -> 1002 | X25: =IF(ISNA(VLOOKUP(S25,[1]データシート!$A$1:$G$65536,5,FALSE)),"",SUMIF([1]データシート!$A$1:$A$65536,[1]集計表!S25,[1]データシート!$E$1:$E$65536)) -> 743
A26: 088000 | B26: =IF(ISNA(VLOOKUP(A26,[1]データシート!$A$1:$I$65536,9,FALSE)),"",IF(RIGHT(A26,3) = "000",VLOOKUP(A26,[1]データシート!$A$1:$I$65536,9,FALSE),VLOOKUP(A26,[1]データシート!$A$1:$I$65536,9,FALSE)&VLOOKUP(A26,[1]データシート!$A$1:$G$65536,4,FALSE))) -> 天神町 | C26: =IF(B26="","",SUM(D26:E26)) -> 199 | D26: =IF(ISNA(VLOOKUP(A26,[1]データシート!$A$1:$G$65536,6,FALSE)),"",SUMIF([1]データシート!$A$1:$A$65536,[1]集計表!A26,[1]データシート!$F$1:$F$65536)) -> 99 | E26: =IF(ISNA(VLOOKUP(A26,[1]データシート!$A$1:$G$65536,7,FALSE)),"",SUMIF([1]データシート!$A$1:$A$65536,[1]集計表!A26,[1]データシート!$G$1:$G$65536)) -> 100 | F26: =IF(ISNA(VLOOKUP(A26,[1]データシート!$A$1:$G$65536,5,FALSE)),"",SUMIF([1]データシート!$A$1:$A$65536,[1]集計表!A26,[1]データシート!$E$1:$E$65536)) -> 87 | G26: 099000 | H26: =IF(ISNA(VLOOKUP(G26,[1]データシート!$A$1:$I$65536,9,FALSE)),"",IF(RIGHT(G26,3) = "000",VLOOKUP(G26,[1]データシート!$A$1:$I$65536,9,FALSE),VLOOKUP(G26,[1]データシート!$A$1:$I$65536,9,FALSE)&VLOOKUP(G26,[1]データシート!$A$1:$G$65536,4,FALSE))) -> 中畑町 | I26: =IF(H26="","",SUM(J26:K26)) -> 2688 | J26: =IF(ISNA(VLOOKUP(G26,[1]データシート!$A$1:$G$65536,6,FALSE)),"",SUMIF([1]データシート!$A$1:$A$65536,[1]集計表!G26,[1]データシート!$F$1:$F$65536)) -> 1376 | K26: =IF(ISNA(VLOOKUP(G26,[1]データシート!$A$1:$G$65536,7,FALSE)),"",SUMIF([1]データシート!$A$1:$A$65536,[1]集計表!G26,[1]データシート!$G$1:$G$65536)) -> 1312 | L26: =IF(ISNA(VLOOKUP(G26,[1]データシート!$A$1:$G$65536,5,FALSE)),"",SUMIF([1]データシート!$A$1:$A$65536,[1]集計表!G26,[1]データシート!$E$1:$E$65536)) -> 1158 | N26: =IF(ISNA(VLOOKUP(M26,[1]データシート!$A$1:$I$65536,9,FALSE)),"",IF(RIGHT(M26,3) = "000",VLOOKUP(M26,[1]データシート!$A$1:$I$65536,9,FALSE),VLOOKUP(M26,[1]データシート!$A$1:$I$65536,9,FALSE)&VLOOKUP(M26,[1]データシート!$A$1:$G$65536,4,FALSE))) | O26: =IF(N26="","",SUM(P26:Q26)) | P26: =IF(ISNA(VLOOKUP(M26,[1]データシート!$A$1:$G$65536,6,FALSE)),"",SUMIF([1]データシート!$A$1:$A$65536,[1]集計表!M26,[1]データシート!$F$1:$F$65536)) | Q26: =IF(ISNA(VLOOKUP(M26,[1]データシート!$A$1:$G$65536,7,FALSE)),"",SUMIF([1]データシート!$A$1:$A$65536,[1]集計表!M26,[1]データシート!$G$1:$G$65536)) | R26: =IF(ISNA(VLOOKUP(M26,[1]データシート!$A$1:$G$65536,5,FALSE)),"",SUMIF([1]データシート!$A$1:$A$65536,[1]集計表!M26,[1]データシート!$E$1:$E$65536)) | S26: 170000 | T26: =IF(ISNA(VLOOKUP(S26,[1]データシート!$A$1:$I$65536,9,FALSE)),"",IF(RIGHT(S26,3) = "000",VLOOKUP(S26,[1]データシート!$A$1:$I$65536,9,FALSE),VLOOKUP(S26,[1]データシート!$A$1:$I$65536,9,FALSE)&VLOOKUP(S26,[1]データシート!$A$1:$G$65536,4,FALSE))) -> 一色町養ケ島 | U26: =IF(T26="","",SUM(V26:W26)) -> 197 | V26: =IF(ISNA(VLOOKUP(S26,[1]データシート!$A$1:$G$65536,6,FALSE)),"",SUMIF([1]データシート!$A$1:$A$65536,[1]集計表!S26,[1]データシート!$F$1:$F$65536)) -> 95 | W26: =IF(ISNA(VLOOKUP(S26,[1]データシート!$A$1:$G$65536,7,FALSE)),"",SUMIF([1]データシート!$A$1:$A$65536,[1]集計表!S26,[1]データシート!$G$1:$G$65536)) -> 102 | X26: =IF(ISNA(VLOOKUP(S26,[1]データシート!$A$1:$G$65536,5,FALSE)),"",SUMIF([1]データシート!$A$1:$A$65536,[1]集計表!S26,[1]データシート!$E$1:$E$65536)) -> 88
