Workbook

Sheet 全体
G1: ="公 称 町 名 別 集 計 表 （"&+[1]データシート!L1&"）" -> 公 称 町 名 別 集 計 表 （全体） | T1: =+[1]データシート!$H$2 -> 46296 | V1: 現在 | W1: 西尾市 市民課
A3: 町名 | C3: 合計 | D3: 男 | E3: 女 | F3: 世帯 | G3: 町名 | I3: 合計 | J3: 男 | K3: 女 | L3: 世帯 | M3: 町名 | O3: 合計 | P3: 男 | Q3: 女 | R3: 世帯 | S3: 町名 | U3: 合計 | V3: 男 | W3: 女 | X3: 世帯
A4: 西 尾 地 区 | G4: 061000 | H4: =IF(ISNA(VLOOKUP(G4,[1]データシート!$A$1:$I$65536,9,FALSE)),"",IF(RIGHT(G4,3) = "000",VLOOKUP(G4,[1]データシート!$A$1:$I$65536,9,FALSE),VLOOKUP(G4,[1]データシート!$A$1:$I$65536,9,FALSE)&VLOOKUP(G4,[1]データシート!$A$1:$G$65536,4,FALSE))) -> 新渡場町 | I4: =IF(H4="","",SUM(J4:K4)) -> 733 | J4: =IF(ISNA(VLOOKUP(G4,[1]データシート!$A$1:$G$65536,6,FALSE)),"",SUMIF([1]データシート!$A$1:$A$65536,[1]集計表!G4,[1]データシート!$F$1:$F$65536)) -> 374 | K4: =IF(ISNA(VLOOKUP(G4,[1]データシート!$A$1:$G$65536,7,FALSE)),"",SUMIF([1]データシート!$A$1:$A$65536,[1]集計表!G4,[1]データシート!$G$1:$G$65536)) -> 359 | L4: =IF(ISNA(VLOOKUP(G4,[1]データシート!$A$1:$G$65536,5,FALSE)),"",SUMIF([1]データシート!$A$1:$A$65536,[1]集計表!G4,[1]データシート!$E$1:$E$65536)) -> 303 | M4: 022000 | N4: =IF(ISNA(VLOOKUP(M4,[1]データシート!$A$1:$I$65536,9,FALSE)),"",IF(RIGHT(M4,3) = "000",VLOOKUP(M4,[1]データシート!$A$1:$I$65536,9,FALSE),VLOOKUP(M4,[1]データシート!$A$1:$I$65536,9,FALSE)&VLOOKUP(M4,[1]データシート!$A$1:$G$65536,4,FALSE))) -> 鎌谷町 | O4: =IF(N4="","",SUM(P4:Q4)) -> 530 | P4: =IF(ISNA(VLOOKUP(M4,[1]データシート!$A$1:$G$65536,6,FALSE)),"",SUMIF([1]データシート!$A$1:$A$65536,[1]集計表!M4,[1]データシート!$F$1:$F$65536)) -> 257 | Q4: =IF(ISNA(VLOOKUP(M4,[1]データシート!$A$1:$G$65536,7,FALSE)),"",SUMIF([1]データシート!$A$1:$A$65536,[1]集計表!M4,[1]データシート!$G$1:$G$65536)) -> 273 | R4: =IF(ISNA(VLOOKUP(M4,[1]データシート!$A$1:$G$65536,5,FALSE)),"",SUMIF([1]データシート!$A$1:$A$65536,[1]集計表!M4,[1]データシート!$E$1:$E$65536)) -> 234 | S4: 一 色 地 区
A5: 068000 | B5: =IF(ISNA(VLOOKUP(A5,[1]データシート!$A$1:$I$65536,9,FALSE)),"",IF(RIGHT(A5,3) = "000",VLOOKUP(A5,[1]データシート!$A$1:$I$65536,9,FALSE),VLOOKUP(A5,[1]データシート!$A$1:$I$65536,9,FALSE)&VLOOKUP(A5,[1]データシート!$A$1:$G$65536,4,FALSE))) -> 須田町 | C5: =IF(B5="","",SUM(D5:E5)) -> 139 | D5: =IF(ISNA(VLOOKUP(A5,[1]データシート!$A$1:$G$65536,6,FALSE)),"",SUMIF([1]データシート!$A$1:$A$65536,[1]集計表!A5,[1]データシート!$F$1:$F$65536)) -> 61 | E5: =IF(ISNA(VLOOKUP(A5,[1]データシート!$A$1:$G$65536,7,FALSE)),"",SUMIF([1]データシート!$A$1:$A$65536,[1]集計表!A5,[1]データシート!$G$1:$G$65536)) -> 78 | F5: =IF(ISNA(VLOOKUP(A5,[1]データシート!$A$1:$G$65536,5,FALSE)),"",SUMIF([1]データシート!$A$1:$A$65536,[1]集計表!A5,[1]データシート!$E$1:$E$65536)) -> 61 | G5: 060001 | H5: =IF(ISNA(VLOOKUP(G5,[1]データシート!$A$1:$I$65536,9,FALSE)),"",IF(RIGHT(G5,3) = "000",VLOOKUP(G5,[1]データシート!$A$1:$I$65536,9,FALSE),VLOOKUP(G5,[1]データシート!$A$1:$I$65536,9,FALSE)&VLOOKUP(G5,[1]データシート!$A$1:$G$65536,4,FALSE))) -> 新渡場１丁目 | I5: =IF(H5="","",SUM(J5:K5)) -> 297 | J5: =IF(ISNA(VLOOKUP(G5,[1]データシート!$A$1:$G$65536,6,FALSE)),"",SUMIF([1]データシート!$A$1:$A$65536,[1]集計表!G5,[1]データシート!$F$1:$F$65536)) -> 149 | K5: =IF(ISNA(VLOOKUP(G5,[1]データシート!$A$1:$G$65536,7,FALSE)),"",SUMIF([1]データシート!$A$1:$A$65536,[1]集計表!G5,[1]データシート!$G$1:$G$65536)) -> 148 | L5: =IF(ISNA(VLOOKUP(G5,[1]データシート!$A$1:$G$65536,5,FALSE)),"",SUMIF([1]データシート!$A$1:$A$65536,[1]集計表!G5,[1]データシート!$E$1:$E$65536)) -> 126 | M5: 064000 | N5: =IF(ISNA(VLOOKUP(M5,[1]データシート!$A$1:$I$65536,9,FALSE)),"",IF(RIGHT(M5,3) = "000",VLOOKUP(M5,[1]データシート!$A$1:$I$65536,9,FALSE),VLOOKUP(M5,[1]データシート!$A$1:$I$65536,9,FALSE)&VLOOKUP(M5,[1]データシート!$A$1:$G$65536,4,FALSE))) -> 十郎島町 | O5: =IF(N5="","",SUM(P5:Q5)) -> 207 | P5: =IF(ISNA(VLOOKUP(M5,[1]データシート!$A$1:$G$65536,6,FALSE)),"",SUMIF([1]データシート!$A$1:$A$65536,[1]集計表!M5,[1]データシート!$F$1:$F$65536)) -> 104 | Q5: =IF(ISNA(VLOOKUP(M5,[1]データシート!$A$1:$G$65536,7,FALSE)),"",SUMIF([1]データシート!$A$1:$A$65536,[1]集計表!M5,[1]データシート!$G$1:$G$65536)) -> 103 | R5: =IF(ISNA(VLOOKUP(M5,[1]データシート!$A$1:$G$65536,5,FALSE)),"",SUMIF([1]データシート!$A$1:$A$65536,[1]集計表!M5,[1]データシート!$E$1:$E$65536)) -> 76 | S5: 149000 | T5: =IF(ISNA(VLOOKUP(S5,[1]データシート!$A$1:$I$65536,9,FALSE)),"",IF(RIGHT(S5,3) = "000",VLOOKUP(S5,[1]データシート!$A$1:$I$65536,9,FALSE),VLOOKUP(S5,[1]データシート!$A$1:$I$65536,9,FALSE)&VLOOKUP(S5,[1]データシート!$A$1:$G$65536,4,FALSE))) -> 一色町赤羽 | U5: =IF(T5="","",SUM(V5:W5)) -> 1740 | V5: =IF(ISNA(VLOOKUP(S5,[1]データシート!$A$1:$G$65536,6,FALSE)),"",SUMIF([1]データシート!$A$1:$A$65536,[1]集計表!S5,[1]データシート!$F$1:$F$65536)) -> 847 | W5: =IF(ISNA(VLOOKUP(S5,[1]データシート!$A$1:$G$65536,7,FALSE)),"",SUMIF([1]データシート!$A$1:$A$65536,[1]集計表!S5,[1]データシート!$G$1:$G$65536)) -> 893 | X5: =IF(ISNA(VLOOKUP(S5,[1]データシート!$A$1:$G$65536,5,FALSE)),"",SUMIF([1]データシート!$A$1:$A$65536,[1]集計表!S5,[1]データシート!$E$1:$E$65536)) -> 674
A6: 121000 | B6: =IF(ISNA(VLOOKUP(A6,[1]データシート!$A$1:$I$65536,9,FALSE)),"",IF(RIGHT(A6,3) = "000",VLOOKUP(A6,[1]データシート!$A$1:$I$65536,9,FALSE),VLOOKUP(A6,[1]データシート!$A$1:$I$65536,9,FALSE)&VLOOKUP(A6,[1]データシート!$A$1:$G$65536,4,FALSE))) -> 本町 | C6: =IF(B6="","",SUM(D6:E6)) -> 137 | D6: =IF(ISNA(VLOOKUP(A6,[1]データシート!$A$1:$G$65536,6,FALSE)),"",SUMIF([1]データシート!$A$1:$A$65536,[1]集計表!A6,[1]データシート!$F$1:$F$65536)) -> 70 | E6: =IF(ISNA(VLOOKUP(A6,[1]データシート!$A$1:$G$65536,7,FALSE)),"",SUMIF([1]データシート!$A$1:$A$65536,[1]集計表!A6,[1]データシート!$G$1:$G$65536)) -> 67 | F6: =IF(ISNA(VLOOKUP(A6,[1]データシート!$A$1:$G$65536,5,FALSE)),"",SUMIF([1]データシート!$A$1:$A$65536,[1]集計表!A6,[1]データシート!$E$1:$E$65536)) -> 70 | G6: 060002 | H6: =IF(ISNA(VLOOKUP(G6,[1]データシート!$A$1:$I$65536,9,FALSE)),"",IF(RIGHT(G6,3) = "000",VLOOKUP(G6,[1]データシート!$A$1:$I$65536,9,FALSE),VLOOKUP(G6,[1]データシート!$A$1:$I$65536,9,FALSE)&VLOOKUP(G6,[1]データシート!$A$1:$G$65536,4,FALSE))) -> 新渡場２丁目 | I6: =IF(H6="","",SUM(J6:K6)) -> 176 | J6: =IF(ISNA(VLOOKUP(G6,[1]データシート!$A$1:$G$65536,6,FALSE)),"",SUMIF([1]データシート!$A$1:$A$65536,[1]集計表!G6,[1]データシート!$F$1:$F$65536)) -> 97 | K6: =IF(ISNA(VLOOKUP(G6,[1]データシート!$A$1:$G$65536,7,FALSE)),"",SUMIF([1]データシート!$A$1:$A$65536,[1]集計表!G6,[1]データシート!$G$1:$G$65536)) -> 79 | L6: =IF(ISNA(VLOOKUP(G6,[1]データシート!$A$1:$G$65536,5,FALSE)),"",SUMIF([1]データシート!$A$1:$A$65536,[1]集計表!G6,[1]データシート!$E$1:$E$65536)) -> 88 | M6: 120000 | N6: =IF(ISNA(VLOOKUP(M6,[1]データシート!$A$1:$I$65536,9,FALSE)),"",IF(RIGHT(M6,3) = "000",VLOOKUP(M6,[1]データシート!$A$1:$I$65536,9,FALSE),VLOOKUP(M6,[1]データシート!$A$1:$I$65536,9,FALSE)&VLOOKUP(M6,[1]データシート!$A$1:$G$65536,4,FALSE))) -> 細池町 | O6: =IF(N6="","",SUM(P6:Q6)) -> 721 | P6: =IF(ISNA(VLOOKUP(M6,[1]データシート!$A$1:$G$65536,6,FALSE)),"",SUMIF([1]データシート!$A$1:$A$65536,[1]集計表!M6,[1]データシート!$F$1:$F$65536)) -> 367 | Q6: =IF(ISNA(VLOOKUP(M6,[1]データシート!$A$1:$G$65536,7,FALSE)),"",SUMIF([1]データシート!$A$1:$A$65536,[1]集計表!M6,[1]データシート!$G$1:$G$65536)) -> 354 | R6: =IF(ISNA(VLOOKUP(M6,[1]データシート!$A$1:$G$65536,5,FALSE)),"",SUMIF([1]データシート!$A$1:$A$65536,[1]集計表!M6,[1]データシート!$E$1:$E$65536)) -> 254 | S6: 150000 | T6: =IF(ISNA(VLOOKUP(S6,[1]データシート!$A$1:$I$65536,9,FALSE)),"",IF(RIGHT(S6,3) = "000",VLOOKUP(S6,[1]データシート!$A$1:$I$65536,9,FALSE),VLOOKUP(S6,[1]データシート!$A$1:$I$65536,9,FALSE)&VLOOKUP(S6,[1]データシート!$A$1:$G$65536,4,FALSE))) -> 一色町味浜 | U6: =IF(T6="","",SUM(V6:W6)) -> 2509 | V6: =IF(ISNA(VLOOKUP(S6,[1]データシート!$A$1:$G$65536,6,FALSE)),"",SUMIF([1]データシート!$A$1:$A$65536,[1]集計表!S6,[1]データシート!$F$1:$F$65536)) -> 1222 | W6: =IF(ISNA(VLOOKUP(S6,[1]データシート!$A$1:$G$65536,7,FALSE)),"",SUMIF([1]データシート!$A$1:$A$65536,[1]集計表!S6,[1]データシート!$G$1:$G$65536)) -> 1287 | X6: =IF(ISNA(VLOOKUP(S6,[1]データシート!$A$1:$G$65536,5,FALSE)),"",SUMIF([1]データシート!$A$1:$A$65536,[1]集計表!S6,[1]データシート!$E$1:$E$65536)) -> 1006
A7: 045000 | B7: =IF(ISNA(VLOOKUP(A7,[1]データシート!$A$1:$I$65536,9,FALSE)),"",IF(RIGHT(A7,3) = "000",VLOOKUP(A7,[1]データシート!$A$1:$I$65536,9,FALSE),VLOOKUP(A7,[1]データシート!$A$1:$I$65536,9,FALSE)&VLOOKUP(A7,[1]データシート!$A$1:$G$65536,4,FALSE))) -> 幸町 | C7: =IF(B7="","",SUM(D7:E7)) -> 37 | D7: =IF(ISNA(VLOOKUP(A7,[1]データシート!$A$1:$G$65536,6,FALSE)),"",SUMIF([1]データシート!$A$1:$A$65536,[1]集計表!A7,[1]データシート!$F$1:$F$65536)) -> 20 | E7: =IF(ISNA(VLOOKUP(A7,[1]データシート!$A$1:$G$65536,7,FALSE)),"",SUMIF([1]データシート!$A$1:$A$65536,[1]集計表!A7,[1]データシート!$G$1:$G$65536)) -> 17 | F7: =IF(ISNA(VLOOKUP(A7,[1]データシート!$A$1:$G$65536,5,FALSE)),"",SUMIF([1]データシート!$A$1:$A$65536,[1]集計表!A7,[1]データシート!$E$1:$E$65536)) -> 13 | G7: 005000 | H7: =IF(ISNA(VLOOKUP(G7,[1]データシート!$A$1:$I$65536,9,FALSE)),"",IF(RIGHT(G7,3) = "000",VLOOKUP(G7,[1]データシート!$A$1:$I$65536,9,FALSE),VLOOKUP(G7,[1]データシート!$A$1:$I$65536,9,FALSE)&VLOOKUP(G7,[1]データシート!$A$1:$G$65536,4,FALSE))) -> 伊藤町 | I7: =IF(H7="","",SUM(J7:K7)) -> 684 | J7: =IF(ISNA(VLOOKUP(G7,[1]データシート!$A$1:$G$65536,6,FALSE)),"",SUMIF([1]データシート!$A$1:$A$65536,[1]集計表!G7,[1]データシート!$F$1:$F$65536)) -> 346 | K7: =IF(ISNA(VLOOKUP(G7,[1]データシート!$A$1:$G$65536,7,FALSE)),"",SUMIF([1]データシート!$A$1:$A$65536,[1]集計表!G7,[1]データシート!$G$1:$G$65536)) -> 338 | L7: =IF(ISNA(VLOOKUP(G7,[1]データシート!$A$1:$G$65536,5,FALSE)),"",SUMIF([1]データシート!$A$1:$A$65536,[1]集計表!G7,[1]データシート!$E$1:$E$65536)) -> 301 | M7: 031000 | N7: =IF(ISNA(VLOOKUP(M7,[1]データシート!$A$1:$I$65536,9,FALSE)),"",IF(RIGHT(M7,3) = "000",VLOOKUP(M7,[1]データシート!$A$1:$I$65536,9,FALSE),VLOOKUP(M7,[1]データシート!$A$1:$I$65536,9,FALSE)&VLOOKUP(M7,[1]データシート!$A$1:$G$65536,4,FALSE))) -> 川口町 | O7: =IF(N7="","",SUM(P7:Q7)) -> 560 | P7: =IF(ISNA(VLOOKUP(M7,[1]データシート!$A$1:$G$65536,6,FALSE)),"",SUMIF([1]データシート!$A$1:$A$65536,[1]集計表!M7,[1]データシート!$F$1:$F$65536)) -> 273 | Q7: =IF(ISNA(VLOOKUP(M7,[1]データシート!$A$1:$G$65536,7,FALSE)),"",SUMIF([1]データシート!$A$1:$A$65536,[1]集計表!M7,[1]データシート!$G$1:$G$65536)) -> 287 | R7: =IF(ISNA(VLOOKUP(M7,[1]データシート!$A$1:$G$65536,5,FALSE)),"",SUMIF([1]データシート!$A$1:$A$65536,[1]集計表!M7,[1]データシート!$E$1:$E$65536)) -> 202 | S7: 151000 | T7: =IF(ISNA(VLOOKUP(S7,[1]データシート!$A$1:$I$65536,9,FALSE)),"",IF(RIGHT(S7,3) = "000",VLOOKUP(S7,[1]データシート!$A$1:$I$65536,9,FALSE),VLOOKUP(S7,[1]データシート!$A$1:$I$65536,9,FALSE)&VLOOKUP(S7,[1]データシート!$A$1:$G$65536,4,FALSE))) -> 一色町生田 | U7: =IF(T7="","",SUM(V7:W7)) -> 1037 | V7: =IF(ISNA(VLOOKUP(S7,[1]データシート!$A$1:$G$65536,6,FALSE)),"",SUMIF([1]データシート!$A$1:$A$65536,[1]集計表!S7,[1]データシート!$F$1:$F$65536)) -> 540 | W7: =IF(ISNA(VLOOKUP(S7,[1]データシート!$A$1:$G$65536,7,FALSE)),"",SUMIF([1]データシート!$A$1:$A$65536,[1]集計表!S7,[1]データシート!$G$1:$G$65536)) -> 497 | X7: =IF(ISNA(VLOOKUP(S7,[1]データシート!$A$1:$G$65536,5,FALSE)),"",SUMIF([1]データシート!$A$1:$A$65536,[1]集計表!S7,[1]データシート!$E$1:$E$65536)) -> 372
A8: 046000 | B8: =IF(ISNA(VLOOKUP(A8,[1]データシート!$A$1:$I$65536,9,FALSE)),"",IF(RIGHT(A8,3) = "000",VLOOKUP(A8,[1]データシート!$A$1:$I$65536,9,FALSE),VLOOKUP(A8,[1]データシート!$A$1:$I$65536,9,FALSE)&VLOOKUP(A8,[1]データシート!$A$1:$G$65536,4,FALSE))) -> 肴町 | C8: =IF(B8="","",SUM(D8:E8)) -> 73 | D8: =IF(ISNA(VLOOKUP(A8,[1]データシート!$A$1:$G$65536,6,FALSE)),"",SUMIF([1]データシート!$A$1:$A$65536,[1]集計表!A8,[1]データシート!$F$1:$F$65536)) -> 35 | E8: =IF(ISNA(VLOOKUP(A8,[1]データシート!$A$1:$G$65536,7,FALSE)),"",SUMIF([1]データシート!$A$1:$A$65536,[1]集計表!A8,[1]データシート!$G$1:$G$65536)) -> 38 | F8: =IF(ISNA(VLOOKUP(A8,[1]データシート!$A$1:$G$65536,5,FALSE)),"",SUMIF([1]データシート!$A$1:$A$65536,[1]集計表!A8,[1]データシート!$E$1:$E$65536)) -> 31 | G8: 148001 | H8: =IF(ISNA(VLOOKUP(G8,[1]データシート!$A$1:$I$65536,9,FALSE)),"",IF(RIGHT(G8,3) = "000",VLOOKUP(G8,[1]データシート!$A$1:$I$65536,9,FALSE),VLOOKUP(G8,[1]データシート!$A$1:$I$65536,9,FALSE)&VLOOKUP(G8,[1]データシート!$A$1:$G$65536,4,FALSE))) -> 伊藤１丁目 | I8: =IF(H8="","",SUM(J8:K8)) -> 353 | J8: =IF(ISNA(VLOOKUP(G8,[1]データシート!$A$1:$G$65536,6,FALSE)),"",SUMIF([1]データシート!$A$1:$A$65536,[1]集計表!G8,[1]データシート!$F$1:$F$65536)) -> 168 | K8: =IF(ISNA(VLOOKUP(G8,[1]データシート!$A$1:$G$65536,7,FALSE)),"",SUMIF([1]データシート!$A$1:$A$65536,[1]集計表!G8,[1]データシート!$G$1:$G$65536)) -> 185 | L8: =IF(ISNA(VLOOKUP(G8,[1]データシート!$A$1:$G$65536,5,FALSE)),"",SUMIF([1]データシート!$A$1:$A$65536,[1]集計表!G8,[1]データシート!$E$1:$E$65536)) -> 148 | M8: 117000 | N8: =IF(ISNA(VLOOKUP(M8,[1]データシート!$A$1:$I$65536,9,FALSE)),"",IF(RIGHT(M8,3) = "000",VLOOKUP(M8,[1]データシート!$A$1:$I$65536,9,FALSE),VLOOKUP(M8,[1]データシート!$A$1:$I$65536,9,FALSE)&VLOOKUP(M8,[1]データシート!$A$1:$G$65536,4,FALSE))) -> 深池町 | O8: =IF(N8="","",SUM(P8:Q8)) -> 263 | P8: =IF(ISNA(VLOOKUP(M8,[1]データシート!$A$1:$G$65536,6,FALSE)),"",SUMIF([1]データシート!$A$1:$A$65536,[1]集計表!M8,[1]データシート!$F$1:$F$65536)) -> 128 | Q8: =IF(ISNA(VLOOKUP(M8,[1]データシート!$A$1:$G$65536,7,FALSE)),"",SUMIF([1]データシート!$A$1:$A$65536,[1]集計表!M8,[1]データシート!$G$1:$G$65536)) -> 135 | R8: =IF(ISNA(VLOOKUP(M8,[1]データシート!$A$1:$G$65536,5,FALSE)),"",SUMIF([1]データシート!$A$1:$A$65536,[1]集計表!M8,[1]データシート!$E$1:$E$65536)) -> 98 | S8: 152000 | T8: =IF(ISNA(VLOOKUP(S8,[1]データシート!$A$1:$I$65536,9,FALSE)),"",IF(RIGHT(S8,3) = "000",VLOOKUP(S8,[1]データシート!$A$1:$I$65536,9,FALSE),VLOOKUP(S8,[1]データシート!$A$1:$I$65536,9,FALSE)&VLOOKUP(S8,[1]データシート!$A$1:$G$65536,4,FALSE))) -> 一色町池田 | U8: =IF(T8="","",SUM(V8:W8)) -> 684 | V8: =IF(ISNA(VLOOKUP(S8,[1]データシート!$A$1:$G$65536,6,FALSE)),"",SUMIF([1]データシート!$A$1:$A$65536,[1]集計表!S8,[1]データシート!$F$1:$F$65536)) -> 335 | W8: =IF(ISNA(VLOOKUP(S8,[1]データシート!$A$1:$G$65536,7,FALSE)),"",SUMIF([1]データシート!$A$1:$A$65536,[1]集計表!S8,[1]データシート!$G$1:$G$65536)) -> 349 | X8: =IF(ISNA(VLOOKUP(S8,[1]データシート!$A$1:$G$65536,5,FALSE)),"",SUMIF([1]データシート!$A$1:$A$65536,[1]集計表!S8,[1]データシート!$E$1:$E$65536)) -> 242
A9: 089000 | B9: =IF(ISNA(VLOOKUP(A9,[1]データシート!$A$1:$I$65536,9,FALSE)),"",IF(RIGHT(A9,3) = "000",VLOOKUP(A9,[1]データシート!$A$1:$I$65536,9,FALSE),VLOOKUP(A9,[1]データシート!$A$1:$I$65536,9,FALSE)&VLOOKUP(A9,[1]データシート!$A$1:$G$65536,4,FALSE))) -> 天王町 | C9: =IF(B9="","",SUM(D9:E9)) -> 108 | D9: =IF(ISNA(VLOOKUP(A9,[1]データシート!$A$1:$G$65536,6,FALSE)),"",SUMIF([1]データシート!$A$1:$A$65536,[1]集計表!A9,[1]データシート!$F$1:$F$65536)) -> 45 | E9: =IF(ISNA(VLOOKUP(A9,[1]データシート!$A$1:$G$65536,7,FALSE)),"",SUMIF([1]データシート!$A$1:$A$65536,[1]集計表!A9,[1]データシート!$G$1:$G$65536)) -> 63 | F9: =IF(ISNA(VLOOKUP(A9,[1]データシート!$A$1:$G$65536,5,FALSE)),"",SUMIF([1]データシート!$A$1:$A$65536,[1]集計表!A9,[1]データシート!$E$1:$E$65536)) -> 46 | G9: 148002 | H9: =IF(ISNA(VLOOKUP(G9,[1]データシート!$A$1:$I$65536,9,FALSE)),"",IF(RIGHT(G9,3) = "000",VLOOKUP(G9,[1]データシート!$A$1:$I$65536,9,FALSE),VLOOKUP(G9,[1]データシート!$A$1:$I$65536,9,FALSE)&VLOOKUP(G9,[1]データシート!$A$1:$G$65536,4,FALSE))) -> 伊藤２丁目 | I9: =IF(H9="","",SUM(J9:K9)) -> 195 | J9: =IF(ISNA(VLOOKUP(G9,[1]データシート!$A$1:$G$65536,6,FALSE)),"",SUMIF([1]データシート!$A$1:$A$65536,[1]集計表!G9,[1]データシート!$F$1:$F$65536)) -> 91 | K9: =IF(ISNA(VLOOKUP(G9,[1]データシート!$A$1:$G$65536,7,FALSE)),"",SUMIF([1]データシート!$A$1:$A$65536,[1]集計表!G9,[1]データシート!$G$1:$G$65536)) -> 104 | L9: =IF(ISNA(VLOOKUP(G9,[1]データシート!$A$1:$G$65536,5,FALSE)),"",SUMIF([1]データシート!$A$1:$A$65536,[1]集計表!G9,[1]データシート!$E$1:$E$65536)) -> 78 | M9: 114000 | N9: =IF(ISNA(VLOOKUP(M9,[1]データシート!$A$1:$I$65536,9,FALSE)),"",IF(RIGHT(M9,3) = "000",VLOOKUP(M9,[1]データシート!$A$1:$I$65536,9,FALSE),VLOOKUP(M9,[1]データシート!$A$1:$I$65536,9,FALSE)&VLOOKUP(M9,[1]データシート!$A$1:$G$65536,4,FALSE))) -> 菱池町 | O9: =IF(N9="","",SUM(P9:Q9)) -> 469 | P9: =IF(ISNA(VLOOKUP(M9,[1]データシート!$A$1:$G$65536,6,FALSE)),"",SUMIF([1]データシート!$A$1:$A$65536,[1]集計表!M9,[1]データシート!$F$1:$F$65536)) -> 235 | Q9: =IF(ISNA(VLOOKUP(M9,[1]データシート!$A$1:$G$65536,7,FALSE)),"",SUMIF([1]データシート!$A$1:$A$65536,[1]集計表!M9,[1]データシート!$G$1:$G$65536)) -> 234 | R9: =IF(ISNA(VLOOKUP(M9,[1]データシート!$A$1:$G$65536,5,FALSE)),"",SUMIF([1]データシート!$A$1:$A$65536,[1]集計表!M9,[1]データシート!$E$1:$E$65536)) -> 181 | S9: 153000 | T9: =IF(ISNA(VLOOKUP(S9,[1]データシート!$A$1:$I$65536,9,FALSE)),"",IF(RIGHT(S9,3) = "000",VLOOKUP(S9,[1]データシート!$A$1:$I$65536,9,FALSE),VLOOKUP(S9,[1]データシート!$A$1:$I$65536,9,FALSE)&VLOOKUP(S9,[1]データシート!$A$1:$G$65536,4,FALSE))) -> 一色町一色 | U9: =IF(T9="","",SUM(V9:W9)) -> 5978 | V9: =IF(ISNA(VLOOKUP(S9,[1]データシート!$A$1:$G$65536,6,FALSE)),"",SUMIF([1]データシート!$A$1:$A$65536,[1]集計表!S9,[1]データシート!$F$1:$F$65536)) -> 3033 | W9: =IF(ISNA(VLOOKUP(S9,[1]データシート!$A$1:$G$65536,7,FALSE)),"",SUMIF([1]データシート!$A$1:$A$65536,[1]集計表!S9,[1]データシート!$G$1:$G$65536)) -> 2945 | X9: =IF(ISNA(VLOOKUP(S9,[1]データシート!$A$1:$G$65536,5,FALSE)),"",SUMIF([1]データシート!$A$1:$A$65536,[1]集計表!S9,[1]データシート!$E$1:$E$65536)) -> 2491
A10: 100000 | B10: =IF(ISNA(VLOOKUP(A10,[1]データシート!$A$1:$I$65536,9,FALSE)),"",IF(RIGHT(A10,3) = "000",VLOOKUP(A10,[1]データシート!$A$1:$I$65536,9,FALSE),VLOOKUP(A10,[1]データシート!$A$1:$I$65536,9,FALSE)&VLOOKUP(A10,[1]データシート!$A$1:$G$65536,4,FALSE))) -> 中町 | C10: =IF(B10="","",SUM(D10:E10)) -> 168 | D10: =IF(ISNA(VLOOKUP(A10,[1]データシート!$A$1:$G$65536,6,FALSE)),"",SUMIF([1]データシート!$A$1:$A$65536,[1]集計表!A10,[1]データシート!$F$1:$F$65536)) -> 82 | E10: =IF(ISNA(VLOOKUP(A10,[1]データシート!$A$1:$G$65536,7,FALSE)),"",SUMIF([1]データシート!$A$1:$A$65536,[1]集計表!A10,[1]データシート!$G$1:$G$65536)) -> 86 | F10: =IF(ISNA(VLOOKUP(A10,[1]データシート!$A$1:$G$65536,5,FALSE)),"",SUMIF([1]データシート!$A$1:$A$65536,[1]集計表!A10,[1]データシート!$E$1:$E$65536)) -> 76 | G10: 148003 | H10: =IF(ISNA(VLOOKUP(G10,[1]データシート!$A$1:$I$65536,9,FALSE)),"",IF(RIGHT(G10,3) = "000",VLOOKUP(G10,[1]データシート!$A$1:$I$65536,9,FALSE),VLOOKUP(G10,[1]データシート!$A$1:$I$65536,9,FALSE)&VLOOKUP(G10,[1]データシート!$A$1:$G$65536,4,FALSE))) -> 伊藤３丁目 | I10: =IF(H10="","",SUM(J10:K10)) -> 424 | J10: =IF(ISNA(VLOOKUP(G10,[1]データシート!$A$1:$G$65536,6,FALSE)),"",SUMIF([1]データシート!$A$1:$A$65536,[1]集計表!G10,[1]データシート!$F$1:$F$65536)) -> 222 | K10: =IF(ISNA(VLOOKUP(G10,[1]データシート!$A$1:$G$65536,7,FALSE)),"",SUMIF([1]データシート!$A$1:$A$65536,[1]集計表!G10,[1]データシート!$G$1:$G$65536)) -> 202 | L10: =IF(ISNA(VLOOKUP(G10,[1]データシート!$A$1:$G$65536,5,FALSE)),"",SUMIF([1]データシート!$A$1:$A$65536,[1]集計表!G10,[1]データシート!$E$1:$E$65536)) -> 181 | M10: 072000 | N10: =IF(ISNA(VLOOKUP(M10,[1]データシート!$A$1:$I$65536,9,FALSE)),"",IF(RIGHT(M10,3) = "000",VLOOKUP(M10,[1]データシート!$A$1:$I$65536,9,FALSE),VLOOKUP(M10,[1]データシート!$A$1:$I$65536,9,FALSE)&VLOOKUP(M10,[1]データシート!$A$1:$G$65536,4,FALSE))) -> 須脇町 | O10: =IF(N10="","",SUM(P10:Q10)) -> 182 | P10: =IF(ISNA(VLOOKUP(M10,[1]データシート!$A$1:$G$65536,6,FALSE)),"",SUMIF([1]データシート!$A$1:$A$65536,[1]集計表!M10,[1]データシート!$F$1:$F$65536)) -> 94 | Q10: =IF(ISNA(VLOOKUP(M10,[1]データシート!$A$1:$G$65536,7,FALSE)),"",SUMIF([1]データシート!$A$1:$A$65536,[1]集計表!M10,[1]データシート!$G$1:$G$65536)) -> 88 | R10: =IF(ISNA(VLOOKUP(M10,[1]データシート!$A$1:$G$65536,5,FALSE)),"",SUMIF([1]データシート!$A$1:$A$65536,[1]集計表!M10,[1]データシート!$E$1:$E$65536)) -> 64 | S10: 154000 | T10: =IF(ISNA(VLOOKUP(S10,[1]データシート!$A$1:$I$65536,9,FALSE)),"",IF(RIGHT(S10,3) = "000",VLOOKUP(S10,[1]データシート!$A$1:$I$65536,9,FALSE),VLOOKUP(S10,[1]データシート!$A$1:$I$65536,9,FALSE)&VLOOKUP(S10,[1]データシート!$A$1:$G$65536,4,FALSE))) -> 一色町大塚 | U10: =IF(T10="","",SUM(V10:W10)) -> 852 | V10: =IF(ISNA(VLOOKUP(S10,[1]データシート!$A$1:$G$65536,6,FALSE)),"",SUMIF([1]データシート!$A$1:$A$65536,[1]集計表!S10,[1]データシート!$F$1:$F$65536)) -> 441 | W10: =IF(ISNA(VLOOKUP(S10,[1]データシート!$A$1:$G$65536,7,FALSE)),"",SUMIF([1]データシート!$A$1:$A$65536,[1]集計表!S10,[1]データシート!$G$1:$G$65536)) -> 411 | X10: =IF(ISNA(VLOOKUP(S10,[1]データシート!$A$1:$G$65536,5,FALSE)),"",SUMIF([1]データシート!$A$1:$A$65536,[1]集計表!S10,[1]データシート!$E$1:$E$65536)) -> 316
A11: 034000 | B11: =IF(ISNA(VLOOKUP(A11,[1]データシート!$A$1:$I$65536,9,FALSE)),"",IF(RIGHT(A11,3) = "000",VLOOKUP(A11,[1]データシート!$A$1:$I$65536,9,FALSE),VLOOKUP(A11,[1]データシート!$A$1:$I$65536,9,FALSE)&VLOOKUP(A11,[1]データシート!$A$1:$G$65536,4,FALSE))) -> 錦城町 | C11: =IF(B11="","",SUM(D11:E11)) -> 329 | D11: =IF(ISNA(VLOOKUP(A11,[1]データシート!$A$1:$G$65536,6,FALSE)),"",SUMIF([1]データシート!$A$1:$A$65536,[1]集計表!A11,[1]データシート!$F$1:$F$65536)) -> 165 | E11: =IF(ISNA(VLOOKUP(A11,[1]データシート!$A$1:$G$65536,7,FALSE)),"",SUMIF([1]データシート!$A$1:$A$65536,[1]集計表!A11,[1]データシート!$G$1:$G$65536)) -> 164 | F11: =IF(ISNA(VLOOKUP(A11,[1]データシート!$A$1:$G$65536,5,FALSE)),"",SUMIF([1]データシート!$A$1:$A$65536,[1]集計表!A11,[1]データシート!$E$1:$E$65536)) -> 157 | G11: 148004 | H11: =IF(ISNA(VLOOKUP(G11,[1]データシート!$A$1:$I$65536,9,FALSE)),"",IF(RIGHT(G11,3) = "000",VLOOKUP(G11,[1]データシート!$A$1:$I$65536,9,FALSE),VLOOKUP(G11,[1]データシート!$A$1:$I$65536,9,FALSE)&VLOOKUP(G11,[1]データシート!$A$1:$G$65536,4,FALSE))) -> 伊藤４丁目 | I11: =IF(H11="","",SUM(J11:K11)) -> 608 | J11: =IF(ISNA(VLOOKUP(G11,[1]データシート!$A$1:$G$65536,6,FALSE)),"",SUMIF([1]データシート!$A$1:$A$65536,[1]集計表!G11,[1]データシート!$F$1:$F$65536)) -> 307 | K11: =IF(ISNA(VLOOKUP(G11,[1]データシート!$A$1:$G$65536,7,FALSE)),"",SUMIF([1]データシート!$A$1:$A$65536,[1]集計表!G11,[1]データシート!$G$1:$G$65536)) -> 301 | L11: =IF(ISNA(VLOOKUP(G11,[1]データシート!$A$1:$G$65536,5,FALSE)),"",SUMIF([1]データシート!$A$1:$A$65536,[1]集計表!G11,[1]データシート!$E$1:$E$65536)) -> 240 | M11: 044000 | N11: =IF(ISNA(VLOOKUP(M11,[1]データシート!$A$1:$I$65536,9,FALSE)),"",IF(RIGHT(M11,3) = "000",VLOOKUP(M11,[1]データシート!$A$1:$I$65536,9,FALSE),VLOOKUP(M11,[1]データシート!$A$1:$I$65536,9,FALSE)&VLOOKUP(M11,[1]データシート!$A$1:$G$65536,4,FALSE))) -> 斉藤町 | O11: =IF(N11="","",SUM(P11:Q11)) -> 375 | P11: =IF(ISNA(VLOOKUP(M11,[1]データシート!$A$1:$G$65536,6,FALSE)),"",SUMIF([1]データシート!$A$1:$A$65536,[1]集計表!M11,[1]データシート!$F$1:$F$65536)) -> 177 | Q11: =IF(ISNA(VLOOKUP(M11,[1]データシート!$A$1:$G$65536,7,FALSE)),"",SUMIF([1]データシート!$A$1:$A$65536,[1]集計表!M11,[1]データシート!$G$1:$G$65536)) -> 198 | R11: =IF(ISNA(VLOOKUP(M11,[1]データシート!$A$1:$G$65536,5,FALSE)),"",SUMIF([1]データシート!$A$1:$A$65536,[1]集計表!M11,[1]データシート!$E$1:$E$65536)) -> 131 | S11: 155000 | T11: =IF(ISNA(VLOOKUP(S11,[1]データシート!$A$1:$I$65536,9,FALSE)),"",IF(RIGHT(S11,3) = "000",VLOOKUP(S11,[1]データシート!$A$1:$I$65536,9,FALSE),VLOOKUP(S11,[1]データシート!$A$1:$I$65536,9,FALSE)&VLOOKUP(S11,[1]データシート!$A$1:$G$65536,4,FALSE))) -> 一色町開正 | U11: =IF(T11="","",SUM(V11:W11)) -> 941 | V11: =IF(ISNA(VLOOKUP(S11,[1]データシート!$A$1:$G$65536,6,FALSE)),"",SUMIF([1]データシート!$A$1:$A$65536,[1]集計表!S11,[1]データシート!$F$1:$F$65536)) -> 452 | W11: =IF(ISNA(VLOOKUP(S11,[1]データシート!$A$1:$G$65536,7,FALSE)),"",SUMIF([1]データシート!$A$1:$A$65536,[1]集計表!S11,[1]データシート!$G$1:$G$65536)) -> 489 | X11: =IF(ISNA(VLOOKUP(S11,[1]データシート!$A$1:$G$65536,5,FALSE)),"",SUMIF([1]データシート!$A$1:$A$65536,[1]集計表!S11,[1]データシート!$E$1:$E$65536)) -> 363
A12: 001000 | B12: =IF(ISNA(VLOOKUP(A12,[1]データシート!$A$1:$I$65536,9,FALSE)),"",IF(RIGHT(A12,3) = "000",VLOOKUP(A12,[1]データシート!$A$1:$I$65536,9,FALSE),VLOOKUP(A12,[1]データシート!$A$1:$I$65536,9,FALSE)&VLOOKUP(A12,[1]データシート!$A$1:$G$65536,4,FALSE))) -> 葵町 | C12: =IF(B12="","",SUM(D12:E12)) -> 304 | D12: =IF(ISNA(VLOOKUP(A12,[1]データシート!$A$1:$G$65536,6,FALSE)),"",SUMIF([1]データシート!$A$1:$A$65536,[1]集計表!A12,[1]データシート!$F$1:$F$65536)) -> 155 | E12: =IF(ISNA(VLOOKUP(A12,[1]データシート!$A$1:$G$65536,7,FALSE)),"",SUMIF([1]データシート!$A$1:$A$65536,[1]集計表!A12,[1]データシート!$G$1:$G$65536)) -> 149 | F12: =IF(ISNA(VLOOKUP(A12,[1]データシート!$A$1:$G$65536,5,FALSE)),"",SUMIF([1]データシート!$A$1:$A$65536,[1]集計表!A12,[1]データシート!$E$1:$E$65536)) -> 135 | G12: 148005 | H12: =IF(ISNA(VLOOKUP(G12,[1]データシート!$A$1:$I$65536,9,FALSE)),"",IF(RIGHT(G12,3) = "000",VLOOKUP(G12,[1]データシート!$A$1:$I$65536,9,FALSE),VLOOKUP(G12,[1]データシート!$A$1:$I$65536,9,FALSE)&VLOOKUP(G12,[1]データシート!$A$1:$G$65536,4,FALSE))) -> 伊藤５丁目 | I12: =IF(H12="","",SUM(J12:K12)) -> 331 | J12: =IF(ISNA(VLOOKUP(G12,[1]データシート!$A$1:$G$65536,6,FALSE)),"",SUMIF([1]データシート!$A$1:$A$65536,[1]集計表!G12,[1]データシート!$F$1:$F$65536)) -> 160 | K12: =IF(ISNA(VLOOKUP(G12,[1]データシート!$A$1:$G$65536,7,FALSE)),"",SUMIF([1]データシート!$A$1:$A$65536,[1]集計表!G12,[1]データシート!$G$1:$G$65536)) -> 171 | L12: =IF(ISNA(VLOOKUP(G12,[1]データシート!$A$1:$G$65536,5,FALSE)),"",SUMIF([1]データシート!$A$1:$A$65536,[1]集計表!G12,[1]データシート!$E$1:$E$65536)) -> 137 | M12: 103000 | N12: =IF(ISNA(VLOOKUP(M12,[1]データシート!$A$1:$I$65536,9,FALSE)),"",IF(RIGHT(M12,3) = "000",VLOOKUP(M12,[1]データシート!$A$1:$I$65536,9,FALSE),VLOOKUP(M12,[1]データシート!$A$1:$I$65536,9,FALSE)&VLOOKUP(M12,[1]データシート!$A$1:$G$65536,4,FALSE))) -> 熱池町 | O12: =IF(N12="","",SUM(P12:Q12)) -> 385 | P12: =IF(ISNA(VLOOKUP(M12,[1]データシート!$A$1:$G$65536,6,FALSE)),"",SUMIF([1]データシート!$A$1:$A$65536,[1]集計表!M12,[1]データシート!$F$1:$F$65536)) -> 189 | Q12: =IF(ISNA(VLOOKUP(M12,[1]データシート!$A$1:$G$65536,7,FALSE)),"",SUMIF([1]データシート!$A$1:$A$65536,[1]集計表!M12,[1]データシート!$G$1:$G$65536)) -> 196 | R12: =IF(ISNA(VLOOKUP(M12,[1]データシート!$A$1:$G$65536,5,FALSE)),"",SUMIF([1]データシート!$A$1:$A$65536,[1]集計表!M12,[1]データシート!$E$1:$E$65536)) -> 166 | S12: 156000 | T12: =IF(ISNA(VLOOKUP(S12,[1]データシート!$A$1:$I$65536,9,FALSE)),"",IF(RIGHT(S12,3) = "000",VLOOKUP(S12,[1]データシート!$A$1:$I$65536,9,FALSE),VLOOKUP(S12,[1]データシート!$A$1:$I$65536,9,FALSE)&VLOOKUP(S12,[1]データシート!$A$1:$G$65536,4,FALSE))) -> 一色町小薮 | U12: =IF(T12="","",SUM(V12:W12)) -> 96 | V12: =IF(ISNA(VLOOKUP(S12,[1]データシート!$A$1:$G$65536,6,FALSE)),"",SUMIF([1]データシート!$A$1:$A$65536,[1]集計表!S12,[1]データシート!$F$1:$F$65536)) -> 55 | W12: =IF(ISNA(VLOOKUP(S12,[1]データシート!$A$1:$G$65536,7,FALSE)),"",SUMIF([1]データシート!$A$1:$A$65536,[1]集計表!S12,[1]データシート!$G$1:$G$65536)) -> 41 | X12: =IF(ISNA(VLOOKUP(S12,[1]データシート!$A$1:$G$65536,5,FALSE)),"",SUMIF([1]データシート!$A$1:$A$65536,[1]集計表!S12,[1]データシート!$E$1:$E$65536)) -> 38
A13: 050000 | B13: =IF(ISNA(VLOOKUP(A13,[1]データシート!$A$1:$I$65536,9,FALSE)),"",IF(RIGHT(A13,3) = "000",VLOOKUP(A13,[1]データシート!$A$1:$I$65536,9,FALSE),VLOOKUP(A13,[1]データシート!$A$1:$I$65536,9,FALSE)&VLOOKUP(A13,[1]データシート!$A$1:$G$65536,4,FALSE))) -> 塩町 | C13: =IF(B13="","",SUM(D13:E13)) -> 63 | D13: =IF(ISNA(VLOOKUP(A13,[1]データシート!$A$1:$G$65536,6,FALSE)),"",SUMIF([1]データシート!$A$1:$A$65536,[1]集計表!A13,[1]データシート!$F$1:$F$65536)) -> 30 | E13: =IF(ISNA(VLOOKUP(A13,[1]データシート!$A$1:$G$65536,7,FALSE)),"",SUMIF([1]データシート!$A$1:$A$65536,[1]集計表!A13,[1]データシート!$G$1:$G$65536)) -> 33 | F13: =IF(ISNA(VLOOKUP(A13,[1]データシート!$A$1:$G$65536,5,FALSE)),"",SUMIF([1]データシート!$A$1:$A$65536,[1]集計表!A13,[1]データシート!$E$1:$E$65536)) -> 28 | G13: 091000 | H13: =IF(ISNA(VLOOKUP(G13,[1]データシート!$A$1:$I$65536,9,FALSE)),"",IF(RIGHT(G13,3) = "000",VLOOKUP(G13,[1]データシート!$A$1:$I$65536,9,FALSE),VLOOKUP(G13,[1]データシート!$A$1:$I$65536,9,FALSE)&VLOOKUP(G13,[1]データシート!$A$1:$G$65536,4,FALSE))) -> 戸ケ崎町 | I13: =IF(H13="","",SUM(J13:K13)) -> 276 | J13: =IF(ISNA(VLOOKUP(G13,[1]データシート!$A$1:$G$65536,6,FALSE)),"",SUMIF([1]データシート!$A$1:$A$65536,[1]集計表!G13,[1]データシート!$F$1:$F$65536)) -> 123 | K13: =IF(ISNA(VLOOKUP(G13,[1]データシート!$A$1:$G$65536,7,FALSE)),"",SUMIF([1]データシート!$A$1:$A$65536,[1]集計表!G13,[1]データシート!$G$1:$G$65536)) -> 153 | L13: =IF(ISNA(VLOOKUP(G13,[1]データシート!$A$1:$G$65536,5,FALSE)),"",SUMIF([1]データシート!$A$1:$A$65536,[1]集計表!G13,[1]データシート!$E$1:$E$65536)) -> 101 | M13: 101000 | N13: =IF(ISNA(VLOOKUP(M13,[1]データシート!$A$1:$I$65536,9,FALSE)),"",IF(RIGHT(M13,3) = "000",VLOOKUP(M13,[1]データシート!$A$1:$I$65536,9,FALSE),VLOOKUP(M13,[1]データシート!$A$1:$I$65536,9,FALSE)&VLOOKUP(M13,[1]データシート!$A$1:$G$65536,4,FALSE))) -> 長縄町 | O13: =IF(N13="","",SUM(P13:Q13)) -> 142 | P13: =IF(ISNA(VLOOKUP(M13,[1]データシート!$A$1:$G$65536,6,FALSE)),"",SUMIF([1]データシート!$A$1:$A$65536,[1]集計表!M13,[1]データシート!$F$1:$F$65536)) -> 65 | Q13: =IF(ISNA(VLOOKUP(M13,[1]データシート!$A$1:$G$65536,7,FALSE)),"",SUMIF([1]データシート!$A$1:$A$65536,[1]集計表!M13,[1]データシート!$G$1:$G$65536)) -> 77 | R13: =IF(ISNA(VLOOKUP(M13,[1]データシート!$A$1:$G$65536,5,FALSE)),"",SUMIF([1]データシート!$A$1:$A$65536,[1]集計表!M13,[1]データシート!$E$1:$E$65536)) -> 63 | S13: 157000 | T13: =IF(ISNA(VLOOKUP(S13,[1]データシート!$A$1:$I$65536,9,FALSE)),"",IF(RIGHT(S13,3) = "000",VLOOKUP(S13,[1]データシート!$A$1:$I$65536,9,FALSE),VLOOKUP(S13,[1]データシート!$A$1:$I$65536,9,FALSE)&VLOOKUP(S13,[1]データシート!$A$1:$G$65536,4,FALSE))) -> 一色町坂田新田 | U13: =IF(T13="","",SUM(V13:W13)) -> 47 | V13: =IF(ISNA(VLOOKUP(S13,[1]データシート!$A$1:$G$65536,6,FALSE)),"",SUMIF([1]データシート!$A$1:$A$65536,[1]集計表!S13,[1]データシート!$F$1:$F$65536)) -> 20 | W13: =IF(ISNA(VLOOKUP(S13,[1]データシート!$A$1:$G$65536,7,FALSE)),"",SUMIF([1]データシート!$A$1:$A$65536,[1]集計表!S13,[1]データシート!$G$1:$G$65536)) -> 27 | X13: =IF(ISNA(VLOOKUP(S13,[1]データシート!$A$1:$G$65536,5,FALSE)),"",SUMIF([1]データシート!$A$1:$A$65536,[1]集計表!S13,[1]データシート!$E$1:$E$65536)) -> 22
A14: 122000 | B14: =IF(ISNA(VLOOKUP(A14,[1]データシート!$A$1:$I$65536,9,FALSE)),"",IF(RIGHT(A14,3) = "000",VLOOKUP(A14,[1]データシート!$A$1:$I$65536,9,FALSE),VLOOKUP(A14,[1]データシート!$A$1:$I$65536,9,FALSE)&VLOOKUP(A14,[1]データシート!$A$1:$G$65536,4,FALSE))) -> 満全町 | C14: =IF(B14="","",SUM(D14:E14)) -> 47 | D14: =IF(ISNA(VLOOKUP(A14,[1]データシート!$A$1:$G$65536,6,FALSE)),"",SUMIF([1]データシート!$A$1:$A$65536,[1]集計表!A14,[1]データシート!$F$1:$F$65536)) -> 23 | E14: =IF(ISNA(VLOOKUP(A14,[1]データシート!$A$1:$G$65536,7,FALSE)),"",SUMIF([1]データシート!$A$1:$A$65536,[1]集計表!A14,[1]データシート!$G$1:$G$65536)) -> 24 | F14: =IF(ISNA(VLOOKUP(A14,[1]データシート!$A$1:$G$65536,5,FALSE)),"",SUMIF([1]データシート!$A$1:$A$65536,[1]集計表!A14,[1]データシート!$E$1:$E$65536)) -> 24 | G14: 090001 | H14: =IF(ISNA(VLOOKUP(G14,[1]データシート!$A$1:$I$65536,9,FALSE)),"",IF(RIGHT(G14,3) = "000",VLOOKUP(G14,[1]データシート!$A$1:$I$65536,9,FALSE),VLOOKUP(G14,[1]データシート!$A$1:$I$65536,9,FALSE)&VLOOKUP(G14,[1]データシート!$A$1:$G$65536,4,FALSE))) -> 戸ケ崎１丁目 | I14: =IF(H14="","",SUM(J14:K14)) -> 232 | J14: =IF(ISNA(VLOOKUP(G14,[1]データシート!$A$1:$G$65536,6,FALSE)),"",SUMIF([1]データシート!$A$1:$A$65536,[1]集計表!G14,[1]データシート!$F$1:$F$65536)) -> 122 | K14: =IF(ISNA(VLOOKUP(G14,[1]データシート!$A$1:$G$65536,7,FALSE)),"",SUMIF([1]データシート!$A$1:$A$65536,[1]集計表!G14,[1]データシート!$G$1:$G$65536)) -> 110 | L14: =IF(ISNA(VLOOKUP(G14,[1]データシート!$A$1:$G$65536,5,FALSE)),"",SUMIF([1]データシート!$A$1:$A$65536,[1]集計表!G14,[1]データシート!$E$1:$E$65536)) -> 105 | M14: 024000 | N14: =IF(ISNA(VLOOKUP(M14,[1]データシート!$A$1:$I$65536,9,FALSE)),"",IF(RIGHT(M14,3) = "000",VLOOKUP(M14,[1]データシート!$A$1:$I$65536,9,FALSE),VLOOKUP(M14,[1]データシート!$A$1:$I$65536,9,FALSE)&VLOOKUP(M14,[1]データシート!$A$1:$G$65536,4,FALSE))) -> 上道目記町 | O14: =IF(N14="","",SUM(P14:Q14)) -> 553 | P14: =IF(ISNA(VLOOKUP(M14,[1]データシート!$A$1:$G$65536,6,FALSE)),"",SUMIF([1]データシート!$A$1:$A$65536,[1]集計表!M14,[1]データシート!$F$1:$F$65536)) -> 283 | Q14: =IF(ISNA(VLOOKUP(M14,[1]データシート!$A$1:$G$65536,7,FALSE)),"",SUMIF([1]データシート!$A$1:$A$65536,[1]集計表!M14,[1]データシート!$G$1:$G$65536)) -> 270 | R14: =IF(ISNA(VLOOKUP(M14,[1]データシート!$A$1:$G$65536,5,FALSE)),"",SUMIF([1]データシート!$A$1:$A$65536,[1]集計表!M14,[1]データシート!$E$1:$E$65536)) -> 211 | S14: 158000 | T14: =IF(ISNA(VLOOKUP(S14,[1]データシート!$A$1:$I$65536,9,FALSE)),"",IF(RIGHT(S14,3) = "000",VLOOKUP(S14,[1]データシート!$A$1:$I$65536,9,FALSE),VLOOKUP(S14,[1]データシート!$A$1:$I$65536,9,FALSE)&VLOOKUP(S14,[1]データシート!$A$1:$G$65536,4,FALSE))) -> 一色町酒手島 | U14: =IF(T14="","",SUM(V14:W14)) -> 750 | V14: =IF(ISNA(VLOOKUP(S14,[1]データシート!$A$1:$G$65536,6,FALSE)),"",SUMIF([1]データシート!$A$1:$A$65536,[1]集計表!S14,[1]データシート!$F$1:$F$65536)) -> 369 | W14: =IF(ISNA(VLOOKUP(S14,[1]データシート!$A$1:$G$65536,7,FALSE)),"",SUMIF([1]データシート!$A$1:$A$65536,[1]集計表!S14,[1]データシート!$G$1:$G$65536)) -> 381 | X14: =IF(ISNA(VLOOKUP(S14,[1]データシート!$A$1:$G$65536,5,FALSE)),"",SUMIF([1]データシート!$A$1:$A$65536,[1]集計表!S14,[1]データシート!$E$1:$E$65536)) -> 269
A15: 020000 | B15: =IF(ISNA(VLOOKUP(A15,[1]データシート!$A$1:$I$65536,9,FALSE)),"",IF(RIGHT(A15,3) = "000",VLOOKUP(A15,[1]データシート!$A$1:$I$65536,9,FALSE),VLOOKUP(A15,[1]データシート!$A$1:$I$65536,9,FALSE)&VLOOKUP(A15,[1]データシート!$A$1:$G$65536,4,FALSE))) -> 会生町 | C15: =IF(B15="","",SUM(D15:E15)) -> 94 | D15: =IF(ISNA(VLOOKUP(A15,[1]データシート!$A$1:$G$65536,6,FALSE)),"",SUMIF([1]データシート!$A$1:$A$65536,[1]集計表!A15,[1]データシート!$F$1:$F$65536)) -> 48 | E15: =IF(ISNA(VLOOKUP(A15,[1]データシート!$A$1:$G$65536,7,FALSE)),"",SUMIF([1]データシート!$A$1:$A$65536,[1]集計表!A15,[1]データシート!$G$1:$G$65536)) -> 46 | F15: =IF(ISNA(VLOOKUP(A15,[1]データシート!$A$1:$G$65536,5,FALSE)),"",SUMIF([1]データシート!$A$1:$A$65536,[1]集計表!A15,[1]データシート!$E$1:$E$65536)) -> 49 | G15: 090002 | H15: =IF(ISNA(VLOOKUP(G15,[1]データシート!$A$1:$I$65536,9,FALSE)),"",IF(RIGHT(G15,3) = "000",VLOOKUP(G15,[1]データシート!$A$1:$I$65536,9,FALSE),VLOOKUP(G15,[1]データシート!$A$1:$I$65536,9,FALSE)&VLOOKUP(G15,[1]データシート!$A$1:$G$65536,4,FALSE))) -> 戸ケ崎２丁目 | I15: =IF(H15="","",SUM(J15:K15)) -> 769 | J15: =IF(ISNA(VLOOKUP(G15,[1]データシート!$A$1:$G$65536,6,FALSE)),"",SUMIF([1]データシート!$A$1:$A$65536,[1]集計表!G15,[1]データシート!$F$1:$F$65536)) -> 398 | K15: =IF(ISNA(VLOOKUP(G15,[1]データシート!$A$1:$G$65536,7,FALSE)),"",SUMIF([1]データシート!$A$1:$A$65536,[1]集計表!G15,[1]データシート!$G$1:$G$65536)) -> 371 | L15: =IF(ISNA(VLOOKUP(G15,[1]データシート!$A$1:$G$65536,5,FALSE)),"",SUMIF([1]データシート!$A$1:$A$65536,[1]集計表!G15,[1]データシート!$E$1:$E$65536)) -> 346 | M15: 053000 | N15: =IF(ISNA(VLOOKUP(M15,[1]データシート!$A$1:$I$65536,9,FALSE)),"",IF(RIGHT(M15,3) = "000",VLOOKUP(M15,[1]データシート!$A$1:$I$65536,9,FALSE),VLOOKUP(M15,[1]データシート!$A$1:$I$65536,9,FALSE)&VLOOKUP(M15,[1]データシート!$A$1:$G$65536,4,FALSE))) -> 下道目記町 | O15: =IF(N15="","",SUM(P15:Q15)) -> 260 | P15: =IF(ISNA(VLOOKUP(M15,[1]データシート!$A$1:$G$65536,6,FALSE)),"",SUMIF([1]データシート!$A$1:$A$65536,[1]集計表!M15,[1]データシート!$F$1:$F$65536)) -> 137 | Q15: =IF(ISNA(VLOOKUP(M15,[1]データシート!$A$1:$G$65536,7,FALSE)),"",SUMIF([1]データシート!$A$1:$A$65536,[1]集計表!M15,[1]データシート!$G$1:$G$65536)) -> 123 | R15: =IF(ISNA(VLOOKUP(M15,[1]データシート!$A$1:$G$65536,5,FALSE)),"",SUMIF([1]データシート!$A$1:$A$65536,[1]集計表!M15,[1]データシート!$E$1:$E$65536)) -> 91 | S15: 159000 | T15: =IF(ISNA(VLOOKUP(S15,[1]データシート!$A$1:$I$65536,9,FALSE)),"",IF(RIGHT(S15,3) = "000",VLOOKUP(S15,[1]データシート!$A$1:$I$65536,9,FALSE),VLOOKUP(S15,[1]データシート!$A$1:$I$65536,9,FALSE)&VLOOKUP(S15,[1]データシート!$A$1:$G$65536,4,FALSE))) -> 一色町佐久島 | U15: =IF(T15="","",SUM(V15:W15)) -> 174 | V15: =IF(ISNA(VLOOKUP(S15,[1]データシート!$A$1:$G$65536,6,FALSE)),"",SUMIF([1]データシート!$A$1:$A$65536,[1]集計表!S15,[1]データシート!$F$1:$F$65536)) -> 76 | W15: =IF(ISNA(VLOOKUP(S15,[1]データシート!$A$1:$G$65536,7,FALSE)),"",SUMIF([1]データシート!$A$1:$A$65536,[1]集計表!S15,[1]データシート!$G$1:$G$65536)) -> 98 | X15: =IF(ISNA(VLOOKUP(S15,[1]データシート!$A$1:$G$65536,5,FALSE)),"",SUMIF([1]データシート!$A$1:$A$65536,[1]集計表!S15,[1]データシート!$E$1:$E$65536)) -> 108
A16: 065000 | B16: =IF(ISNA(VLOOKUP(A16,[1]データシート!$A$1:$I$65536,9,FALSE)),"",IF(RIGHT(A16,3) = "000",VLOOKUP(A16,[1]データシート!$A$1:$I$65536,9,FALSE),VLOOKUP(A16,[1]データシート!$A$1:$I$65536,9,FALSE)&VLOOKUP(A16,[1]データシート!$A$1:$G$65536,4,FALSE))) -> 順海町 | C16: =IF(B16="","",SUM(D16:E16)) -> 74 | D16: =IF(ISNA(VLOOKUP(A16,[1]データシート!$A$1:$G$65536,6,FALSE)),"",SUMIF([1]データシート!$A$1:$A$65536,[1]集計表!A16,[1]データシート!$F$1:$F$65536)) -> 35 | E16: =IF(ISNA(VLOOKUP(A16,[1]データシート!$A$1:$G$65536,7,FALSE)),"",SUMIF([1]データシート!$A$1:$A$65536,[1]集計表!A16,[1]データシート!$G$1:$G$65536)) -> 39 | F16: =IF(ISNA(VLOOKUP(A16,[1]データシート!$A$1:$G$65536,5,FALSE)),"",SUMIF([1]データシート!$A$1:$A$65536,[1]集計表!A16,[1]データシート!$E$1:$E$65536)) -> 23 | G16: 090003 | H16: =IF(ISNA(VLOOKUP(G16,[1]データシート!$A$1:$I$65536,9,FALSE)),"",IF(RIGHT(G16,3) = "000",VLOOKUP(G16,[1]データシート!$A$1:$I$65536,9,FALSE),VLOOKUP(G16,[1]データシート!$A$1:$I$65536,9,FALSE)&VLOOKUP(G16,[1]データシート!$A$1:$G$65536,4,FALSE))) -> 戸ケ崎３丁目 | I16: =IF(H16="","",SUM(J16:K16)) -> 1180 | J16: =IF(ISNA(VLOOKUP(G16,[1]データシート!$A$1:$G$65536,6,FALSE)),"",SUMIF([1]データシート!$A$1:$A$65536,[1]集計表!G16,[1]データシート!$F$1:$F$65536)) -> 623 | K16: =IF(ISNA(VLOOKUP(G16,[1]データシート!$A$1:$G$65536,7,FALSE)),"",SUMIF([1]データシート!$A$1:$A$65536,[1]集計表!G16,[1]データシート!$G$1:$G$65536)) -> 557 | L16: =IF(ISNA(VLOOKUP(G16,[1]データシート!$A$1:$G$65536,5,FALSE)),"",SUMIF([1]データシート!$A$1:$A$65536,[1]集計表!G16,[1]データシート!$E$1:$E$65536)) -> 524 | M16: 111000 | N16: =IF(ISNA(VLOOKUP(M16,[1]データシート!$A$1:$I$65536,9,FALSE)),"",IF(RIGHT(M16,3) = "000",VLOOKUP(M16,[1]データシート!$A$1:$I$65536,9,FALSE),VLOOKUP(M16,[1]データシート!$A$1:$I$65536,9,FALSE)&VLOOKUP(M16,[1]データシート!$A$1:$G$65536,4,FALSE))) -> 針曽根町 | O16: =IF(N16="","",SUM(P16:Q16)) -> 357 | P16: =IF(ISNA(VLOOKUP(M16,[1]データシート!$A$1:$G$65536,6,FALSE)),"",SUMIF([1]データシート!$A$1:$A$65536,[1]集計表!M16,[1]データシート!$F$1:$F$65536)) -> 185 | Q16: =IF(ISNA(VLOOKUP(M16,[1]データシート!$A$1:$G$65536,7,FALSE)),"",SUMIF([1]データシート!$A$1:$A$65536,[1]集計表!M16,[1]データシート!$G$1:$G$65536)) -> 172 | R16: =IF(ISNA(VLOOKUP(M16,[1]データシート!$A$1:$G$65536,5,FALSE)),"",SUMIF([1]データシート!$A$1:$A$65536,[1]集計表!M16,[1]データシート!$E$1:$E$65536)) -> 139 | S16: 160000 | T16: =IF(ISNA(VLOOKUP(S16,[1]データシート!$A$1:$I$65536,9,FALSE)),"",IF(RIGHT(S16,3) = "000",VLOOKUP(S16,[1]データシート!$A$1:$I$65536,9,FALSE),VLOOKUP(S16,[1]データシート!$A$1:$I$65536,9,FALSE)&VLOOKUP(S16,[1]データシート!$A$1:$G$65536,4,FALSE))) -> 一色町治明 | U16: =IF(T16="","",SUM(V16:W16)) -> 1568 | V16: =IF(ISNA(VLOOKUP(S16,[1]データシート!$A$1:$G$65536,6,FALSE)),"",SUMIF([1]データシート!$A$1:$A$65536,[1]集計表!S16,[1]データシート!$F$1:$F$65536)) -> 794 | W16: =IF(ISNA(VLOOKUP(S16,[1]データシート!$A$1:$G$65536,7,FALSE)),"",SUMIF([1]データシート!$A$1:$A$65536,[1]集計表!S16,[1]データシート!$G$1:$G$65536)) -> 774 | X16: =IF(ISNA(VLOOKUP(S16,[1]データシート!$A$1:$G$65536,5,FALSE)),"",SUMIF([1]データシート!$A$1:$A$65536,[1]集計表!S16,[1]データシート!$E$1:$E$65536)) -> 675
... A18: 006000 | B18: =IF(ISNA(VLOOKUP(A18,[1]データシート!$A$1:$I$65536,9,FALSE)),"",IF(RIGHT(A18,3) = "000",VLOOKUP(A18,[1]データシート!$A$1:$I$65536,9,FALSE),VLOOKUP(A18,[1]データシート!$A$1:$I$65536,9,FALSE)&VLOOKUP(A18,[1]データシート!$A$1:$G$65536,4,FALSE))) -> 伊文町 | C18: =IF(B18="","",SUM(D18:E18)) -> 217 | D18: =IF(ISNA(VLOOKUP(A18,[1]データシート!$A$1:$G$65536,6,FALSE)),"",SUMIF([1]データシート!$A$1:$A$65536,[1]集計表!A18,[1]データシート!$F$1:$F$65536)) -> 102 | E18: =IF(ISNA(VLOOKUP(A18,[1]データシート!$A$1:$G$65536,7,FALSE)),"",SUMIF([1]データシート!$A$1:$A$65536,[1]集計表!A18,[1]データシート!$G$1:$G$65536)) -> 115 | F18: =IF(ISNA(VLOOKUP(A18,[1]データシート!$A$1:$G$65536,5,FALSE)),"",SUMIF([1]データシート!$A$1:$A$65536,[1]集計表!A18,[1]データシート!$E$1:$E$65536)) -> 93 | G18: 090005 | H18: =IF(ISNA(VLOOKUP(G18,[1]データシート!$A$1:$I$65536,9,FALSE)),"",IF(RIGHT(G18,3) = "000",VLOOKUP(G18,[1]データシート!$A$1:$I$65536,9,FALSE),VLOOKUP(G18,[1]データシート!$A$1:$I$65536,9,FALSE)&VLOOKUP(G18,[1]データシート!$A$1:$G$65536,4,FALSE))) -> 戸ケ崎５丁目 | I18: =IF(H18="","",SUM(J18:K18)) -> 720 | J18: =IF(ISNA(VLOOKUP(G18,[1]データシート!$A$1:$G$65536,6,FALSE)),"",SUMIF([1]データシート!$A$1:$A$65536,[1]集計表!G18,[1]データシート!$F$1:$F$65536)) -> 340 | K18: =IF(ISNA(VLOOKUP(G18,[1]データシート!$A$1:$G$65536,7,FALSE)),"",SUMIF([1]データシート!$A$1:$A$65536,[1]集計表!G18,[1]データシート!$G$1:$G$65536)) -> 380 | L18: =IF(ISNA(VLOOKUP(G18,[1]データシート!$A$1:$G$65536,5,FALSE)),"",SUMIF([1]データシート!$A$1:$A$65536,[1]集計表!G18,[1]データシート!$E$1:$E$65536)) -> 310 | M18: 108000 | N18: =IF(ISNA(VLOOKUP(M18,[1]データシート!$A$1:$I$65536,9,FALSE)),"",IF(RIGHT(M18,3) = "000",VLOOKUP(M18,[1]データシート!$A$1:$I$65536,9,FALSE),VLOOKUP(M18,[1]データシート!$A$1:$I$65536,9,FALSE)&VLOOKUP(M18,[1]データシート!$A$1:$G$65536,4,FALSE))) -> 八ケ尻町 | O18: =IF(N18="","",SUM(P18:Q18)) -> 197 | P18: =IF(ISNA(VLOOKUP(M18,[1]データシート!$A$1:$G$65536,6,FALSE)),"",SUMIF([1]データシート!$A$1:$A$65536,[1]集計表!M18,[1]データシート!$F$1:$F$65536)) -> 105 | Q18: =IF(ISNA(VLOOKUP(M18,[1]データシート!$A$1:$G$65536,7,FALSE)),"",SUMIF([1]データシート!$A$1:$A$65536,[1]集計表!M18,[1]データシート!$G$1:$G$65536)) -> 92 | R18: =IF(ISNA(VLOOKUP(M18,[1]データシート!$A$1:$G$65536,5,FALSE)),"",SUMIF([1]データシート!$A$1:$A$65536,[1]集計表!M18,[1]データシート!$E$1:$E$65536)) -> 79 | S18: 162000 | T18: =IF(ISNA(VLOOKUP(S18,[1]データシート!$A$1:$I$65536,9,FALSE)),"",IF(RIGHT(S18,3) = "000",VLOOKUP(S18,[1]データシート!$A$1:$I$65536,9,FALSE),VLOOKUP(S18,[1]データシート!$A$1:$I$65536,9,FALSE)&VLOOKUP(S18,[1]データシート!$A$1:$G$65536,4,FALSE))) -> 一色町惣五郎 | U18: =IF(T18="","",SUM(V18:W18)) -> 79 | V18: =IF(ISNA(VLOOKUP(S18,[1]データシート!$A$1:$G$65536,6,FALSE)),"",SUMIF([1]データシート!$A$1:$A$65536,[1]集計表!S18,[1]データシート!$F$1:$F$65536)) -> 38 | W18: =IF(ISNA(VLOOKUP(S18,[1]データシート!$A$1:$G$65536,7,FALSE)),"",SUMIF([1]データシート!$A$1:$A$65536,[1]集計表!S18,[1]データシート!$G$1:$G$65536)) -> 41 | X18: =IF(ISNA(VLOOKUP(S18,[1]データシート!$A$1:$G$65536,5,FALSE)),"",SUMIF([1]データシート!$A$1:$A$65536,[1]集計表!S18,[1]データシート!$E$1:$E$65536)) -> 26
A19: 032000 | B19: =IF(ISNA(VLOOKUP(A19,[1]データシート!$A$1:$I$65536,9,FALSE)),"",IF(RIGHT(A19,3) = "000",VLOOKUP(A19,[1]データシート!$A$1:$I$65536,9,FALSE),VLOOKUP(A19,[1]データシート!$A$1:$I$65536,9,FALSE)&VLOOKUP(A19,[1]データシート!$A$1:$G$65536,4,FALSE))) -> 瓦町 | C19: =IF(B19="","",SUM(D19:E19)) -> 108 | D19: =IF(ISNA(VLOOKUP(A19,[1]データシート!$A$1:$G$65536,6,FALSE)),"",SUMIF([1]データシート!$A$1:$A$65536,[1]集計表!A19,[1]データシート!$F$1:$F$65536)) -> 54 | E19: =IF(ISNA(VLOOKUP(A19,[1]データシート!$A$1:$G$65536,7,FALSE)),"",SUMIF([1]データシート!$A$1:$A$65536,[1]集計表!A19,[1]データシート!$G$1:$G$65536)) -> 54 | F19: =IF(ISNA(VLOOKUP(A19,[1]データシート!$A$1:$G$65536,5,FALSE)),"",SUMIF([1]データシート!$A$1:$A$65536,[1]集計表!A19,[1]データシート!$E$1:$E$65536)) -> 48 | H19: =IF(ISNA(VLOOKUP(G19,[1]データシート!$A$1:$I$65536,9,FALSE)),"",IF(RIGHT(G19,3) = "000",VLOOKUP(G19,[1]データシート!$A$1:$I$65536,9,FALSE),VLOOKUP(G19,[1]データシート!$A$1:$I$65536,9,FALSE)&VLOOKUP(G19,[1]データシート!$A$1:$G$65536,4,FALSE))) | I19: =IF(H19="","",SUM(J19:K19)) | J19: =IF(ISNA(VLOOKUP(G19,[1]データシート!$A$1:$G$65536,6,FALSE)),"",SUMIF([1]データシート!$A$1:$A$65536,[1]集計表!G19,[1]データシート!$F$1:$F$65536)) | K19: =IF(ISNA(VLOOKUP(G19,[1]データシート!$A$1:$G$65536,7,FALSE)),"",SUMIF([1]データシート!$A$1:$A$65536,[1]集計表!G19,[1]データシート!$G$1:$G$65536)) | L19: =IF(ISNA(VLOOKUP(G19,[1]データシート!$A$1:$G$65536,5,FALSE)),"",SUMIF([1]データシート!$A$1:$A$65536,[1]集計表!G19,[1]データシート!$E$1:$E$65536)) | M19: 004000 | N19: =IF(ISNA(VLOOKUP(M19,[1]データシート!$A$1:$I$65536,9,FALSE)),"",IF(RIGHT(M19,3) = "000",VLOOKUP(M19,[1]データシート!$A$1:$I$65536,9,FALSE),VLOOKUP(M19,[1]データシート!$A$1:$I$65536,9,FALSE)&VLOOKUP(M19,[1]データシート!$A$1:$G$65536,4,FALSE))) -> 市子町 | O19: =IF(N19="","",SUM(P19:Q19)) -> 772 | P19: =IF(ISNA(VLOOKUP(M19,[1]データシート!$A$1:$G$65536,6,FALSE)),"",SUMIF([1]データシート!$A$1:$A$65536,[1]集計表!M19,[1]データシート!$F$1:$F$65536)) -> 380 | Q19: =IF(ISNA(VLOOKUP(M19,[1]データシート!$A$1:$G$65536,7,FALSE)),"",SUMIF([1]データシート!$A$1:$A$65536,[1]集計表!M19,[1]データシート!$G$1:$G$65536)) -> 392 | R19: =IF(ISNA(VLOOKUP(M19,[1]データシート!$A$1:$G$65536,5,FALSE)),"",SUMIF([1]データシート!$A$1:$A$65536,[1]集計表!M19,[1]データシート!$E$1:$E$65536)) -> 305 | S19: 163000 | T19: =IF(ISNA(VLOOKUP(S19,[1]データシート!$A$1:$I$65536,9,FALSE)),"",IF(RIGHT(S19,3) = "000",VLOOKUP(S19,[1]データシート!$A$1:$I$65536,9,FALSE),VLOOKUP(S19,[1]データシート!$A$1:$I$65536,9,FALSE)&VLOOKUP(S19,[1]データシート!$A$1:$G$65536,4,FALSE))) -> 一色町対米 | U19: =IF(T19="","",SUM(V19:W19)) -> 1433 | V19: =IF(ISNA(VLOOKUP(S19,[1]データシート!$A$1:$G$65536,6,FALSE)),"",SUMIF([1]データシート!$A$1:$A$65536,[1]集計表!S19,[1]データシート!$F$1:$F$65536)) -> 713 | W19: =IF(ISNA(VLOOKUP(S19,[1]データシート!$A$1:$G$65536,7,FALSE)),"",SUMIF([1]データシート!$A$1:$A$65536,[1]集計表!S19,[1]データシート!$G$1:$G$65536)) -> 720 | X19: =IF(ISNA(VLOOKUP(S19,[1]データシート!$A$1:$G$65536,5,FALSE)),"",SUMIF([1]データシート!$A$1:$A$65536,[1]集計表!S19,[1]データシート!$E$1:$E$65536)) -> 586
A20: 131000 | B20: =IF(ISNA(VLOOKUP(A20,[1]データシート!$A$1:$I$65536,9,FALSE)),"",IF(RIGHT(A20,3) = "000",VLOOKUP(A20,[1]データシート!$A$1:$I$65536,9,FALSE),VLOOKUP(A20,[1]データシート!$A$1:$I$65536,9,FALSE)&VLOOKUP(A20,[1]データシート!$A$1:$G$65536,4,FALSE))) -> 矢場町 | C20: =IF(B20="","",SUM(D20:E20)) -> 122 | D20: =IF(ISNA(VLOOKUP(A20,[1]データシート!$A$1:$G$65536,6,FALSE)),"",SUMIF([1]データシート!$A$1:$A$65536,[1]集計表!A20,[1]データシート!$F$1:$F$65536)) -> 61 | E20: =IF(ISNA(VLOOKUP(A20,[1]データシート!$A$1:$G$65536,7,FALSE)),"",SUMIF([1]データシート!$A$1:$A$65536,[1]集計表!A20,[1]データシート!$G$1:$G$65536)) -> 61 | F20: =IF(ISNA(VLOOKUP(A20,[1]データシート!$A$1:$G$65536,5,FALSE)),"",SUMIF([1]データシート!$A$1:$A$65536,[1]集計表!A20,[1]データシート!$E$1:$E$65536)) -> 61 | H20: =IF(ISNA(VLOOKUP(G20,[1]データシート!$A$1:$I$65536,9,FALSE)),"",IF(RIGHT(G20,3) = "000",VLOOKUP(G20,[1]データシート!$A$1:$I$65536,9,FALSE),VLOOKUP(G20,[1]データシート!$A$1:$I$65536,9,FALSE)&VLOOKUP(G20,[1]データシート!$A$1:$G$65536,4,FALSE))) | I20: =IF(H20="","",SUM(J20:K20)) | J20: =IF(ISNA(VLOOKUP(G20,[1]データシート!$A$1:$G$65536,6,FALSE)),"",SUMIF([1]データシート!$A$1:$A$65536,[1]集計表!G20,[1]データシート!$F$1:$F$65536)) | K20: =IF(ISNA(VLOOKUP(G20,[1]データシート!$A$1:$G$65536,7,FALSE)),"",SUMIF([1]データシート!$A$1:$A$65536,[1]集計表!G20,[1]データシート!$G$1:$G$65536)) | L20: =IF(ISNA(VLOOKUP(G20,[1]データシート!$A$1:$G$65536,5,FALSE)),"",SUMIF([1]データシート!$A$1:$A$65536,[1]集計表!G20,[1]データシート!$E$1:$E$65536)) | M20: 115000 | N20: =IF(ISNA(VLOOKUP(M20,[1]データシート!$A$1:$I$65536,9,FALSE)),"",IF(RIGHT(M20,3) = "000",VLOOKUP(M20,[1]データシート!$A$1:$I$65536,9,FALSE),VLOOKUP(M20,[1]データシート!$A$1:$I$65536,9,FALSE)&VLOOKUP(M20,[1]データシート!$A$1:$G$65536,4,FALSE))) -> 平口町 | O20: =IF(N20="","",SUM(P20:Q20)) -> 412 | P20: =IF(ISNA(VLOOKUP(M20,[1]データシート!$A$1:$G$65536,6,FALSE)),"",SUMIF([1]データシート!$A$1:$A$65536,[1]集計表!M20,[1]データシート!$F$1:$F$65536)) -> 182 | Q20: =IF(ISNA(VLOOKUP(M20,[1]データシート!$A$1:$G$65536,7,FALSE)),"",SUMIF([1]データシート!$A$1:$A$65536,[1]集計表!M20,[1]データシート!$G$1:$G$65536)) -> 230 | R20: =IF(ISNA(VLOOKUP(M20,[1]データシート!$A$1:$G$65536,5,FALSE)),"",SUMIF([1]データシート!$A$1:$A$65536,[1]集計表!M20,[1]データシート!$E$1:$E$65536)) -> 187 | S20: 164000 | T20: =IF(ISNA(VLOOKUP(S20,[1]データシート!$A$1:$I$65536,9,FALSE)),"",IF(RIGHT(S20,3) = "000",VLOOKUP(S20,[1]データシート!$A$1:$I$65536,9,FALSE),VLOOKUP(S20,[1]データシート!$A$1:$I$65536,9,FALSE)&VLOOKUP(S20,[1]データシート!$A$1:$G$65536,4,FALSE))) -> 一色町中外沢 | U20: =IF(T20="","",SUM(V20:W20)) -> 595 | V20: =IF(ISNA(VLOOKUP(S20,[1]データシート!$A$1:$G$65536,6,FALSE)),"",SUMIF([1]データシート!$A$1:$A$65536,[1]集計表!S20,[1]データシート!$F$1:$F$65536)) -> 298 | W20: =IF(ISNA(VLOOKUP(S20,[1]データシート!$A$1:$G$65536,7,FALSE)),"",SUMIF([1]データシート!$A$1:$A$65536,[1]集計表!S20,[1]データシート!$G$1:$G$65536)) -> 297 | X20: =IF(ISNA(VLOOKUP(S20,[1]データシート!$A$1:$G$65536,5,FALSE)),"",SUMIF([1]データシート!$A$1:$A$65536,[1]集計表!S20,[1]データシート!$E$1:$E$65536)) -> 198
A21: 014000 | B21: =IF(ISNA(VLOOKUP(A21,[1]データシート!$A$1:$I$65536,9,FALSE)),"",IF(RIGHT(A21,3) = "000",VLOOKUP(A21,[1]データシート!$A$1:$I$65536,9,FALSE),VLOOKUP(A21,[1]データシート!$A$1:$I$65536,9,FALSE)&VLOOKUP(A21,[1]データシート!$A$1:$G$65536,4,FALSE))) -> 大給町 | C21: =IF(B21="","",SUM(D21:E21)) -> 282 | D21: =IF(ISNA(VLOOKUP(A21,[1]データシート!$A$1:$G$65536,6,FALSE)),"",SUMIF([1]データシート!$A$1:$A$65536,[1]集計表!A21,[1]データシート!$F$1:$F$65536)) -> 123 | E21: =IF(ISNA(VLOOKUP(A21,[1]データシート!$A$1:$G$65536,7,FALSE)),"",SUMIF([1]データシート!$A$1:$A$65536,[1]集計表!A21,[1]データシート!$G$1:$G$65536)) -> 159 | F21: =IF(ISNA(VLOOKUP(A21,[1]データシート!$A$1:$G$65536,5,FALSE)),"",SUMIF([1]データシート!$A$1:$A$65536,[1]集計表!A21,[1]データシート!$E$1:$E$65536)) -> 124 | H21: =IF(ISNA(VLOOKUP(G21,[1]データシート!$A$1:$I$65536,9,FALSE)),"",IF(RIGHT(G21,3) = "000",VLOOKUP(G21,[1]データシート!$A$1:$I$65536,9,FALSE),VLOOKUP(G21,[1]データシート!$A$1:$I$65536,9,FALSE)&VLOOKUP(G21,[1]データシート!$A$1:$G$65536,4,FALSE))) | I21: =IF(H21="","",SUM(J21:K21)) | J21: =IF(ISNA(VLOOKUP(G21,[1]データシート!$A$1:$G$65536,6,FALSE)),"",SUMIF([1]データシート!$A$1:$A$65536,[1]集計表!G21,[1]データシート!$F$1:$F$65536)) | K21: =IF(ISNA(VLOOKUP(G21,[1]データシート!$A$1:$G$65536,7,FALSE)),"",SUMIF([1]データシート!$A$1:$A$65536,[1]集計表!G21,[1]データシート!$G$1:$G$65536)) | L21: =IF(ISNA(VLOOKUP(G21,[1]データシート!$A$1:$G$65536,5,FALSE)),"",SUMIF([1]データシート!$A$1:$A$65536,[1]集計表!G21,[1]データシート!$E$1:$E$65536)) | M21: 049000 | N21: =IF(ISNA(VLOOKUP(M21,[1]データシート!$A$1:$I$65536,9,FALSE)),"",IF(RIGHT(M21,3) = "000",VLOOKUP(M21,[1]データシート!$A$1:$I$65536,9,FALSE),VLOOKUP(M21,[1]データシート!$A$1:$I$65536,9,FALSE)&VLOOKUP(M21,[1]データシート!$A$1:$G$65536,4,FALSE))) -> 笹曽根町 | O21: =IF(N21="","",SUM(P21:Q21)) -> 257 | P21: =IF(ISNA(VLOOKUP(M21,[1]データシート!$A$1:$G$65536,6,FALSE)),"",SUMIF([1]データシート!$A$1:$A$65536,[1]集計表!M21,[1]データシート!$F$1:$F$65536)) -> 126 | Q21: =IF(ISNA(VLOOKUP(M21,[1]データシート!$A$1:$G$65536,7,FALSE)),"",SUMIF([1]データシート!$A$1:$A$65536,[1]集計表!M21,[1]データシート!$G$1:$G$65536)) -> 131 | R21: =IF(ISNA(VLOOKUP(M21,[1]データシート!$A$1:$G$65536,5,FALSE)),"",SUMIF([1]データシート!$A$1:$A$65536,[1]集計表!M21,[1]データシート!$E$1:$E$65536)) -> 82 | S21: 165000 | T21: =IF(ISNA(VLOOKUP(S21,[1]データシート!$A$1:$I$65536,9,FALSE)),"",IF(RIGHT(S21,3) = "000",VLOOKUP(S21,[1]データシート!$A$1:$I$65536,9,FALSE),VLOOKUP(S21,[1]データシート!$A$1:$I$65536,9,FALSE)&VLOOKUP(S21,[1]データシート!$A$1:$G$65536,4,FALSE))) -> 一色町野田 | U21: =IF(T21="","",SUM(V21:W21)) -> 458 | V21: =IF(ISNA(VLOOKUP(S21,[1]データシート!$A$1:$G$65536,6,FALSE)),"",SUMIF([1]データシート!$A$1:$A$65536,[1]集計表!S21,[1]データシート!$F$1:$F$65536)) -> 228 | W21: =IF(ISNA(VLOOKUP(S21,[1]データシート!$A$1:$G$65536,7,FALSE)),"",SUMIF([1]データシート!$A$1:$A$65536,[1]集計表!S21,[1]データシート!$G$1:$G$65536)) -> 230 | X21: =IF(ISNA(VLOOKUP(S21,[1]データシート!$A$1:$G$65536,5,FALSE)),"",SUMIF([1]データシート!$A$1:$A$65536,[1]集計表!S21,[1]データシート!$E$1:$E$65536)) -> 175
A22: 112000 | B22: =IF(ISNA(VLOOKUP(A22,[1]データシート!$A$1:$I$65536,9,FALSE)),"",IF(RIGHT(A22,3) = "000",VLOOKUP(A22,[1]データシート!$A$1:$I$65536,9,FALSE),VLOOKUP(A22,[1]データシート!$A$1:$I$65536,9,FALSE)&VLOOKUP(A22,[1]データシート!$A$1:$G$65536,4,FALSE))) -> 馬場町 | C22: =IF(B22="","",SUM(D22:E22)) -> 198 | D22: =IF(ISNA(VLOOKUP(A22,[1]データシート!$A$1:$G$65536,6,FALSE)),"",SUMIF([1]データシート!$A$1:$A$65536,[1]集計表!A22,[1]データシート!$F$1:$F$65536)) -> 95 | E22: =IF(ISNA(VLOOKUP(A22,[1]データシート!$A$1:$G$65536,7,FALSE)),"",SUMIF([1]データシート!$A$1:$A$65536,[1]集計表!A22,[1]データシート!$G$1:$G$65536)) -> 103 | F22: =IF(ISNA(VLOOKUP(A22,[1]データシート!$A$1:$G$65536,5,FALSE)),"",SUMIF([1]データシート!$A$1:$A$65536,[1]集計表!A22,[1]データシート!$E$1:$E$65536)) -> 100 | H22: =IF(ISNA(VLOOKUP(G22,[1]データシート!$A$1:$I$65536,9,FALSE)),"",IF(RIGHT(G22,3) = "000",VLOOKUP(G22,[1]データシート!$A$1:$I$65536,9,FALSE),VLOOKUP(G22,[1]データシート!$A$1:$I$65536,9,FALSE)&VLOOKUP(G22,[1]データシート!$A$1:$G$65536,4,FALSE))) | I22: =IF(H22="","",SUM(J22:K22)) | J22: =IF(ISNA(VLOOKUP(G22,[1]データシート!$A$1:$G$65536,6,FALSE)),"",SUMIF([1]データシート!$A$1:$A$65536,[1]集計表!G22,[1]データシート!$F$1:$F$65536)) | K22: =IF(ISNA(VLOOKUP(G22,[1]データシート!$A$1:$G$65536,7,FALSE)),"",SUMIF([1]データシート!$A$1:$A$65536,[1]集計表!G22,[1]データシート!$G$1:$G$65536)) | L22: =IF(ISNA(VLOOKUP(G22,[1]データシート!$A$1:$G$65536,5,FALSE)),"",SUMIF([1]データシート!$A$1:$A$65536,[1]集計表!G22,[1]データシート!$E$1:$E$65536)) | M22: 134000 | N22: =IF(ISNA(VLOOKUP(M22,[1]データシート!$A$1:$I$65536,9,FALSE)),"",IF(RIGHT(M22,3) = "000",VLOOKUP(M22,[1]データシート!$A$1:$I$65536,9,FALSE),VLOOKUP(M22,[1]データシート!$A$1:$I$65536,9,FALSE)&VLOOKUP(M22,[1]データシート!$A$1:$G$65536,4,FALSE))) -> 横手町 | O22: =IF(N22="","",SUM(P22:Q22)) -> 402 | P22: =IF(ISNA(VLOOKUP(M22,[1]データシート!$A$1:$G$65536,6,FALSE)),"",SUMIF([1]データシート!$A$1:$A$65536,[1]集計表!M22,[1]データシート!$F$1:$F$65536)) -> 207 | Q22: =IF(ISNA(VLOOKUP(M22,[1]データシート!$A$1:$G$65536,7,FALSE)),"",SUMIF([1]データシート!$A$1:$A$65536,[1]集計表!M22,[1]データシート!$G$1:$G$65536)) -> 195 | R22: =IF(ISNA(VLOOKUP(M22,[1]データシート!$A$1:$G$65536,5,FALSE)),"",SUMIF([1]データシート!$A$1:$A$65536,[1]集計表!M22,[1]データシート!$E$1:$E$65536)) -> 138 | S22: 166000 | T22: =IF(ISNA(VLOOKUP(S22,[1]データシート!$A$1:$I$65536,9,FALSE)),"",IF(RIGHT(S22,3) = "000",VLOOKUP(S22,[1]データシート!$A$1:$I$65536,9,FALSE),VLOOKUP(S22,[1]データシート!$A$1:$I$65536,9,FALSE)&VLOOKUP(S22,[1]データシート!$A$1:$G$65536,4,FALSE))) -> 一色町藤江 | U22: =IF(T22="","",SUM(V22:W22)) -> 152 | V22: =IF(ISNA(VLOOKUP(S22,[1]データシート!$A$1:$G$65536,6,FALSE)),"",SUMIF([1]データシート!$A$1:$A$65536,[1]集計表!S22,[1]データシート!$F$1:$F$65536)) -> 78 | W22: =IF(ISNA(VLOOKUP(S22,[1]データシート!$A$1:$G$65536,7,FALSE)),"",SUMIF([1]データシート!$A$1:$A$65536,[1]集計表!S22,[1]データシート!$G$1:$G$65536)) -> 74 | X22: =IF(ISNA(VLOOKUP(S22,[1]データシート!$A$1:$G$65536,5,FALSE)),"",SUMIF([1]データシート!$A$1:$A$65536,[1]集計表!S22,[1]データシート!$E$1:$E$65536)) -> 56
A23: 133000 | B23: =IF(ISNA(VLOOKUP(A23,[1]データシート!$A$1:$I$65536,9,FALSE)),"",IF(RIGHT(A23,3) = "000",VLOOKUP(A23,[1]データシート!$A$1:$I$65536,9,FALSE),VLOOKUP(A23,[1]データシート!$A$1:$I$65536,9,FALSE)&VLOOKUP(A23,[1]データシート!$A$1:$G$65536,4,FALSE))) -> 弥生町 | C23: =IF(B23="","",SUM(D23:E23)) -> 112 | D23: =IF(ISNA(VLOOKUP(A23,[1]データシート!$A$1:$G$65536,6,FALSE)),"",SUMIF([1]データシート!$A$1:$A$65536,[1]集計表!A23,[1]データシート!$F$1:$F$65536)) -> 60 | E23: =IF(ISNA(VLOOKUP(A23,[1]データシート!$A$1:$G$65536,7,FALSE)),"",SUMIF([1]データシート!$A$1:$A$65536,[1]集計表!A23,[1]データシート!$G$1:$G$65536)) -> 52 | F23: =IF(ISNA(VLOOKUP(A23,[1]データシート!$A$1:$G$65536,5,FALSE)),"",SUMIF([1]データシート!$A$1:$A$65536,[1]集計表!A23,[1]データシート!$E$1:$E$65536)) -> 50 | H23: =IF(ISNA(VLOOKUP(G23,[1]データシート!$A$1:$I$65536,9,FALSE)),"",IF(RIGHT(G23,3) = "000",VLOOKUP(G23,[1]データシート!$A$1:$I$65536,9,FALSE),VLOOKUP(G23,[1]データシート!$A$1:$I$65536,9,FALSE)&VLOOKUP(G23,[1]データシート!$A$1:$G$65536,4,FALSE))) | I23: =IF(H23="","",SUM(J23:K23)) | J23: =IF(ISNA(VLOOKUP(G23,[1]データシート!$A$1:$G$65536,6,FALSE)),"",SUMIF([1]データシート!$A$1:$A$65536,[1]集計表!G23,[1]データシート!$F$1:$F$65536)) | K23: =IF(ISNA(VLOOKUP(G23,[1]データシート!$A$1:$G$65536,7,FALSE)),"",SUMIF([1]データシート!$A$1:$A$65536,[1]集計表!G23,[1]データシート!$G$1:$G$65536)) | L23: =IF(ISNA(VLOOKUP(G23,[1]データシート!$A$1:$G$65536,5,FALSE)),"",SUMIF([1]データシート!$A$1:$A$65536,[1]集計表!G23,[1]データシート!$E$1:$E$65536)) | M23: 087000 | N23: =IF(ISNA(VLOOKUP(M23,[1]データシート!$A$1:$I$65536,9,FALSE)),"",IF(RIGHT(M23,3) = "000",VLOOKUP(M23,[1]データシート!$A$1:$I$65536,9,FALSE),VLOOKUP(M23,[1]データシート!$A$1:$I$65536,9,FALSE)&VLOOKUP(M23,[1]データシート!$A$1:$G$65536,4,FALSE))) -> 天竹町 | O23: =IF(N23="","",SUM(P23:Q23)) -> 213 | P23: =IF(ISNA(VLOOKUP(M23,[1]データシート!$A$1:$G$65536,6,FALSE)),"",SUMIF([1]データシート!$A$1:$A$65536,[1]集計表!M23,[1]データシート!$F$1:$F$65536)) -> 104 | Q23: =IF(ISNA(VLOOKUP(M23,[1]データシート!$A$1:$G$65536,7,FALSE)),"",SUMIF([1]データシート!$A$1:$A$65536,[1]集計表!M23,[1]データシート!$G$1:$G$65536)) -> 109 | R23: =IF(ISNA(VLOOKUP(M23,[1]データシート!$A$1:$G$65536,5,FALSE)),"",SUMIF([1]データシート!$A$1:$A$65536,[1]集計表!M23,[1]データシート!$E$1:$E$65536)) -> 82 | S23: 167000 | T23: =IF(ISNA(VLOOKUP(S23,[1]データシート!$A$1:$I$65536,9,FALSE)),"",IF(RIGHT(S23,3) = "000",VLOOKUP(S23,[1]データシート!$A$1:$I$65536,9,FALSE),VLOOKUP(S23,[1]データシート!$A$1:$I$65536,9,FALSE)&VLOOKUP(S23,[1]データシート!$A$1:$G$65536,4,FALSE))) -> 一色町細川 | U23: =IF(T23="","",SUM(V23:W23)) -> 97 | V23: =IF(ISNA(VLOOKUP(S23,[1]データシート!$A$1:$G$65536,6,FALSE)),"",SUMIF([1]データシート!$A$1:$A$65536,[1]集計表!S23,[1]データシート!$F$1:$F$65536)) -> 42 | W23: =IF(ISNA(VLOOKUP(S23,[1]データシート!$A$1:$G$65536,7,FALSE)),"",SUMIF([1]データシート!$A$1:$A$65536,[1]集計表!S23,[1]データシート!$G$1:$G$65536)) -> 55 | X23: =IF(ISNA(VLOOKUP(S23,[1]データシート!$A$1:$G$65536,5,FALSE)),"",SUMIF([1]データシート!$A$1:$A$65536,[1]集計表!S23,[1]データシート!$E$1:$E$65536)) -> 31
A24: 066000 | B24: =IF(ISNA(VLOOKUP(A24,[1]データシート!$A$1:$I$65536,9,FALSE)),"",IF(RIGHT(A24,3) = "000",VLOOKUP(A24,[1]データシート!$A$1:$I$65536,9,FALSE),VLOOKUP(A24,[1]データシート!$A$1:$I$65536,9,FALSE)&VLOOKUP(A24,[1]データシート!$A$1:$G$65536,4,FALSE))) -> 末広町 | C24: =IF(B24="","",SUM(D24:E24)) -> 62 | D24: =IF(ISNA(VLOOKUP(A24,[1]データシート!$A$1:$G$65536,6,FALSE)),"",SUMIF([1]データシート!$A$1:$A$65536,[1]集計表!A24,[1]データシート!$F$1:$F$65536)) -> 27 | E24: =IF(ISNA(VLOOKUP(A24,[1]データシート!$A$1:$G$65536,7,FALSE)),"",SUMIF([1]データシート!$A$1:$A$65536,[1]集計表!A24,[1]データシート!$G$1:$G$65536)) -> 35 | F24: =IF(ISNA(VLOOKUP(A24,[1]データシート!$A$1:$G$65536,5,FALSE)),"",SUMIF([1]データシート!$A$1:$A$65536,[1]集計表!A24,[1]データシート!$E$1:$E$65536)) -> 23 | G24: 西尾地区 計 | I24: =SUM(I4:I23)+SUM(C5:C77) -> 49551 | J24: =SUM(J4:J23)+SUM(D5:D77) -> 25102 | K24: =SUM(K4:K23)+SUM(E5:E77) -> 24449 | L24: =SUM(L4:L23)+SUM(F5:F77) -> 22038 | M24: 107000 | N24: =IF(ISNA(VLOOKUP(M24,[1]データシート!$A$1:$I$65536,9,FALSE)),"",IF(RIGHT(M24,3) = "000",VLOOKUP(M24,[1]データシート!$A$1:$I$65536,9,FALSE),VLOOKUP(M24,[1]データシート!$A$1:$I$65536,9,FALSE)&VLOOKUP(M24,[1]データシート!$A$1:$G$65536,4,FALSE))) -> 野々宮町 | O24: =IF(N24="","",SUM(P24:Q24)) -> 272 | P24: =IF(ISNA(VLOOKUP(M24,[1]データシート!$A$1:$G$65536,6,FALSE)),"",SUMIF([1]データシート!$A$1:$A$65536,[1]集計表!M24,[1]データシート!$F$1:$F$65536)) -> 142 | Q24: =IF(ISNA(VLOOKUP(M24,[1]データシート!$A$1:$G$65536,7,FALSE)),"",SUMIF([1]データシート!$A$1:$A$65536,[1]集計表!M24,[1]データシート!$G$1:$G$65536)) -> 130 | R24: =IF(ISNA(VLOOKUP(M24,[1]データシート!$A$1:$G$65536,5,FALSE)),"",SUMIF([1]データシート!$A$1:$A$65536,[1]集計表!M24,[1]データシート!$E$1:$E$65536)) -> 117 | S24: 168000 | T24: =IF(ISNA(VLOOKUP(S24,[1]データシート!$A$1:$I$65536,9,FALSE)),"",IF(RIGHT(S24,3) = "000",VLOOKUP(S24,[1]データシート!$A$1:$I$65536,9,FALSE),VLOOKUP(S24,[1]データシート!$A$1:$I$65536,9,FALSE)&VLOOKUP(S24,[1]データシート!$A$1:$G$65536,4,FALSE))) -> 一色町前野 | U24: =IF(T24="","",SUM(V24:W24)) -> 676 | V24: =IF(ISNA(VLOOKUP(S24,[1]データシート!$A$1:$G$65536,6,FALSE)),"",SUMIF([1]データシート!$A$1:$A$65536,[1]集計表!S24,[1]データシート!$F$1:$F$65536)) -> 342 | W24: =IF(ISNA(VLOOKUP(S24,[1]データシート!$A$1:$G$65536,7,FALSE)),"",SUMIF([1]データシート!$A$1:$A$65536,[1]集計表!S24,[1]データシート!$G$1:$G$65536)) -> 334 | X24: =IF(ISNA(VLOOKUP(S24,[1]データシート!$A$1:$G$65536,5,FALSE)),"",SUMIF([1]データシート!$A$1:$A$65536,[1]集計表!S24,[1]データシート!$E$1:$E$65536)) -> 284
A25: 085000 | B25: =IF(ISNA(VLOOKUP(A25,[1]データシート!$A$1:$I$65536,9,FALSE)),"",IF(RIGHT(A25,3) = "000",VLOOKUP(A25,[1]データシート!$A$1:$I$65536,9,FALSE),VLOOKUP(A25,[1]データシート!$A$1:$I$65536,9,FALSE)&VLOOKUP(A25,[1]データシート!$A$1:$G$65536,4,FALSE))) -> 鶴舞町 | C25: =IF(B25="","",SUM(D25:E25)) -> 175 | D25: =IF(ISNA(VLOOKUP(A25,[1]データシート!$A$1:$G$65536,6,FALSE)),"",SUMIF([1]データシート!$A$1:$A$65536,[1]集計表!A25,[1]データシート!$F$1:$F$65536)) -> 88 | E25: =IF(ISNA(VLOOKUP(A25,[1]データシート!$A$1:$G$65536,7,FALSE)),"",SUMIF([1]データシート!$A$1:$A$65536,[1]集計表!A25,[1]データシート!$G$1:$G$65536)) -> 87 | F25: =IF(ISNA(VLOOKUP(A25,[1]データシート!$A$1:$G$65536,5,FALSE)),"",SUMIF([1]データシート!$A$1:$A$65536,[1]集計表!A25,[1]データシート!$E$1:$E$65536)) -> 70 | G25: 平 坂 地 区 | N25: =IF(ISNA(VLOOKUP(M25,[1]データシート!$A$1:$I$65536,9,FALSE)),"",IF(RIGHT(M25,3) = "000",VLOOKUP(M25,[1]データシート!$A$1:$I$65536,9,FALSE),VLOOKUP(M25,[1]データシート!$A$1:$I$65536,9,FALSE)&VLOOKUP(M25,[1]データシート!$A$1:$G$65536,4,FALSE))) | O25: =IF(N25="","",SUM(P25:Q25)) | P25: =IF(ISNA(VLOOKUP(M25,[1]データシート!$A$1:$G$65536,6,FALSE)),"",SUMIF([1]データシート!$A$1:$A$65536,[1]集計表!M25,[1]データシート!$F$1:$F$65536)) | Q25: =IF(ISNA(VLOOKUP(M25,[1]データシート!$A$1:$G$65536,7,FALSE)),"",SUMIF([1]データシート!$A$1:$A$65536,[1]集計表!M25,[1]データシート!$G$1:$G$65536)) | R25: =IF(ISNA(VLOOKUP(M25,[1]データシート!$A$1:$G$65536,5,FALSE)),"",SUMIF([1]データシート!$A$1:$A$65536,[1]集計表!M25,[1]データシート!$E$1:$E$65536)) | S25: 169000 | T25: =IF(ISNA(VLOOKUP(S25,[1]データシート!$A$1:$I$65536,9,FALSE)),"",IF(RIGHT(S25,3) = "000",VLOOKUP(S25,[1]データシート!$A$1:$I$65536,9,FALSE),VLOOKUP(S25,[1]データシート!$A$1:$I$65536,9,FALSE)&VLOOKUP(S25,[1]データシート!$A$1:$G$65536,4,FALSE))) -> 一色町松木島 | U25: =IF(T25="","",SUM(V25:W25)) -> 1964 | V25: =IF(ISNA(VLOOKUP(S25,[1]データシート!$A$1:$G$65536,6,FALSE)),"",SUMIF([1]データシート!$A$1:$A$65536,[1]集計表!S25,[1]データシート!$F$1:$F$65536)) -> 962 | W25: =IF(ISNA(VLOOKUP(S25,[1]データシート!$A$1:$G$65536,7,FALSE)),"",SUMIF([1]データシート!$A$1:$A$65536,[1]集計表!S25,[1]データシート!$G$1:$G$65536)) -> 1002 | X25: =IF(ISNA(VLOOKUP(S25,[1]データシート!$A$1:$G$65536,5,FALSE)),"",SUMIF([1]データシート!$A$1:$A$65536,[1]集計表!S25,[1]データシート!$E$1:$E$65536)) -> 743
A26: 088000 | B26: =IF(ISNA(VLOOKUP(A26,[1]データシート!$A$1:$I$65536,9,FALSE)),"",IF(RIGHT(A26,3) = "000",VLOOKUP(A26,[1]データシート!$A$1:$I$65536,9,FALSE),VLOOKUP(A26,[1]データシート!$A$1:$I$65536,9,FALSE)&VLOOKUP(A26,[1]データシート!$A$1:$G$65536,4,FALSE))) -> 天神町 | C26: =IF(B26="","",SUM(D26:E26)) -> 199 | D26: =IF(ISNA(VLOOKUP(A26,[1]データシート!$A$1:$G$65536,6,FALSE)),"",SUMIF([1]データシート!$A$1:$A$65536,[1]集計表!A26,[1]データシート!$F$1:$F$65536)) -> 99 | E26: =IF(ISNA(VLOOKUP(A26,[1]データシート!$A$1:$G$65536,7,FALSE)),"",SUMIF([1]データシート!$A$1:$A$65536,[1]集計表!A26,[1]データシート!$G$1:$G$65536)) -> 100 | F26: =IF(ISNA(VLOOKUP(A26,[1]データシート!$A$1:$G$65536,5,FALSE)),"",SUMIF([1]データシート!$A$1:$A$65536,[1]集計表!A26,[1]データシート!$E$1:$E$65536)) -> 87 | G26: 099000 | H26: =IF(ISNA(VLOOKUP(G26,[1]データシート!$A$1:$I$65536,9,FALSE)),"",IF(RIGHT(G26,3) = "000",VLOOKUP(G26,[1]データシート!$A$1:$I$65536,9,FALSE),VLOOKUP(G26,[1]データシート!$A$1:$I$65536,9,FALSE)&VLOOKUP(G26,[1]データシート!$A$1:$G$65536,4,FALSE))) -> 中畑町 | I26: =IF(H26="","",SUM(J26:K26)) -> 2688 | J26: =IF(ISNA(VLOOKUP(G26,[1]データシート!$A$1:$G$65536,6,FALSE)),"",SUMIF([1]データシート!$A$1:$A$65536,[1]集計表!G26,[1]データシート!$F$1:$F$65536)) -> 1376 | K26: =IF(ISNA(VLOOKUP(G26,[1]データシート!$A$1:$G$65536,7,FALSE)),"",SUMIF([1]データシート!$A$1:$A$65536,[1]集計表!G26,[1]データシート!$G$1:$G$65536)) -> 1312 | L26: =IF(ISNA(VLOOKUP(G26,[1]データシート!$A$1:$G$65536,5,FALSE)),"",SUMIF([1]データシート!$A$1:$A$65536,[1]集計表!G26,[1]データシート!$E$1:$E$65536)) -> 1158 | N26: =IF(ISNA(VLOOKUP(M26,[1]データシート!$A$1:$I$65536,9,FALSE)),"",IF(RIGHT(M26,3) = "000",VLOOKUP(M26,[1]データシート!$A$1:$I$65536,9,FALSE),VLOOKUP(M26,[1]データシート!$A$1:$I$65536,9,FALSE)&VLOOKUP(M26,[1]データシート!$A$1:$G$65536,4,FALSE))) | O26: =IF(N26="","",SUM(P26:Q26)) | P26: =IF(ISNA(VLOOKUP(M26,[1]データシート!$A$1:$G$65536,6,FALSE)),"",SUMIF([1]データシート!$A$1:$A$65536,[1]集計表!M26,[1]データシート!$F$1:$F$65536)) | Q26: =IF(ISNA(VLOOKUP(M26,[1]データシート!$A$1:$G$65536,7,FALSE)),"",SUMIF([1]データシート!$A$1:$A$65536,[1]集計表!M26,[1]データシート!$G$1:$G$65536)) | R26: =IF(ISNA(VLOOKUP(M26,[1]データシート!$A$1:$G$65536,5,FALSE)),"",SUMIF([1]データシート!$A$1:$A$65536,[1]集計表!M26,[1]データシート!$E$1:$E$65536)) | S26: 170000 | T26: =IF(ISNA(VLOOKUP(S26,[1]データシート!$A$1:$I$65536,9,FALSE)),"",IF(RIGHT(S26,3) = "000",VLOOKUP(S26,[1]データシート!$A$1:$I$65536,9,FALSE),VLOOKUP(S26,[1]データシート!$A$1:$I$65536,9,FALSE)&VLOOKUP(S26,[1]データシート!$A$1:$G$65536,4,FALSE))) -> 一色町養ケ島 | U26: =IF(T26="","",SUM(V26:W26)) -> 197 | V26: =IF(ISNA(VLOOKUP(S26,[1]データシート!$A$1:$G$65536,6,FALSE)),"",SUMIF([1]データシート!$A$1:$A$65536,[1]集計表!S26,[1]データシート!$F$1:$F$65536)) -> 95 | W26: =IF(ISNA(VLOOKUP(S26,[1]データシート!$A$1:$G$65536,7,FALSE)),"",SUMIF([1]データシート!$A$1:$A$65536,[1]集計表!S26,[1]データシート!$G$1:$G$65536)) -> 102 | X26: =IF(ISNA(VLOOKUP(S26,[1]データシート!$A$1:$G$65536,5,FALSE)),"",SUMIF([1]データシート!$A$1:$A$65536,[1]集計表!S26,[1]データシート!$E$1:$E$65536)) -> 88
A27: 029000 | B27: =IF(ISNA(VLOOKUP(A27,[1]データシート!$A$1:$I$65536,9,FALSE)),"",IF(RIGHT(A27,3) = "000",VLOOKUP(A27,[1]データシート!$A$1:$I$65536,9,FALSE),VLOOKUP(A27,[1]データシート!$A$1:$I$65536,9,FALSE)&VLOOKUP(A27,[1]データシート!$A$1:$G$65536,4,FALSE))) -> 亀沢町 | C27: =IF(B27="","",SUM(D27:E27)) -> 780 | D27: =IF(ISNA(VLOOKUP(A27,[1]データシート!$A$1:$G$65536,6,FALSE)),"",SUMIF([1]データシート!$A$1:$A$65536,[1]集計表!A27,[1]データシート!$F$1:$F$65536)) -> 382 | E27: =IF(ISNA(VLOOKUP(A27,[1]データシート!$A$1:$G$65536,7,FALSE)),"",SUMIF([1]データシート!$A$1:$A$65536,[1]集計表!A27,[1]データシート!$G$1:$G$65536)) -> 398 | F27: =IF(ISNA(VLOOKUP(A27,[1]データシート!$A$1:$G$65536,5,FALSE)),"",SUMIF([1]データシート!$A$1:$A$65536,[1]集計表!A27,[1]データシート!$E$1:$E$65536)) -> 348 | G27: 142001 | H27: =IF(ISNA(VLOOKUP(G27,[1]データシート!$A$1:$I$65536,9,FALSE)),"",IF(RIGHT(G27,3) = "000",VLOOKUP(G27,[1]データシート!$A$1:$I$65536,9,FALSE),VLOOKUP(G27,[1]データシート!$A$1:$I$65536,9,FALSE)&VLOOKUP(G27,[1]データシート!$A$1:$G$65536,4,FALSE))) -> 中畑１丁目 | I27: =IF(H27="","",SUM(J27:K27)) -> 508 | J27: =IF(ISNA(VLOOKUP(G27,[1]データシート!$A$1:$G$65536,6,FALSE)),"",SUMIF([1]データシート!$A$1:$A$65536,[1]集計表!G27,[1]データシート!$F$1:$F$65536)) -> 258 | K27: =IF(ISNA(VLOOKUP(G27,[1]データシート!$A$1:$G$65536,7,FALSE)),"",SUMIF([1]データシート!$A$1:$A$65536,[1]集計表!G27,[1]データシート!$G$1:$G$65536)) -> 250 | L27: =IF(ISNA(VLOOKUP(G27,[1]データシート!$A$1:$G$65536,5,FALSE)),"",SUMIF([1]データシート!$A$1:$A$65536,[1]集計表!G27,[1]データシート!$E$1:$E$65536)) -> 197 | N27: =IF(ISNA(VLOOKUP(M27,[1]データシート!$A$1:$I$65536,9,FALSE)),"",IF(RIGHT(M27,3) = "000",VLOOKUP(M27,[1]データシート!$A$1:$I$65536,9,FALSE),VLOOKUP(M27,[1]データシート!$A$1:$I$65536,9,FALSE)&VLOOKUP(M27,[1]データシート!$A$1:$G$65536,4,FALSE))) | O27: =IF(N27="","",SUM(P27:Q27)) | P27: =IF(ISNA(VLOOKUP(M27,[1]データシート!$A$1:$G$65536,6,FALSE)),"",SUMIF([1]データシート!$A$1:$A$65536,[1]集計表!M27,[1]データシート!$F$1:$F$65536)) | Q27: =IF(ISNA(VLOOKUP(M27,[1]データシート!$A$1:$G$65536,7,FALSE)),"",SUMIF([1]データシート!$A$1:$A$65536,[1]集計表!M27,[1]データシート!$G$1:$G$65536)) | R27: =IF(ISNA(VLOOKUP(M27,[1]データシート!$A$1:$G$65536,5,FALSE)),"",SUMIF([1]データシート!$A$1:$A$65536,[1]集計表!M27,[1]データシート!$E$1:$E$65536)) | T27: =IF(ISNA(VLOOKUP(S27,[1]データシート!$A$1:$I$65536,9,FALSE)),"",IF(RIGHT(S27,3) = "000",VLOOKUP(S27,[1]データシート!$A$1:$I$65536,9,FALSE),VLOOKUP(S27,[1]データシート!$A$1:$I$65536,9,FALSE)&VLOOKUP(S27,[1]データシート!$A$1:$G$65536,4,FALSE))) | U27: =IF(T27="","",SUM(V27:W27)) | V27: =IF(ISNA(VLOOKUP(S27,[1]データシート!$A$1:$G$65536,6,FALSE)),"",SUMIF([1]データシート!$A$1:$A$65536,[1]集計表!S27,[1]データシート!$F$1:$F$65536)) | W27: =IF(ISNA(VLOOKUP(S27,[1]データシート!$A$1:$G$65536,7,FALSE)),"",SUMIF([1]データシート!$A$1:$A$65536,[1]集計表!S27,[1]データシート!$G$1:$G$65536)) | X27: =IF(ISNA(VLOOKUP(S27,[1]データシート!$A$1:$G$65536,5,FALSE)),"",SUMIF([1]データシート!$A$1:$A$65536,[1]集計表!S27,[1]データシート!$E$1:$E$65536))
A28: 080000 | B28: =IF(ISNA(VLOOKUP(A28,[1]データシート!$A$1:$I$65536,9,FALSE)),"",IF(RIGHT(A28,3) = "000",VLOOKUP(A28,[1]データシート!$A$1:$I$65536,9,FALSE),VLOOKUP(A28,[1]データシート!$A$1:$I$65536,9,FALSE)&VLOOKUP(A28,[1]データシート!$A$1:$G$65536,4,FALSE))) -> 千歳町 | C28: =IF(B28="","",SUM(D28:E28)) -> 69 | D28: =IF(ISNA(VLOOKUP(A28,[1]データシート!$A$1:$G$65536,6,FALSE)),"",SUMIF([1]データシート!$A$1:$A$65536,[1]集計表!A28,[1]データシート!$F$1:$F$65536)) -> 33 | E28: =IF(ISNA(VLOOKUP(A28,[1]データシート!$A$1:$G$65536,7,FALSE)),"",SUMIF([1]データシート!$A$1:$A$65536,[1]集計表!A28,[1]データシート!$G$1:$G$65536)) -> 36 | F28: =IF(ISNA(VLOOKUP(A28,[1]データシート!$A$1:$G$65536,5,FALSE)),"",SUMIF([1]データシート!$A$1:$A$65536,[1]集計表!A28,[1]データシート!$E$1:$E$65536)) -> 29 | G28: 142002 | H28: =IF(ISNA(VLOOKUP(G28,[1]データシート!$A$1:$I$65536,9,FALSE)),"",IF(RIGHT(G28,3) = "000",VLOOKUP(G28,[1]データシート!$A$1:$I$65536,9,FALSE),VLOOKUP(G28,[1]データシート!$A$1:$I$65536,9,FALSE)&VLOOKUP(G28,[1]データシート!$A$1:$G$65536,4,FALSE))) -> 中畑２丁目 | I28: =IF(H28="","",SUM(J28:K28)) -> 268 | J28: =IF(ISNA(VLOOKUP(G28,[1]データシート!$A$1:$G$65536,6,FALSE)),"",SUMIF([1]データシート!$A$1:$A$65536,[1]集計表!G28,[1]データシート!$F$1:$F$65536)) -> 126 | K28: =IF(ISNA(VLOOKUP(G28,[1]データシート!$A$1:$G$65536,7,FALSE)),"",SUMIF([1]データシート!$A$1:$A$65536,[1]集計表!G28,[1]データシート!$G$1:$G$65536)) -> 142 | L28: =IF(ISNA(VLOOKUP(G28,[1]データシート!$A$1:$G$65536,5,FALSE)),"",SUMIF([1]データシート!$A$1:$A$65536,[1]集計表!G28,[1]データシート!$E$1:$E$65536)) -> 107 | N28: =IF(ISNA(VLOOKUP(M28,[1]データシート!$A$1:$I$65536,9,FALSE)),"",IF(RIGHT(M28,3) = "000",VLOOKUP(M28,[1]データシート!$A$1:$I$65536,9,FALSE),VLOOKUP(M28,[1]データシート!$A$1:$I$65536,9,FALSE)&VLOOKUP(M28,[1]データシート!$A$1:$G$65536,4,FALSE))) | O28: =IF(N28="","",SUM(P28:Q28)) | P28: =IF(ISNA(VLOOKUP(M28,[1]データシート!$A$1:$G$65536,6,FALSE)),"",SUMIF([1]データシート!$A$1:$A$65536,[1]集計表!M28,[1]データシート!$F$1:$F$65536)) | Q28: =IF(ISNA(VLOOKUP(M28,[1]データシート!$A$1:$G$65536,7,FALSE)),"",SUMIF([1]データシート!$A$1:$A$65536,[1]集計表!M28,[1]データシート!$G$1:$G$65536)) | R28: =IF(ISNA(VLOOKUP(M28,[1]データシート!$A$1:$G$65536,5,FALSE)),"",SUMIF([1]データシート!$A$1:$A$65536,[1]集計表!M28,[1]データシート!$E$1:$E$65536)) | U28: =IF(T28="","",SUM(V28:W28))
A29: 083000 | B29: =IF(ISNA(VLOOKUP(A29,[1]データシート!$A$1:$I$65536,9,FALSE)),"",IF(RIGHT(A29,3) = "000",VLOOKUP(A29,[1]データシート!$A$1:$I$65536,9,FALSE),VLOOKUP(A29,[1]データシート!$A$1:$I$65536,9,FALSE)&VLOOKUP(A29,[1]データシート!$A$1:$G$65536,4,FALSE))) -> 鶴ケ崎町 | C29: =IF(B29="","",SUM(D29:E29)) -> 76 | D29: =IF(ISNA(VLOOKUP(A29,[1]データシート!$A$1:$G$65536,6,FALSE)),"",SUMIF([1]データシート!$A$1:$A$65536,[1]集計表!A29,[1]データシート!$F$1:$F$65536)) -> 42 | E29: =IF(ISNA(VLOOKUP(A29,[1]データシート!$A$1:$G$65536,7,FALSE)),"",SUMIF([1]データシート!$A$1:$A$65536,[1]集計表!A29,[1]データシート!$G$1:$G$65536)) -> 34 | F29: =IF(ISNA(VLOOKUP(A29,[1]データシート!$A$1:$G$65536,5,FALSE)),"",SUMIF([1]データシート!$A$1:$A$65536,[1]集計表!A29,[1]データシート!$E$1:$E$65536)) -> 33 | G29: 118000 | H29: =IF(ISNA(VLOOKUP(G29,[1]データシート!$A$1:$I$65536,9,FALSE)),"",IF(RIGHT(G29,3) = "000",VLOOKUP(G29,[1]データシート!$A$1:$I$65536,9,FALSE),VLOOKUP(G29,[1]データシート!$A$1:$I$65536,9,FALSE)&VLOOKUP(G29,[1]データシート!$A$1:$G$65536,4,FALSE))) -> 平坂町 | I29: =IF(H29="","",SUM(J29:K29)) -> 4568 | J29: =IF(ISNA(VLOOKUP(G29,[1]データシート!$A$1:$G$65536,6,FALSE)),"",SUMIF([1]データシート!$A$1:$A$65536,[1]集計表!G29,[1]データシート!$F$1:$F$65536)) -> 2417 | K29: =IF(ISNA(VLOOKUP(G29,[1]データシート!$A$1:$G$65536,7,FALSE)),"",SUMIF([1]データシート!$A$1:$A$65536,[1]集計表!G29,[1]データシート!$G$1:$G$65536)) -> 2151 | L29: =IF(ISNA(VLOOKUP(G29,[1]データシート!$A$1:$G$65536,5,FALSE)),"",SUMIF([1]データシート!$A$1:$A$65536,[1]集計表!G29,[1]データシート!$E$1:$E$65536)) -> 1995 | N29: =IF(ISNA(VLOOKUP(M29,[1]データシート!$A$1:$I$65536,9,FALSE)),"",IF(RIGHT(M29,3) = "000",VLOOKUP(M29,[1]データシート!$A$1:$I$65536,9,FALSE),VLOOKUP(M29,[1]データシート!$A$1:$I$65536,9,FALSE)&VLOOKUP(M29,[1]データシート!$A$1:$G$65536,4,FALSE))) | O29: =IF(N29="","",SUM(P29:Q29)) | P29: =IF(ISNA(VLOOKUP(M29,[1]データシート!$A$1:$G$65536,6,FALSE)),"",SUMIF([1]データシート!$A$1:$A$65536,[1]集計表!M29,[1]データシート!$F$1:$F$65536)) | Q29: =IF(ISNA(VLOOKUP(M29,[1]データシート!$A$1:$G$65536,7,FALSE)),"",SUMIF([1]データシート!$A$1:$A$65536,[1]集計表!M29,[1]データシート!$G$1:$G$65536)) | R29: =IF(ISNA(VLOOKUP(M29,[1]データシート!$A$1:$G$65536,5,FALSE)),"",SUMIF([1]データシート!$A$1:$A$65536,[1]集計表!M29,[1]データシート!$E$1:$E$65536)) | U29: =IF(T29="","",SUM(V29:W29))
A30: 063000 | B30: =IF(ISNA(VLOOKUP(A30,[1]データシート!$A$1:$I$65536,9,FALSE)),"",IF(RIGHT(A30,3) = "000",VLOOKUP(A30,[1]データシート!$A$1:$I$65536,9,FALSE),VLOOKUP(A30,[1]データシート!$A$1:$I$65536,9,FALSE)&VLOOKUP(A30,[1]データシート!$A$1:$G$65536,4,FALSE))) -> 新屋敷町 | C30: =IF(B30="","",SUM(D30:E30)) -> 285 | D30: =IF(ISNA(VLOOKUP(A30,[1]データシート!$A$1:$G$65536,6,FALSE)),"",SUMIF([1]データシート!$A$1:$A$65536,[1]集計表!A30,[1]データシート!$F$1:$F$65536)) -> 147 | E30: =IF(ISNA(VLOOKUP(A30,[1]データシート!$A$1:$G$65536,7,FALSE)),"",SUMIF([1]データシート!$A$1:$A$65536,[1]集計表!A30,[1]データシート!$G$1:$G$65536)) -> 138 | F30: =IF(ISNA(VLOOKUP(A30,[1]データシート!$A$1:$G$65536,5,FALSE)),"",SUMIF([1]データシート!$A$1:$A$65536,[1]集計表!A30,[1]データシート!$E$1:$E$65536)) -> 125 | G30: 036000 | H30: =IF(ISNA(VLOOKUP(G30,[1]データシート!$A$1:$I$65536,9,FALSE)),"",IF(RIGHT(G30,3) = "000",VLOOKUP(G30,[1]データシート!$A$1:$I$65536,9,FALSE),VLOOKUP(G30,[1]データシート!$A$1:$I$65536,9,FALSE)&VLOOKUP(G30,[1]データシート!$A$1:$G$65536,4,FALSE))) -> 楠村町 | I30: =IF(H30="","",SUM(J30:K30)) -> 2938 | J30: =IF(ISNA(VLOOKUP(G30,[1]データシート!$A$1:$G$65536,6,FALSE)),"",SUMIF([1]データシート!$A$1:$A$65536,[1]集計表!G30,[1]データシート!$F$1:$F$65536)) -> 1539 | K30: =IF(ISNA(VLOOKUP(G30,[1]データシート!$A$1:$G$65536,7,FALSE)),"",SUMIF([1]データシート!$A$1:$A$65536,[1]集計表!G30,[1]データシート!$G$1:$G$65536)) -> 1399 | L30: =IF(ISNA(VLOOKUP(G30,[1]データシート!$A$1:$G$65536,5,FALSE)),"",SUMIF([1]データシート!$A$1:$A$65536,[1]集計表!G30,[1]データシート!$E$1:$E$65536)) -> 1255 | M30: 福地地区 計 | O30: =SUM(O4:O29)+SUM(I75:I77) -> 9143 | P30: =SUM(P4:P29)+SUM(J75:J77) -> 4555 | Q30: =SUM(Q4:Q29)+SUM(K75:K77) -> 4588 | R30: =SUM(R4:R29)+SUM(L75:L77) -> 3474 | T30: =IF(ISNA(VLOOKUP(S30,[1]データシート!$A$1:$I$65536,9,FALSE)),"",IF(RIGHT(S30,3) = "000",VLOOKUP(S30,[1]データシート!$A$1:$I$65536,9,FALSE),VLOOKUP(S30,[1]データシート!$A$1:$I$65536,9,FALSE)&VLOOKUP(S30,[1]データシート!$A$1:$G$65536,4,FALSE))) | U30: =IF(T30="","",SUM(V30:W30)) | V30: =IF(ISNA(VLOOKUP(S30,[1]データシート!$A$1:$G$65536,6,FALSE)),"",SUMIF([1]データシート!$A$1:$A$65536,[1]集計表!S30,[1]データシート!$F$1:$F$65536)) | W30: =IF(ISNA(VLOOKUP(S30,[1]データシート!$A$1:$G$65536,7,FALSE)),"",SUMIF([1]データシート!$A$1:$A$65536,[1]集計表!S30,[1]データシート!$G$1:$G$65536)) | X30: =IF(ISNA(VLOOKUP(S30,[1]データシート!$A$1:$G$65536,5,FALSE)),"",SUMIF([1]データシート!$A$1:$A$65536,[1]集計表!S30,[1]データシート!$E$1:$E$65536))
A31: 067000 | B31: =IF(ISNA(VLOOKUP(A31,[1]データシート!$A$1:$I$65536,9,FALSE)),"",IF(RIGHT(A31,3) = "000",VLOOKUP(A31,[1]データシート!$A$1:$I$65536,9,FALSE),VLOOKUP(A31,[1]データシート!$A$1:$I$65536,9,FALSE)&VLOOKUP(A31,[1]データシート!$A$1:$G$65536,4,FALSE))) -> 菅原町 | C31: =IF(B31="","",SUM(D31:E31)) -> 221 | D31: =IF(ISNA(VLOOKUP(A31,[1]データシート!$A$1:$G$65536,6,FALSE)),"",SUMIF([1]データシート!$A$1:$A$65536,[1]集計表!A31,[1]データシート!$F$1:$F$65536)) -> 112 | E31: =IF(ISNA(VLOOKUP(A31,[1]データシート!$A$1:$G$65536,7,FALSE)),"",SUMIF([1]データシート!$A$1:$A$65536,[1]集計表!A31,[1]データシート!$G$1:$G$65536)) -> 109 | F31: =IF(ISNA(VLOOKUP(A31,[1]データシート!$A$1:$G$65536,5,FALSE)),"",SUMIF([1]データシート!$A$1:$A$65536,[1]集計表!A31,[1]データシート!$E$1:$E$65536)) -> 76 | G31: 106000 | H31: =IF(ISNA(VLOOKUP(G31,[1]データシート!$A$1:$I$65536,9,FALSE)),"",IF(RIGHT(G31,3) = "000",VLOOKUP(G31,[1]データシート!$A$1:$I$65536,9,FALSE),VLOOKUP(G31,[1]データシート!$A$1:$I$65536,9,FALSE)&VLOOKUP(G31,[1]データシート!$A$1:$G$65536,4,FALSE))) -> 西小梛町 | I31: =IF(H31="","",SUM(J31:K31)) -> 188 | J31: =IF(ISNA(VLOOKUP(G31,[1]データシート!$A$1:$G$65536,6,FALSE)),"",SUMIF([1]データシート!$A$1:$A$65536,[1]集計表!G31,[1]データシート!$F$1:$F$65536)) -> 99 | K31: =IF(ISNA(VLOOKUP(G31,[1]データシート!$A$1:$G$65536,7,FALSE)),"",SUMIF([1]データシート!$A$1:$A$65536,[1]集計表!G31,[1]データシート!$G$1:$G$65536)) -> 89 | L31: =IF(ISNA(VLOOKUP(G31,[1]データシート!$A$1:$G$65536,5,FALSE)),"",SUMIF([1]データシート!$A$1:$A$65536,[1]集計表!G31,[1]データシート!$E$1:$E$65536)) -> 67 | M31: 室 場 地 区 | U31: =IF(T31="","",SUM(V31:W31)) | V31: =IF(ISNA(VLOOKUP(S31,[1]データシート!$A$1:$G$65536,6,FALSE)),"",SUMIF([1]データシート!$A$1:$A$65536,[1]集計表!S31,[1]データシート!$F$1:$F$65536)) | W31: =IF(ISNA(VLOOKUP(S31,[1]データシート!$A$1:$G$65536,7,FALSE)),"",SUMIF([1]データシート!$A$1:$A$65536,[1]集計表!S31,[1]データシート!$G$1:$G$65536)) | X31: =IF(ISNA(VLOOKUP(S31,[1]データシート!$A$1:$G$65536,5,FALSE)),"",SUMIF([1]データシート!$A$1:$A$65536,[1]集計表!S31,[1]データシート!$E$1:$E$65536))
A32: 127000 | B32: =IF(ISNA(VLOOKUP(A32,[1]データシート!$A$1:$I$65536,9,FALSE)),"",IF(RIGHT(A32,3) = "000",VLOOKUP(A32,[1]データシート!$A$1:$I$65536,9,FALSE),VLOOKUP(A32,[1]データシート!$A$1:$I$65536,9,FALSE)&VLOOKUP(A32,[1]データシート!$A$1:$G$65536,4,FALSE))) -> 宮町 | C32: =IF(B32="","",SUM(D32:E32)) -> 507 | D32: =IF(ISNA(VLOOKUP(A32,[1]データシート!$A$1:$G$65536,6,FALSE)),"",SUMIF([1]データシート!$A$1:$A$65536,[1]集計表!A32,[1]データシート!$F$1:$F$65536)) -> 241 | E32: =IF(ISNA(VLOOKUP(A32,[1]データシート!$A$1:$G$65536,7,FALSE)),"",SUMIF([1]データシート!$A$1:$A$65536,[1]集計表!A32,[1]データシート!$G$1:$G$65536)) -> 266 | F32: =IF(ISNA(VLOOKUP(A32,[1]データシート!$A$1:$G$65536,5,FALSE)),"",SUMIF([1]データシート!$A$1:$A$65536,[1]集計表!A32,[1]データシート!$E$1:$E$65536)) -> 206 | G32: 016000 | H32: =IF(ISNA(VLOOKUP(G32,[1]データシート!$A$1:$I$65536,9,FALSE)),"",IF(RIGHT(G32,3) = "000",VLOOKUP(G32,[1]データシート!$A$1:$I$65536,9,FALSE),VLOOKUP(G32,[1]データシート!$A$1:$I$65536,9,FALSE)&VLOOKUP(G32,[1]データシート!$A$1:$G$65536,4,FALSE))) -> 小栗町 | I32: =IF(H32="","",SUM(J32:K32)) -> 104 | J32: =IF(ISNA(VLOOKUP(G32,[1]データシート!$A$1:$G$65536,6,FALSE)),"",SUMIF([1]データシート!$A$1:$A$65536,[1]集計表!G32,[1]データシート!$F$1:$F$65536)) -> 51 | K32: =IF(ISNA(VLOOKUP(G32,[1]データシート!$A$1:$G$65536,7,FALSE)),"",SUMIF([1]データシート!$A$1:$A$65536,[1]集計表!G32,[1]データシート!$G$1:$G$65536)) -> 53 | L32: =IF(ISNA(VLOOKUP(G32,[1]データシート!$A$1:$G$65536,5,FALSE)),"",SUMIF([1]データシート!$A$1:$A$65536,[1]集計表!G32,[1]データシート!$E$1:$E$65536)) -> 34 | M32: 128000 | N32: =IF(ISNA(VLOOKUP(M32,[1]データシート!$A$1:$I$65536,9,FALSE)),"",IF(RIGHT(M32,3) = "000",VLOOKUP(M32,[1]データシート!$A$1:$I$65536,9,FALSE),VLOOKUP(M32,[1]データシート!$A$1:$I$65536,9,FALSE)&VLOOKUP(M32,[1]データシート!$A$1:$G$65536,4,FALSE))) -> 室町 | O32: =IF(N32="","",SUM(P32:Q32)) -> 884 | P32: =IF(ISNA(VLOOKUP(M32,[1]データシート!$A$1:$G$65536,6,FALSE)),"",SUMIF([1]データシート!$A$1:$A$65536,[1]集計表!M32,[1]データシート!$F$1:$F$65536)) -> 433 | Q32: =IF(ISNA(VLOOKUP(M32,[1]データシート!$A$1:$G$65536,7,FALSE)),"",SUMIF([1]データシート!$A$1:$A$65536,[1]集計表!M32,[1]データシート!$G$1:$G$65536)) -> 451 | R32: =IF(ISNA(VLOOKUP(M32,[1]データシート!$A$1:$G$65536,5,FALSE)),"",SUMIF([1]データシート!$A$1:$A$65536,[1]集計表!M32,[1]データシート!$E$1:$E$65536)) -> 357 | S32: 一色地区 計 | U32: =SUM(U5:U31) -> 22625 | V32: =SUM(V5:V31) -> 11287 | W32: =SUM(W5:W31) -> 11338 | X32: =SUM(X5:X31) -> 8979
A33: 048000 | B33: =IF(ISNA(VLOOKUP(A33,[1]データシート!$A$1:$I$65536,9,FALSE)),"",IF(RIGHT(A33,3) = "000",VLOOKUP(A33,[1]データシート!$A$1:$I$65536,9,FALSE),VLOOKUP(A33,[1]データシート!$A$1:$I$65536,9,FALSE)&VLOOKUP(A33,[1]データシート!$A$1:$G$65536,4,FALSE))) -> 桜町 | C33: =IF(B33="","",SUM(D33:E33)) -> 1793 | D33: =IF(ISNA(VLOOKUP(A33,[1]データシート!$A$1:$G$65536,6,FALSE)),"",SUMIF([1]データシート!$A$1:$A$65536,[1]集計表!A33,[1]データシート!$F$1:$F$65536)) -> 896 | E33: =IF(ISNA(VLOOKUP(A33,[1]データシート!$A$1:$G$65536,7,FALSE)),"",SUMIF([1]データシート!$A$1:$A$65536,[1]集計表!A33,[1]データシート!$G$1:$G$65536)) -> 897 | F33: =IF(ISNA(VLOOKUP(A33,[1]データシート!$A$1:$G$65536,5,FALSE)),"",SUMIF([1]データシート!$A$1:$A$65536,[1]集計表!A33,[1]データシート!$E$1:$E$65536)) -> 816 | G33: 015000 | H33: =IF(ISNA(VLOOKUP(G33,[1]データシート!$A$1:$I$65536,9,FALSE)),"",IF(RIGHT(G33,3) = "000",VLOOKUP(G33,[1]データシート!$A$1:$I$65536,9,FALSE),VLOOKUP(G33,[1]データシート!$A$1:$I$65536,9,FALSE)&VLOOKUP(G33,[1]データシート!$A$1:$G$65536,4,FALSE))) -> 奥田町 | I33: =IF(H33="","",SUM(J33:K33)) -> 114 | J33: =IF(ISNA(VLOOKUP(G33,[1]データシート!$A$1:$G$65536,6,FALSE)),"",SUMIF([1]データシート!$A$1:$A$65536,[1]集計表!G33,[1]データシート!$F$1:$F$65536)) -> 60 | K33: =IF(ISNA(VLOOKUP(G33,[1]データシート!$A$1:$G$65536,7,FALSE)),"",SUMIF([1]データシート!$A$1:$A$65536,[1]集計表!G33,[1]データシート!$G$1:$G$65536)) -> 54 | L33: =IF(ISNA(VLOOKUP(G33,[1]データシート!$A$1:$G$65536,5,FALSE)),"",SUMIF([1]データシート!$A$1:$A$65536,[1]集計表!G33,[1]データシート!$E$1:$E$65536)) -> 36 | M33: 040000 | N33: =IF(ISNA(VLOOKUP(M33,[1]データシート!$A$1:$I$65536,9,FALSE)),"",IF(RIGHT(M33,3) = "000",VLOOKUP(M33,[1]データシート!$A$1:$I$65536,9,FALSE),VLOOKUP(M33,[1]データシート!$A$1:$I$65536,9,FALSE)&VLOOKUP(M33,[1]データシート!$A$1:$G$65536,4,FALSE))) -> 駒場町 | O33: =IF(N33="","",SUM(P33:Q33)) -> 743 | P33: =IF(ISNA(VLOOKUP(M33,[1]データシート!$A$1:$G$65536,6,FALSE)),"",SUMIF([1]データシート!$A$1:$A$65536,[1]集計表!M33,[1]データシート!$F$1:$F$65536)) -> 385 | Q33: =IF(ISNA(VLOOKUP(M33,[1]データシート!$A$1:$G$65536,7,FALSE)),"",SUMIF([1]データシート!$A$1:$A$65536,[1]集計表!M33,[1]データシート!$G$1:$G$65536)) -> 358 | R33: =IF(ISNA(VLOOKUP(M33,[1]データシート!$A$1:$G$65536,5,FALSE)),"",SUMIF([1]データシート!$A$1:$A$65536,[1]集計表!M33,[1]データシート!$E$1:$E$65536)) -> 310 | S33: 吉 良 地 区
A34: 123000 | B34: =IF(ISNA(VLOOKUP(A34,[1]データシート!$A$1:$I$65536,9,FALSE)),"",IF(RIGHT(A34,3) = "000",VLOOKUP(A34,[1]データシート!$A$1:$I$65536,9,FALSE),VLOOKUP(A34,[1]データシート!$A$1:$I$65536,9,FALSE)&VLOOKUP(A34,[1]データシート!$A$1:$G$65536,4,FALSE))) -> 緑町 | C34: =IF(B34="","",SUM(D34:E34)) -> 1048 | D34: =IF(ISNA(VLOOKUP(A34,[1]データシート!$A$1:$G$65536,6,FALSE)),"",SUMIF([1]データシート!$A$1:$A$65536,[1]集計表!A34,[1]データシート!$F$1:$F$65536)) -> 518 | E34: =IF(ISNA(VLOOKUP(A34,[1]データシート!$A$1:$G$65536,7,FALSE)),"",SUMIF([1]データシート!$A$1:$A$65536,[1]集計表!A34,[1]データシート!$G$1:$G$65536)) -> 530 | F34: =IF(ISNA(VLOOKUP(A34,[1]データシート!$A$1:$G$65536,5,FALSE)),"",SUMIF([1]データシート!$A$1:$A$65536,[1]集計表!A34,[1]データシート!$E$1:$E$65536)) -> 458 | G34: 105000 | H34: =IF(ISNA(VLOOKUP(G34,[1]データシート!$A$1:$I$65536,9,FALSE)),"",IF(RIGHT(G34,3) = "000",VLOOKUP(G34,[1]データシート!$A$1:$I$65536,9,FALSE),VLOOKUP(G34,[1]データシート!$A$1:$I$65536,9,FALSE)&VLOOKUP(G34,[1]データシート!$A$1:$G$65536,4,FALSE))) | I34: =IF(H34="","",SUM(J34:K34)) | J34: =IF(ISNA(VLOOKUP(G34,[1]データシート!$A$1:$G$65536,6,FALSE)),"",SUMIF([1]データシート!$A$1:$A$65536,[1]集計表!G34,[1]データシート!$F$1:$F$65536)) | K34: =IF(ISNA(VLOOKUP(G34,[1]データシート!$A$1:$G$65536,7,FALSE)),"",SUMIF([1]データシート!$A$1:$A$65536,[1]集計表!G34,[1]データシート!$G$1:$G$65536)) | L34: =IF(ISNA(VLOOKUP(G34,[1]データシート!$A$1:$G$65536,5,FALSE)),"",SUMIF([1]データシート!$A$1:$A$65536,[1]集計表!G34,[1]データシート!$E$1:$E$65536)) | M34: 039000 | N34: =IF(ISNA(VLOOKUP(M34,[1]データシート!$A$1:$I$65536,9,FALSE)),"",IF(RIGHT(M34,3) = "000",VLOOKUP(M34,[1]データシート!$A$1:$I$65536,9,FALSE),VLOOKUP(M34,[1]データシート!$A$1:$I$65536,9,FALSE)&VLOOKUP(M34,[1]データシート!$A$1:$G$65536,4,FALSE))) -> 花蔵寺町 | O34: =IF(N34="","",SUM(P34:Q34)) -> 338 | P34: =IF(ISNA(VLOOKUP(M34,[1]データシート!$A$1:$G$65536,6,FALSE)),"",SUMIF([1]データシート!$A$1:$A$65536,[1]集計表!M34,[1]データシート!$F$1:$F$65536)) -> 161 | Q34: =IF(ISNA(VLOOKUP(M34,[1]データシート!$A$1:$G$65536,7,FALSE)),"",SUMIF([1]データシート!$A$1:$A$65536,[1]集計表!M34,[1]データシート!$G$1:$G$65536)) -> 177 | R34: =IF(ISNA(VLOOKUP(M34,[1]データシート!$A$1:$G$65536,5,FALSE)),"",SUMIF([1]データシート!$A$1:$A$65536,[1]集計表!M34,[1]データシート!$E$1:$E$65536)) -> 122 | S34: 171000 | T34: =IF(ISNA(VLOOKUP(S34,[1]データシート!$A$1:$I$65536,9,FALSE)),"",IF(RIGHT(S34,3) = "000",VLOOKUP(S34,[1]データシート!$A$1:$I$65536,9,FALSE),VLOOKUP(S34,[1]データシート!$A$1:$I$65536,9,FALSE)&VLOOKUP(S34,[1]データシート!$A$1:$G$65536,4,FALSE))) -> 吉良町饗庭 | U34: =IF(T34="","",SUM(V34:W34)) -> 629 | V34: =IF(ISNA(VLOOKUP(S34,[1]データシート!$A$1:$G$65536,6,FALSE)),"",SUMIF([1]データシート!$A$1:$A$65536,[1]集計表!S34,[1]データシート!$F$1:$F$65536)) -> 310 | W34: =IF(ISNA(VLOOKUP(S34,[1]データシート!$A$1:$G$65536,7,FALSE)),"",SUMIF([1]データシート!$A$1:$A$65536,[1]集計表!S34,[1]データシート!$G$1:$G$65536)) -> 319 | X34: =IF(ISNA(VLOOKUP(S34,[1]データシート!$A$1:$G$65536,5,FALSE)),"",SUMIF([1]データシート!$A$1:$A$65536,[1]集計表!S34,[1]データシート!$E$1:$E$65536)) -> 224
A35: 023000 | B35: =IF(ISNA(VLOOKUP(A35,[1]データシート!$A$1:$I$65536,9,FALSE)),"",IF(RIGHT(A35,3) = "000",VLOOKUP(A35,[1]データシート!$A$1:$I$65536,9,FALSE),VLOOKUP(A35,[1]データシート!$A$1:$I$65536,9,FALSE)&VLOOKUP(A35,[1]データシート!$A$1:$G$65536,4,FALSE))) -> 神下町 | C35: =IF(B35="","",SUM(D35:E35)) -> 155 | D35: =IF(ISNA(VLOOKUP(A35,[1]データシート!$A$1:$G$65536,6,FALSE)),"",SUMIF([1]データシート!$A$1:$A$65536,[1]集計表!A35,[1]データシート!$F$1:$F$65536)) -> 79 | E35: =IF(ISNA(VLOOKUP(A35,[1]データシート!$A$1:$G$65536,7,FALSE)),"",SUMIF([1]データシート!$A$1:$A$65536,[1]集計表!A35,[1]データシート!$G$1:$G$65536)) -> 76 | F35: =IF(ISNA(VLOOKUP(A35,[1]データシート!$A$1:$G$65536,5,FALSE)),"",SUMIF([1]データシート!$A$1:$A$65536,[1]集計表!A35,[1]データシート!$E$1:$E$65536)) -> 68 | G35: 125000 | H35: =IF(ISNA(VLOOKUP(G35,[1]データシート!$A$1:$I$65536,9,FALSE)),"",IF(RIGHT(G35,3) = "000",VLOOKUP(G35,[1]データシート!$A$1:$I$65536,9,FALSE),VLOOKUP(G35,[1]データシート!$A$1:$I$65536,9,FALSE)&VLOOKUP(G35,[1]データシート!$A$1:$G$65536,4,FALSE))) -> 南奥田町 | I35: =IF(H35="","",SUM(J35:K35)) -> 47 | J35: =IF(ISNA(VLOOKUP(G35,[1]データシート!$A$1:$G$65536,6,FALSE)),"",SUMIF([1]データシート!$A$1:$A$65536,[1]集計表!G35,[1]データシート!$F$1:$F$65536)) -> 21 | K35: =IF(ISNA(VLOOKUP(G35,[1]データシート!$A$1:$G$65536,7,FALSE)),"",SUMIF([1]データシート!$A$1:$A$65536,[1]集計表!G35,[1]データシート!$G$1:$G$65536)) -> 26 | L35: =IF(ISNA(VLOOKUP(G35,[1]データシート!$A$1:$G$65536,5,FALSE)),"",SUMIF([1]データシート!$A$1:$A$65536,[1]集計表!G35,[1]データシート!$E$1:$E$65536)) -> 19 | M35: 073000 | N35: =IF(ISNA(VLOOKUP(M35,[1]データシート!$A$1:$I$65536,9,FALSE)),"",IF(RIGHT(M35,3) = "000",VLOOKUP(M35,[1]データシート!$A$1:$I$65536,9,FALSE),VLOOKUP(M35,[1]データシート!$A$1:$I$65536,9,FALSE)&VLOOKUP(M35,[1]データシート!$A$1:$G$65536,4,FALSE))) -> 善明町 | O35: =IF(N35="","",SUM(P35:Q35)) -> 144 | P35: =IF(ISNA(VLOOKUP(M35,[1]データシート!$A$1:$G$65536,6,FALSE)),"",SUMIF([1]データシート!$A$1:$A$65536,[1]集計表!M35,[1]データシート!$F$1:$F$65536)) -> 68 | Q35: =IF(ISNA(VLOOKUP(M35,[1]データシート!$A$1:$G$65536,7,FALSE)),"",SUMIF([1]データシート!$A$1:$A$65536,[1]集計表!M35,[1]データシート!$G$1:$G$65536)) -> 76 | R35: =IF(ISNA(VLOOKUP(M35,[1]データシート!$A$1:$G$65536,5,FALSE)),"",SUMIF([1]データシート!$A$1:$A$65536,[1]集計表!M35,[1]データシート!$E$1:$E$65536)) -> 52 | S35: 172000 | T35: =IF(ISNA(VLOOKUP(S35,[1]データシート!$A$1:$I$65536,9,FALSE)),"",IF(RIGHT(S35,3) = "000",VLOOKUP(S35,[1]データシート!$A$1:$I$65536,9,FALSE),VLOOKUP(S35,[1]データシート!$A$1:$I$65536,9,FALSE)&VLOOKUP(S35,[1]データシート!$A$1:$G$65536,4,FALSE))) -> 吉良町大島 | U35: =IF(T35="","",SUM(V35:W35)) -> 341 | V35: =IF(ISNA(VLOOKUP(S35,[1]データシート!$A$1:$G$65536,6,FALSE)),"",SUMIF([1]データシート!$A$1:$A$65536,[1]集計表!S35,[1]データシート!$F$1:$F$65536)) -> 161 | W35: =IF(ISNA(VLOOKUP(S35,[1]データシート!$A$1:$G$65536,7,FALSE)),"",SUMIF([1]データシート!$A$1:$A$65536,[1]集計表!S35,[1]データシート!$G$1:$G$65536)) -> 180 | X35: =IF(ISNA(VLOOKUP(S35,[1]データシート!$A$1:$G$65536,5,FALSE)),"",SUMIF([1]データシート!$A$1:$A$65536,[1]集計表!S35,[1]データシート!$E$1:$E$65536)) -> 127
A36: 009000 | B36: =IF(ISNA(VLOOKUP(A36,[1]データシート!$A$1:$I$65536,9,FALSE)),"",IF(RIGHT(A36,3) = "000",VLOOKUP(A36,[1]データシート!$A$1:$I$65536,9,FALSE),VLOOKUP(A36,[1]データシート!$A$1:$I$65536,9,FALSE)&VLOOKUP(A36,[1]データシート!$A$1:$G$65536,4,FALSE))) -> 永楽町 | C36: =IF(B36="","",SUM(D36:E36)) -> 489 | D36: =IF(ISNA(VLOOKUP(A36,[1]データシート!$A$1:$G$65536,6,FALSE)),"",SUMIF([1]データシート!$A$1:$A$65536,[1]集計表!A36,[1]データシート!$F$1:$F$65536)) -> 226 | E36: =IF(ISNA(VLOOKUP(A36,[1]データシート!$A$1:$G$65536,7,FALSE)),"",SUMIF([1]データシート!$A$1:$A$65536,[1]集計表!A36,[1]データシート!$G$1:$G$65536)) -> 263 | F36: =IF(ISNA(VLOOKUP(A36,[1]データシート!$A$1:$G$65536,5,FALSE)),"",SUMIF([1]データシート!$A$1:$A$65536,[1]集計表!A36,[1]データシート!$E$1:$E$65536)) -> 192 | G36: 094000 | H36: =IF(ISNA(VLOOKUP(G36,[1]データシート!$A$1:$I$65536,9,FALSE)),"",IF(RIGHT(G36,3) = "000",VLOOKUP(G36,[1]データシート!$A$1:$I$65536,9,FALSE),VLOOKUP(G36,[1]データシート!$A$1:$I$65536,9,FALSE)&VLOOKUP(G36,[1]データシート!$A$1:$G$65536,4,FALSE))) -> 富山町 | I36: =IF(H36="","",SUM(J36:K36)) -> 653 | J36: =IF(ISNA(VLOOKUP(G36,[1]データシート!$A$1:$G$65536,6,FALSE)),"",SUMIF([1]データシート!$A$1:$A$65536,[1]集計表!G36,[1]データシート!$F$1:$F$65536)) -> 328 | K36: =IF(ISNA(VLOOKUP(G36,[1]データシート!$A$1:$G$65536,7,FALSE)),"",SUMIF([1]データシート!$A$1:$A$65536,[1]集計表!G36,[1]データシート!$G$1:$G$65536)) -> 325 | L36: =IF(ISNA(VLOOKUP(G36,[1]データシート!$A$1:$G$65536,5,FALSE)),"",SUMIF([1]データシート!$A$1:$A$65536,[1]集計表!G36,[1]データシート!$E$1:$E$65536)) -> 251 | M36: 010000 | N36: =IF(ISNA(VLOOKUP(M36,[1]データシート!$A$1:$I$65536,9,FALSE)),"",IF(RIGHT(M36,3) = "000",VLOOKUP(M36,[1]データシート!$A$1:$I$65536,9,FALSE),VLOOKUP(M36,[1]データシート!$A$1:$I$65536,9,FALSE)&VLOOKUP(M36,[1]データシート!$A$1:$G$65536,4,FALSE))) -> 家武町 | O36: =IF(N36="","",SUM(P36:Q36)) -> 523 | P36: =IF(ISNA(VLOOKUP(M36,[1]データシート!$A$1:$G$65536,6,FALSE)),"",SUMIF([1]データシート!$A$1:$A$65536,[1]集計表!M36,[1]データシート!$F$1:$F$65536)) -> 278 | Q36: =IF(ISNA(VLOOKUP(M36,[1]データシート!$A$1:$G$65536,7,FALSE)),"",SUMIF([1]データシート!$A$1:$A$65536,[1]集計表!M36,[1]データシート!$G$1:$G$65536)) -> 245 | R36: =IF(ISNA(VLOOKUP(M36,[1]データシート!$A$1:$G$65536,5,FALSE)),"",SUMIF([1]データシート!$A$1:$A$65536,[1]集計表!M36,[1]データシート!$E$1:$E$65536)) -> 202 | S36: 173000 | T36: =IF(ISNA(VLOOKUP(S36,[1]データシート!$A$1:$I$65536,9,FALSE)),"",IF(RIGHT(S36,3) = "000",VLOOKUP(S36,[1]データシート!$A$1:$I$65536,9,FALSE),VLOOKUP(S36,[1]データシート!$A$1:$I$65536,9,FALSE)&VLOOKUP(S36,[1]データシート!$A$1:$G$65536,4,FALSE))) -> 吉良町岡山 | U36: =IF(T36="","",SUM(V36:W36)) -> 458 | V36: =IF(ISNA(VLOOKUP(S36,[1]データシート!$A$1:$G$65536,6,FALSE)),"",SUMIF([1]データシート!$A$1:$A$65536,[1]集計表!S36,[1]データシート!$F$1:$F$65536)) -> 223 | W36: =IF(ISNA(VLOOKUP(S36,[1]データシート!$A$1:$G$65536,7,FALSE)),"",SUMIF([1]データシート!$A$1:$A$65536,[1]集計表!S36,[1]データシート!$G$1:$G$65536)) -> 235 | X36: =IF(ISNA(VLOOKUP(S36,[1]データシート!$A$1:$G$65536,5,FALSE)),"",SUMIF([1]データシート!$A$1:$A$65536,[1]集計表!S36,[1]データシート!$E$1:$E$65536)) -> 169
A37: 110000 | B37: =IF(ISNA(VLOOKUP(A37,[1]データシート!$A$1:$I$65536,9,FALSE)),"",IF(RIGHT(A37,3) = "000",VLOOKUP(A37,[1]データシート!$A$1:$I$65536,9,FALSE),VLOOKUP(A37,[1]データシート!$A$1:$I$65536,9,FALSE)&VLOOKUP(A37,[1]データシート!$A$1:$G$65536,4,FALSE))) -> 花ノ木町 | C37: =IF(B37="","",SUM(D37:E37)) -> 489 | D37: =IF(ISNA(VLOOKUP(A37,[1]データシート!$A$1:$G$65536,6,FALSE)),"",SUMIF([1]データシート!$A$1:$A$65536,[1]集計表!A37,[1]データシート!$F$1:$F$65536)) -> 249 | E37: =IF(ISNA(VLOOKUP(A37,[1]データシート!$A$1:$G$65536,7,FALSE)),"",SUMIF([1]データシート!$A$1:$A$65536,[1]集計表!A37,[1]データシート!$G$1:$G$65536)) -> 240 | F37: =IF(ISNA(VLOOKUP(A37,[1]データシート!$A$1:$G$65536,5,FALSE)),"",SUMIF([1]データシート!$A$1:$A$65536,[1]集計表!A37,[1]データシート!$E$1:$E$65536)) -> 251 | G37: 028000 | H37: =IF(ISNA(VLOOKUP(G37,[1]データシート!$A$1:$I$65536,9,FALSE)),"",IF(RIGHT(G37,3) = "000",VLOOKUP(G37,[1]データシート!$A$1:$I$65536,9,FALSE),VLOOKUP(G37,[1]データシート!$A$1:$I$65536,9,FALSE)&VLOOKUP(G37,[1]データシート!$A$1:$G$65536,4,FALSE))) -> 上矢田町 | I37: =IF(H37="","",SUM(J37:K37)) -> 3253 | J37: =IF(ISNA(VLOOKUP(G37,[1]データシート!$A$1:$G$65536,6,FALSE)),"",SUMIF([1]データシート!$A$1:$A$65536,[1]集計表!G37,[1]データシート!$F$1:$F$65536)) -> 1725 | K37: =IF(ISNA(VLOOKUP(G37,[1]データシート!$A$1:$G$65536,7,FALSE)),"",SUMIF([1]データシート!$A$1:$A$65536,[1]集計表!G37,[1]データシート!$G$1:$G$65536)) -> 1528 | L37: =IF(ISNA(VLOOKUP(G37,[1]データシート!$A$1:$G$65536,5,FALSE)),"",SUMIF([1]データシート!$A$1:$A$65536,[1]集計表!G37,[1]データシート!$E$1:$E$65536)) -> 1490 | M37: 116000 | N37: =IF(ISNA(VLOOKUP(M37,[1]データシート!$A$1:$I$65536,9,FALSE)),"",IF(RIGHT(M37,3) = "000",VLOOKUP(M37,[1]データシート!$A$1:$I$65536,9,FALSE),VLOOKUP(M37,[1]データシート!$A$1:$I$65536,9,FALSE)&VLOOKUP(M37,[1]データシート!$A$1:$G$65536,4,FALSE))) -> 平原町 | O37: =IF(N37="","",SUM(P37:Q37)) -> 373 | P37: =IF(ISNA(VLOOKUP(M37,[1]データシート!$A$1:$G$65536,6,FALSE)),"",SUMIF([1]データシート!$A$1:$A$65536,[1]集計表!M37,[1]データシート!$F$1:$F$65536)) -> 170 | Q37: =IF(ISNA(VLOOKUP(M37,[1]データシート!$A$1:$G$65536,7,FALSE)),"",SUMIF([1]データシート!$A$1:$A$65536,[1]集計表!M37,[1]データシート!$G$1:$G$65536)) -> 203 | R37: =IF(ISNA(VLOOKUP(M37,[1]データシート!$A$1:$G$65536,5,FALSE)),"",SUMIF([1]データシート!$A$1:$A$65536,[1]集計表!M37,[1]データシート!$E$1:$E$65536)) -> 142 | S37: 174000 | T37: =IF(ISNA(VLOOKUP(S37,[1]データシート!$A$1:$I$65536,9,FALSE)),"",IF(RIGHT(S37,3) = "000",VLOOKUP(S37,[1]データシート!$A$1:$I$65536,9,FALSE),VLOOKUP(S37,[1]データシート!$A$1:$I$65536,9,FALSE)&VLOOKUP(S37,[1]データシート!$A$1:$G$65536,4,FALSE))) -> 吉良町荻原 | U37: =IF(T37="","",SUM(V37:W37)) -> 2003 | V37: =IF(ISNA(VLOOKUP(S37,[1]データシート!$A$1:$G$65536,6,FALSE)),"",SUMIF([1]データシート!$A$1:$A$65536,[1]集計表!S37,[1]データシート!$F$1:$F$65536)) -> 1020 | W37: =IF(ISNA(VLOOKUP(S37,[1]データシート!$A$1:$G$65536,7,FALSE)),"",SUMIF([1]データシート!$A$1:$A$65536,[1]集計表!S37,[1]データシート!$G$1:$G$65536)) -> 983 | X37: =IF(ISNA(VLOOKUP(S37,[1]データシート!$A$1:$G$65536,5,FALSE)),"",SUMIF([1]データシート!$A$1:$A$65536,[1]集計表!S37,[1]データシート!$E$1:$E$65536)) -> 806
A38: 047000 | B38: =IF(ISNA(VLOOKUP(A38,[1]データシート!$A$1:$I$65536,9,FALSE)),"",IF(RIGHT(A38,3) = "000",VLOOKUP(A38,[1]データシート!$A$1:$I$65536,9,FALSE),VLOOKUP(A38,[1]データシート!$A$1:$I$65536,9,FALSE)&VLOOKUP(A38,[1]データシート!$A$1:$G$65536,4,FALSE))) -> 桜木町 | C38: =IF(B38="","",SUM(D38:E38)) -> 531 | D38: =IF(ISNA(VLOOKUP(A38,[1]データシート!$A$1:$G$65536,6,FALSE)),"",SUMIF([1]データシート!$A$1:$A$65536,[1]集計表!A38,[1]データシート!$F$1:$F$65536)) -> 263 | E38: =IF(ISNA(VLOOKUP(A38,[1]データシート!$A$1:$G$65536,7,FALSE)),"",SUMIF([1]データシート!$A$1:$A$65536,[1]集計表!A38,[1]データシート!$G$1:$G$65536)) -> 268 | F38: =IF(ISNA(VLOOKUP(A38,[1]データシート!$A$1:$G$65536,5,FALSE)),"",SUMIF([1]データシート!$A$1:$A$65536,[1]集計表!A38,[1]データシート!$E$1:$E$65536)) -> 250 | G38: 057000 | H38: =IF(ISNA(VLOOKUP(G38,[1]データシート!$A$1:$I$65536,9,FALSE)),"",IF(RIGHT(G38,3) = "000",VLOOKUP(G38,[1]データシート!$A$1:$I$65536,9,FALSE),VLOOKUP(G38,[1]データシート!$A$1:$I$65536,9,FALSE)&VLOOKUP(G38,[1]データシート!$A$1:$G$65536,4,FALSE))) -> 下矢田町 | I38: =IF(H38="","",SUM(J38:K38)) -> 1494 | J38: =IF(ISNA(VLOOKUP(G38,[1]データシート!$A$1:$G$65536,6,FALSE)),"",SUMIF([1]データシート!$A$1:$A$65536,[1]集計表!G38,[1]データシート!$F$1:$F$65536)) -> 763 | K38: =IF(ISNA(VLOOKUP(G38,[1]データシート!$A$1:$G$65536,7,FALSE)),"",SUMIF([1]データシート!$A$1:$A$65536,[1]集計表!G38,[1]データシート!$G$1:$G$65536)) -> 731 | L38: =IF(ISNA(VLOOKUP(G38,[1]データシート!$A$1:$G$65536,5,FALSE)),"",SUMIF([1]データシート!$A$1:$A$65536,[1]集計表!G38,[1]データシート!$E$1:$E$65536)) -> 578 | M38: 143000 | N38: =IF(ISNA(VLOOKUP(M38,[1]データシート!$A$1:$I$65536,9,FALSE)),"",IF(RIGHT(M38,3) = "000",VLOOKUP(M38,[1]データシート!$A$1:$I$65536,9,FALSE),VLOOKUP(M38,[1]データシート!$A$1:$I$65536,9,FALSE)&VLOOKUP(M38,[1]データシート!$A$1:$G$65536,4,FALSE))) | O38: =IF(N38="","",SUM(P38:Q38)) | P38: =IF(ISNA(VLOOKUP(M38,[1]データシート!$A$1:$G$65536,6,FALSE)),"",SUMIF([1]データシート!$A$1:$A$65536,[1]集計表!M38,[1]データシート!$F$1:$F$65536)) | Q38: =IF(ISNA(VLOOKUP(M38,[1]データシート!$A$1:$G$65536,7,FALSE)),"",SUMIF([1]データシート!$A$1:$A$65536,[1]集計表!M38,[1]データシート!$G$1:$G$65536)) | R38: =IF(ISNA(VLOOKUP(M38,[1]データシート!$A$1:$G$65536,5,FALSE)),"",SUMIF([1]データシート!$A$1:$A$65536,[1]集計表!M38,[1]データシート!$E$1:$E$65536)) | S38: 175000 | T38: =IF(ISNA(VLOOKUP(S38,[1]データシート!$A$1:$I$65536,9,FALSE)),"",IF(RIGHT(S38,3) = "000",VLOOKUP(S38,[1]データシート!$A$1:$I$65536,9,FALSE),VLOOKUP(S38,[1]データシート!$A$1:$I$65536,9,FALSE)&VLOOKUP(S38,[1]データシート!$A$1:$G$65536,4,FALSE))) -> 吉良町乙川 | U38: =IF(T38="","",SUM(V38:W38)) -> 747 | V38: =IF(ISNA(VLOOKUP(S38,[1]データシート!$A$1:$G$65536,6,FALSE)),"",SUMIF([1]データシート!$A$1:$A$65536,[1]集計表!S38,[1]データシート!$F$1:$F$65536)) -> 375 | W38: =IF(ISNA(VLOOKUP(S38,[1]データシート!$A$1:$G$65536,7,FALSE)),"",SUMIF([1]データシート!$A$1:$A$65536,[1]集計表!S38,[1]データシート!$G$1:$G$65536)) -> 372 | X38: =IF(ISNA(VLOOKUP(S38,[1]データシート!$A$1:$G$65536,5,FALSE)),"",SUMIF([1]データシート!$A$1:$A$65536,[1]集計表!S38,[1]データシート!$E$1:$E$65536)) -> 275
A39: 058000 | B39: =IF(ISNA(VLOOKUP(A39,[1]データシート!$A$1:$I$65536,9,FALSE)),"",IF(RIGHT(A39,3) = "000",VLOOKUP(A39,[1]データシート!$A$1:$I$65536,9,FALSE),VLOOKUP(A39,[1]データシート!$A$1:$I$65536,9,FALSE)&VLOOKUP(A39,[1]データシート!$A$1:$G$65536,4,FALSE))) -> 城崎町 | C39: =IF(B39="","",SUM(D39:E39)) -> 602 | D39: =IF(ISNA(VLOOKUP(A39,[1]データシート!$A$1:$G$65536,6,FALSE)),"",SUMIF([1]データシート!$A$1:$A$65536,[1]集計表!A39,[1]データシート!$F$1:$F$65536)) -> 312 | E39: =IF(ISNA(VLOOKUP(A39,[1]データシート!$A$1:$G$65536,7,FALSE)),"",SUMIF([1]データシート!$A$1:$A$65536,[1]集計表!A39,[1]データシート!$G$1:$G$65536)) -> 290 | F39: =IF(ISNA(VLOOKUP(A39,[1]データシート!$A$1:$G$65536,5,FALSE)),"",SUMIF([1]データシート!$A$1:$A$65536,[1]集計表!A39,[1]データシート!$E$1:$E$65536)) -> 260 | G39: 109000 | H39: =IF(ISNA(VLOOKUP(G39,[1]データシート!$A$1:$I$65536,9,FALSE)),"",IF(RIGHT(G39,3) = "000",VLOOKUP(G39,[1]データシート!$A$1:$I$65536,9,FALSE),VLOOKUP(G39,[1]データシート!$A$1:$I$65536,9,FALSE)&VLOOKUP(G39,[1]データシート!$A$1:$G$65536,4,FALSE))) -> 羽塚町 | I39: =IF(H39="","",SUM(J39:K39)) -> 2608 | J39: =IF(ISNA(VLOOKUP(G39,[1]データシート!$A$1:$G$65536,6,FALSE)),"",SUMIF([1]データシート!$A$1:$A$65536,[1]集計表!G39,[1]データシート!$F$1:$F$65536)) -> 1354 | K39: =IF(ISNA(VLOOKUP(G39,[1]データシート!$A$1:$G$65536,7,FALSE)),"",SUMIF([1]データシート!$A$1:$A$65536,[1]集計表!G39,[1]データシート!$G$1:$G$65536)) -> 1254 | L39: =IF(ISNA(VLOOKUP(G39,[1]データシート!$A$1:$G$65536,5,FALSE)),"",SUMIF([1]データシート!$A$1:$A$65536,[1]集計表!G39,[1]データシート!$E$1:$E$65536)) -> 1074 | M39: 082001 | N39: =IF(ISNA(VLOOKUP(M39,[1]データシート!$A$1:$I$65536,9,FALSE)),"",IF(RIGHT(M39,3) = "000",VLOOKUP(M39,[1]データシート!$A$1:$I$65536,9,FALSE),VLOOKUP(M39,[1]データシート!$A$1:$I$65536,9,FALSE)&VLOOKUP(M39,[1]データシート!$A$1:$G$65536,4,FALSE))) -> つくしが丘１丁目 | O39: =IF(N39="","",SUM(P39:Q39)) -> 8 | P39: =IF(ISNA(VLOOKUP(M39,[1]データシート!$A$1:$G$65536,6,FALSE)),"",SUMIF([1]データシート!$A$1:$A$65536,[1]集計表!M39,[1]データシート!$F$1:$F$65536)) -> 4 | Q39: =IF(ISNA(VLOOKUP(M39,[1]データシート!$A$1:$G$65536,7,FALSE)),"",SUMIF([1]データシート!$A$1:$A$65536,[1]集計表!M39,[1]データシート!$G$1:$G$65536)) -> 4 | R39: =IF(ISNA(VLOOKUP(M39,[1]データシート!$A$1:$G$65536,5,FALSE)),"",SUMIF([1]データシート!$A$1:$A$65536,[1]集計表!M39,[1]データシート!$E$1:$E$65536)) -> 2 | S39: 176000 | T39: =IF(ISNA(VLOOKUP(S39,[1]データシート!$A$1:$I$65536,9,FALSE)),"",IF(RIGHT(S39,3) = "000",VLOOKUP(S39,[1]データシート!$A$1:$I$65536,9,FALSE),VLOOKUP(S39,[1]データシート!$A$1:$I$65536,9,FALSE)&VLOOKUP(S39,[1]データシート!$A$1:$G$65536,4,FALSE))) -> 吉良町小山田 | U39: =IF(T39="","",SUM(V39:W39)) -> 395 | V39: =IF(ISNA(VLOOKUP(S39,[1]データシート!$A$1:$G$65536,6,FALSE)),"",SUMIF([1]データシート!$A$1:$A$65536,[1]集計表!S39,[1]データシート!$F$1:$F$65536)) -> 182 | W39: =IF(ISNA(VLOOKUP(S39,[1]データシート!$A$1:$G$65536,7,FALSE)),"",SUMIF([1]データシート!$A$1:$A$65536,[1]集計表!S39,[1]データシート!$G$1:$G$65536)) -> 213 | X39: =IF(ISNA(VLOOKUP(S39,[1]データシート!$A$1:$G$65536,5,FALSE)),"",SUMIF([1]データシート!$A$1:$A$65536,[1]集計表!S39,[1]データシート!$E$1:$E$65536)) -> 143
A40: 084000 | B40: =IF(ISNA(VLOOKUP(A40,[1]データシート!$A$1:$I$65536,9,FALSE)),"",IF(RIGHT(A40,3) = "000",VLOOKUP(A40,[1]データシート!$A$1:$I$65536,9,FALSE),VLOOKUP(A40,[1]データシート!$A$1:$I$65536,9,FALSE)&VLOOKUP(A40,[1]データシート!$A$1:$G$65536,4,FALSE))) -> 鶴城町 | C40: =IF(B40="","",SUM(D40:E40)) -> 621 | D40: =IF(ISNA(VLOOKUP(A40,[1]データシート!$A$1:$G$65536,6,FALSE)),"",SUMIF([1]データシート!$A$1:$A$65536,[1]集計表!A40,[1]データシート!$F$1:$F$65536)) -> 306 | E40: =IF(ISNA(VLOOKUP(A40,[1]データシート!$A$1:$G$65536,7,FALSE)),"",SUMIF([1]データシート!$A$1:$A$65536,[1]集計表!A40,[1]データシート!$G$1:$G$65536)) -> 315 | F40: =IF(ISNA(VLOOKUP(A40,[1]データシート!$A$1:$G$65536,5,FALSE)),"",SUMIF([1]データシート!$A$1:$A$65536,[1]集計表!A40,[1]データシート!$E$1:$E$65536)) -> 227 | G40: 037000 | H40: =IF(ISNA(VLOOKUP(G40,[1]データシート!$A$1:$I$65536,9,FALSE)),"",IF(RIGHT(G40,3) = "000",VLOOKUP(G40,[1]データシート!$A$1:$I$65536,9,FALSE),VLOOKUP(G40,[1]データシート!$A$1:$I$65536,9,FALSE)&VLOOKUP(G40,[1]データシート!$A$1:$G$65536,4,FALSE))) -> 国森町 | I40: =IF(H40="","",SUM(J40:K40)) -> 1743 | J40: =IF(ISNA(VLOOKUP(G40,[1]データシート!$A$1:$G$65536,6,FALSE)),"",SUMIF([1]データシート!$A$1:$A$65536,[1]集計表!G40,[1]データシート!$F$1:$F$65536)) -> 862 | K40: =IF(ISNA(VLOOKUP(G40,[1]データシート!$A$1:$G$65536,7,FALSE)),"",SUMIF([1]データシート!$A$1:$A$65536,[1]集計表!G40,[1]データシート!$G$1:$G$65536)) -> 881 | L40: =IF(ISNA(VLOOKUP(G40,[1]データシート!$A$1:$G$65536,5,FALSE)),"",SUMIF([1]データシート!$A$1:$A$65536,[1]集計表!G40,[1]データシート!$E$1:$E$65536)) -> 701 | M40: 082005 | N40: =IF(ISNA(VLOOKUP(M40,[1]データシート!$A$1:$I$65536,9,FALSE)),"",IF(RIGHT(M40,3) = "000",VLOOKUP(M40,[1]データシート!$A$1:$I$65536,9,FALSE),VLOOKUP(M40,[1]データシート!$A$1:$I$65536,9,FALSE)&VLOOKUP(M40,[1]データシート!$A$1:$G$65536,4,FALSE))) -> つくしが丘５丁目 | O40: =IF(N40="","",SUM(P40:Q40)) -> 349 | P40: =IF(ISNA(VLOOKUP(M40,[1]データシート!$A$1:$G$65536,6,FALSE)),"",SUMIF([1]データシート!$A$1:$A$65536,[1]集計表!M40,[1]データシート!$F$1:$F$65536)) -> 172 | Q40: =IF(ISNA(VLOOKUP(M40,[1]データシート!$A$1:$G$65536,7,FALSE)),"",SUMIF([1]データシート!$A$1:$A$65536,[1]集計表!M40,[1]データシート!$G$1:$G$65536)) -> 177 | R40: =IF(ISNA(VLOOKUP(M40,[1]データシート!$A$1:$G$65536,5,FALSE)),"",SUMIF([1]データシート!$A$1:$A$65536,[1]集計表!M40,[1]データシート!$E$1:$E$65536)) -> 149 | S40: 177000 | T40: =IF(ISNA(VLOOKUP(S40,[1]データシート!$A$1:$I$65536,9,FALSE)),"",IF(RIGHT(S40,3) = "000",VLOOKUP(S40,[1]データシート!$A$1:$I$65536,9,FALSE),VLOOKUP(S40,[1]データシート!$A$1:$I$65536,9,FALSE)&VLOOKUP(S40,[1]データシート!$A$1:$G$65536,4,FALSE))) -> 吉良町上横須賀 | U40: =IF(T40="","",SUM(V40:W40)) -> 3844 | V40: =IF(ISNA(VLOOKUP(S40,[1]データシート!$A$1:$G$65536,6,FALSE)),"",SUMIF([1]データシート!$A$1:$A$65536,[1]集計表!S40,[1]データシート!$F$1:$F$65536)) -> 1899 | W40: =IF(ISNA(VLOOKUP(S40,[1]データシート!$A$1:$G$65536,7,FALSE)),"",SUMIF([1]データシート!$A$1:$A$65536,[1]集計表!S40,[1]データシート!$G$1:$G$65536)) -> 1945 | X40: =IF(ISNA(VLOOKUP(S40,[1]データシート!$A$1:$G$65536,5,FALSE)),"",SUMIF([1]データシート!$A$1:$A$65536,[1]集計表!S40,[1]データシート!$E$1:$E$65536)) -> 1582
A41: 071000 | B41: =IF(ISNA(VLOOKUP(A41,[1]データシート!$A$1:$I$65536,9,FALSE)),"",IF(RIGHT(A41,3) = "000",VLOOKUP(A41,[1]データシート!$A$1:$I$65536,9,FALSE),VLOOKUP(A41,[1]データシート!$A$1:$I$65536,9,FALSE)&VLOOKUP(A41,[1]データシート!$A$1:$G$65536,4,FALSE))) -> 住吉町 | C41: =IF(B41="","",SUM(D41:E41)) -> 268 | D41: =IF(ISNA(VLOOKUP(A41,[1]データシート!$A$1:$G$65536,6,FALSE)),"",SUMIF([1]データシート!$A$1:$A$65536,[1]集計表!A41,[1]データシート!$F$1:$F$65536)) -> 143 | E41: =IF(ISNA(VLOOKUP(A41,[1]データシート!$A$1:$G$65536,7,FALSE)),"",SUMIF([1]データシート!$A$1:$A$65536,[1]集計表!A41,[1]データシート!$G$1:$G$65536)) -> 125 | F41: =IF(ISNA(VLOOKUP(A41,[1]データシート!$A$1:$G$65536,5,FALSE)),"",SUMIF([1]データシート!$A$1:$A$65536,[1]集計表!A41,[1]データシート!$E$1:$E$65536)) -> 137 | G41: 059000 | H41: =IF(ISNA(VLOOKUP(G41,[1]データシート!$A$1:$I$65536,9,FALSE)),"",IF(RIGHT(G41,3) = "000",VLOOKUP(G41,[1]データシート!$A$1:$I$65536,9,FALSE),VLOOKUP(G41,[1]データシート!$A$1:$I$65536,9,FALSE)&VLOOKUP(G41,[1]データシート!$A$1:$G$65536,4,FALSE))) -> 新在家町 | I41: =IF(H41="","",SUM(J41:K41)) -> 1431 | J41: =IF(ISNA(VLOOKUP(G41,[1]データシート!$A$1:$G$65536,6,FALSE)),"",SUMIF([1]データシート!$A$1:$A$65536,[1]集計表!G41,[1]データシート!$F$1:$F$65536)) -> 748 | K41: =IF(ISNA(VLOOKUP(G41,[1]データシート!$A$1:$G$65536,7,FALSE)),"",SUMIF([1]データシート!$A$1:$A$65536,[1]集計表!G41,[1]データシート!$G$1:$G$65536)) -> 683 | L41: =IF(ISNA(VLOOKUP(G41,[1]データシート!$A$1:$G$65536,5,FALSE)),"",SUMIF([1]データシート!$A$1:$A$65536,[1]集計表!G41,[1]データシート!$E$1:$E$65536)) -> 676 | M41: 082006 | N41: =IF(ISNA(VLOOKUP(M41,[1]データシート!$A$1:$I$65536,9,FALSE)),"",IF(RIGHT(M41,3) = "000",VLOOKUP(M41,[1]データシート!$A$1:$I$65536,9,FALSE),VLOOKUP(M41,[1]データシート!$A$1:$I$65536,9,FALSE)&VLOOKUP(M41,[1]データシート!$A$1:$G$65536,4,FALSE))) -> つくしが丘６丁目 | O41: =IF(N41="","",SUM(P41:Q41)) -> 196 | P41: =IF(ISNA(VLOOKUP(M41,[1]データシート!$A$1:$G$65536,6,FALSE)),"",SUMIF([1]データシート!$A$1:$A$65536,[1]集計表!M41,[1]データシート!$F$1:$F$65536)) -> 104 | Q41: =IF(ISNA(VLOOKUP(M41,[1]データシート!$A$1:$G$65536,7,FALSE)),"",SUMIF([1]データシート!$A$1:$A$65536,[1]集計表!M41,[1]データシート!$G$1:$G$65536)) -> 92 | R41: =IF(ISNA(VLOOKUP(M41,[1]データシート!$A$1:$G$65536,5,FALSE)),"",SUMIF([1]データシート!$A$1:$A$65536,[1]集計表!M41,[1]データシート!$E$1:$E$65536)) -> 78 | S41: 178000 | T41: =IF(ISNA(VLOOKUP(S41,[1]データシート!$A$1:$I$65536,9,FALSE)),"",IF(RIGHT(S41,3) = "000",VLOOKUP(S41,[1]データシート!$A$1:$I$65536,9,FALSE),VLOOKUP(S41,[1]データシート!$A$1:$I$65536,9,FALSE)&VLOOKUP(S41,[1]データシート!$A$1:$G$65536,4,FALSE))) -> 吉良町木田 | U41: =IF(T41="","",SUM(V41:W41)) -> 944 | V41: =IF(ISNA(VLOOKUP(S41,[1]データシート!$A$1:$G$65536,6,FALSE)),"",SUMIF([1]データシート!$A$1:$A$65536,[1]集計表!S41,[1]データシート!$F$1:$F$65536)) -> 476 | W41: =IF(ISNA(VLOOKUP(S41,[1]データシート!$A$1:$G$65536,7,FALSE)),"",SUMIF([1]データシート!$A$1:$A$65536,[1]集計表!S41,[1]データシート!$G$1:$G$65536)) -> 468 | X41: =IF(ISNA(VLOOKUP(S41,[1]データシート!$A$1:$G$65536,5,FALSE)),"",SUMIF([1]データシート!$A$1:$A$65536,[1]集計表!S41,[1]データシート!$E$1:$E$65536)) -> 392
A42: 077000 | B42: =IF(ISNA(VLOOKUP(A42,[1]データシート!$A$1:$I$65536,9,FALSE)),"",IF(RIGHT(A42,3) = "000",VLOOKUP(A42,[1]データシート!$A$1:$I$65536,9,FALSE),VLOOKUP(A42,[1]データシート!$A$1:$I$65536,9,FALSE)&VLOOKUP(A42,[1]データシート!$A$1:$G$65536,4,FALSE))) -> 高畠町 | C42: =IF(B42="","",SUM(D42:E42)) -> 434 | D42: =IF(ISNA(VLOOKUP(A42,[1]データシート!$A$1:$G$65536,6,FALSE)),"",SUMIF([1]データシート!$A$1:$A$65536,[1]集計表!A42,[1]データシート!$F$1:$F$65536)) -> 216 | E42: =IF(ISNA(VLOOKUP(A42,[1]データシート!$A$1:$G$65536,7,FALSE)),"",SUMIF([1]データシート!$A$1:$A$65536,[1]集計表!A42,[1]データシート!$G$1:$G$65536)) -> 218 | F42: =IF(ISNA(VLOOKUP(A42,[1]データシート!$A$1:$G$65536,5,FALSE)),"",SUMIF([1]データシート!$A$1:$A$65536,[1]集計表!A42,[1]データシート!$E$1:$E$65536)) -> 211 | G42: 144001 | H42: =IF(ISNA(VLOOKUP(G42,[1]データシート!$A$1:$I$65536,9,FALSE)),"",IF(RIGHT(G42,3) = "000",VLOOKUP(G42,[1]データシート!$A$1:$I$65536,9,FALSE),VLOOKUP(G42,[1]データシート!$A$1:$I$65536,9,FALSE)&VLOOKUP(G42,[1]データシート!$A$1:$G$65536,4,FALSE))) -> 新在家１丁目 | I42: =IF(H42="","",SUM(J42:K42)) -> 310 | J42: =IF(ISNA(VLOOKUP(G42,[1]データシート!$A$1:$G$65536,6,FALSE)),"",SUMIF([1]データシート!$A$1:$A$65536,[1]集計表!G42,[1]データシート!$F$1:$F$65536)) -> 157 | K42: =IF(ISNA(VLOOKUP(G42,[1]データシート!$A$1:$G$65536,7,FALSE)),"",SUMIF([1]データシート!$A$1:$A$65536,[1]集計表!G42,[1]データシート!$G$1:$G$65536)) -> 153 | L42: =IF(ISNA(VLOOKUP(G42,[1]データシート!$A$1:$G$65536,5,FALSE)),"",SUMIF([1]データシート!$A$1:$A$65536,[1]集計表!G42,[1]データシート!$E$1:$E$65536)) -> 132 | O42: =IF(N42="","",SUM(P42:Q42)) | S42: 179000 | T42: =IF(ISNA(VLOOKUP(S42,[1]データシート!$A$1:$I$65536,9,FALSE)),"",IF(RIGHT(S42,3) = "000",VLOOKUP(S42,[1]データシート!$A$1:$I$65536,9,FALSE),VLOOKUP(S42,[1]データシート!$A$1:$I$65536,9,FALSE)&VLOOKUP(S42,[1]データシート!$A$1:$G$65536,4,FALSE))) -> 吉良町小牧 | U42: =IF(T42="","",SUM(V42:W42)) -> 247 | V42: =IF(ISNA(VLOOKUP(S42,[1]データシート!$A$1:$G$65536,6,FALSE)),"",SUMIF([1]データシート!$A$1:$A$65536,[1]集計表!S42,[1]データシート!$F$1:$F$65536)) -> 126 | W42: =IF(ISNA(VLOOKUP(S42,[1]データシート!$A$1:$G$65536,7,FALSE)),"",SUMIF([1]データシート!$A$1:$A$65536,[1]集計表!S42,[1]データシート!$G$1:$G$65536)) -> 121 | X42: =IF(ISNA(VLOOKUP(S42,[1]データシート!$A$1:$G$65536,5,FALSE)),"",SUMIF([1]データシート!$A$1:$A$65536,[1]集計表!S42,[1]データシート!$E$1:$E$65536)) -> 88
A43: 138000 | B43: =IF(ISNA(VLOOKUP(A43,[1]データシート!$A$1:$I$65536,9,FALSE)),"",IF(RIGHT(A43,3) = "000",VLOOKUP(A43,[1]データシート!$A$1:$I$65536,9,FALSE),VLOOKUP(A43,[1]データシート!$A$1:$I$65536,9,FALSE)&VLOOKUP(A43,[1]データシート!$A$1:$G$65536,4,FALSE))) -> 若松町 | C43: =IF(B43="","",SUM(D43:E43)) -> 44 | D43: =IF(ISNA(VLOOKUP(A43,[1]データシート!$A$1:$G$65536,6,FALSE)),"",SUMIF([1]データシート!$A$1:$A$65536,[1]集計表!A43,[1]データシート!$F$1:$F$65536)) -> 20 | E43: =IF(ISNA(VLOOKUP(A43,[1]データシート!$A$1:$G$65536,7,FALSE)),"",SUMIF([1]データシート!$A$1:$A$65536,[1]集計表!A43,[1]データシート!$G$1:$G$65536)) -> 24 | F43: =IF(ISNA(VLOOKUP(A43,[1]データシート!$A$1:$G$65536,5,FALSE)),"",SUMIF([1]データシート!$A$1:$A$65536,[1]集計表!A43,[1]データシート!$E$1:$E$65536)) -> 19 | G43: 079000 | H43: =IF(ISNA(VLOOKUP(G43,[1]データシート!$A$1:$I$65536,9,FALSE)),"",IF(RIGHT(G43,3) = "000",VLOOKUP(G43,[1]データシート!$A$1:$I$65536,9,FALSE),VLOOKUP(G43,[1]データシート!$A$1:$I$65536,9,FALSE)&VLOOKUP(G43,[1]データシート!$A$1:$G$65536,4,FALSE))) -> 田貫町 | I43: =IF(H43="","",SUM(J43:K43)) -> 1076 | J43: =IF(ISNA(VLOOKUP(G43,[1]データシート!$A$1:$G$65536,6,FALSE)),"",SUMIF([1]データシート!$A$1:$A$65536,[1]集計表!G43,[1]データシート!$F$1:$F$65536)) -> 549 | K43: =IF(ISNA(VLOOKUP(G43,[1]データシート!$A$1:$G$65536,7,FALSE)),"",SUMIF([1]データシート!$A$1:$A$65536,[1]集計表!G43,[1]データシート!$G$1:$G$65536)) -> 527 | L43: =IF(ISNA(VLOOKUP(G43,[1]データシート!$A$1:$G$65536,5,FALSE)),"",SUMIF([1]データシート!$A$1:$A$65536,[1]集計表!G43,[1]データシート!$E$1:$E$65536)) -> 467 | O43: =IF(N43="","",SUM(P43:Q43)) | S43: 180000 | T43: =IF(ISNA(VLOOKUP(S43,[1]データシート!$A$1:$I$65536,9,FALSE)),"",IF(RIGHT(S43,3) = "000",VLOOKUP(S43,[1]データシート!$A$1:$I$65536,9,FALSE),VLOOKUP(S43,[1]データシート!$A$1:$I$65536,9,FALSE)&VLOOKUP(S43,[1]データシート!$A$1:$G$65536,4,FALSE))) -> 吉良町酒井 | U43: =IF(T43="","",SUM(V43:W43)) -> 157 | V43: =IF(ISNA(VLOOKUP(S43,[1]データシート!$A$1:$G$65536,6,FALSE)),"",SUMIF([1]データシート!$A$1:$A$65536,[1]集計表!S43,[1]データシート!$F$1:$F$65536)) -> 78 | W43: =IF(ISNA(VLOOKUP(S43,[1]データシート!$A$1:$G$65536,7,FALSE)),"",SUMIF([1]データシート!$A$1:$A$65536,[1]集計表!S43,[1]データシート!$G$1:$G$65536)) -> 79 | X43: =IF(ISNA(VLOOKUP(S43,[1]データシート!$A$1:$G$65536,5,FALSE)),"",SUMIF([1]データシート!$A$1:$A$65536,[1]集計表!S43,[1]データシート!$E$1:$E$65536)) -> 57
A44: 033000 | B44: =IF(ISNA(VLOOKUP(A44,[1]データシート!$A$1:$I$65536,9,FALSE)),"",IF(RIGHT(A44,3) = "000",VLOOKUP(A44,[1]データシート!$A$1:$I$65536,9,FALSE),VLOOKUP(A44,[1]データシート!$A$1:$I$65536,9,FALSE)&VLOOKUP(A44,[1]データシート!$A$1:$G$65536,4,FALSE))) -> 北旭町 | C44: =IF(B44="","",SUM(D44:E44)) -> 30 | D44: =IF(ISNA(VLOOKUP(A44,[1]データシート!$A$1:$G$65536,6,FALSE)),"",SUMIF([1]データシート!$A$1:$A$65536,[1]集計表!A44,[1]データシート!$F$1:$F$65536)) -> 11 | E44: =IF(ISNA(VLOOKUP(A44,[1]データシート!$A$1:$G$65536,7,FALSE)),"",SUMIF([1]データシート!$A$1:$A$65536,[1]集計表!A44,[1]データシート!$G$1:$G$65536)) -> 19 | F44: =IF(ISNA(VLOOKUP(A44,[1]データシート!$A$1:$G$65536,5,FALSE)),"",SUMIF([1]データシート!$A$1:$A$65536,[1]集計表!A44,[1]データシート!$E$1:$E$65536)) -> 15 | G44: 141001 | H44: =IF(ISNA(VLOOKUP(G44,[1]データシート!$A$1:$I$65536,9,FALSE)),"",IF(RIGHT(G44,3) = "000",VLOOKUP(G44,[1]データシート!$A$1:$I$65536,9,FALSE),VLOOKUP(G44,[1]データシート!$A$1:$I$65536,9,FALSE)&VLOOKUP(G44,[1]データシート!$A$1:$G$65536,4,FALSE))) -> 田貫１丁目 | I44: =IF(H44="","",SUM(J44:K44)) -> 375 | J44: =IF(ISNA(VLOOKUP(G44,[1]データシート!$A$1:$G$65536,6,FALSE)),"",SUMIF([1]データシート!$A$1:$A$65536,[1]集計表!G44,[1]データシート!$F$1:$F$65536)) -> 207 | K44: =IF(ISNA(VLOOKUP(G44,[1]データシート!$A$1:$G$65536,7,FALSE)),"",SUMIF([1]データシート!$A$1:$A$65536,[1]集計表!G44,[1]データシート!$G$1:$G$65536)) -> 168 | L44: =IF(ISNA(VLOOKUP(G44,[1]データシート!$A$1:$G$65536,5,FALSE)),"",SUMIF([1]データシート!$A$1:$A$65536,[1]集計表!G44,[1]データシート!$E$1:$E$65536)) -> 172 | N44: =IF(ISNA(VLOOKUP(M44,[1]データシート!$A$1:$I$65536,9,FALSE)),"",IF(RIGHT(M44,3) = "000",VLOOKUP(M44,[1]データシート!$A$1:$I$65536,9,FALSE),VLOOKUP(M44,[1]データシート!$A$1:$I$65536,9,FALSE)&VLOOKUP(M44,[1]データシート!$A$1:$G$65536,4,FALSE))) | O44: =IF(N44="","",SUM(P44:Q44)) | P44: =IF(ISNA(VLOOKUP(M44,[1]データシート!$A$1:$G$65536,6,FALSE)),"",SUMIF([1]データシート!$A$1:$A$65536,[1]集計表!M44,[1]データシート!$F$1:$F$65536)) | Q44: =IF(ISNA(VLOOKUP(M44,[1]データシート!$A$1:$G$65536,7,FALSE)),"",SUMIF([1]データシート!$A$1:$A$65536,[1]集計表!M44,[1]データシート!$G$1:$G$65536)) | R44: =IF(ISNA(VLOOKUP(M44,[1]データシート!$A$1:$G$65536,5,FALSE)),"",SUMIF([1]データシート!$A$1:$A$65536,[1]集計表!M44,[1]データシート!$E$1:$E$65536)) | S44: 181000 | T44: =IF(ISNA(VLOOKUP(S44,[1]データシート!$A$1:$I$65536,9,FALSE)),"",IF(RIGHT(S44,3) = "000",VLOOKUP(S44,[1]データシート!$A$1:$I$65536,9,FALSE),VLOOKUP(S44,[1]データシート!$A$1:$I$65536,9,FALSE)&VLOOKUP(S44,[1]データシート!$A$1:$G$65536,4,FALSE))) -> 吉良町下横須賀 | U44: =IF(T44="","",SUM(V44:W44)) -> 906 | V44: =IF(ISNA(VLOOKUP(S44,[1]データシート!$A$1:$G$65536,6,FALSE)),"",SUMIF([1]データシート!$A$1:$A$65536,[1]集計表!S44,[1]データシート!$F$1:$F$65536)) -> 468 | W44: =IF(ISNA(VLOOKUP(S44,[1]データシート!$A$1:$G$65536,7,FALSE)),"",SUMIF([1]データシート!$A$1:$A$65536,[1]集計表!S44,[1]データシート!$G$1:$G$65536)) -> 438 | X44: =IF(ISNA(VLOOKUP(S44,[1]データシート!$A$1:$G$65536,5,FALSE)),"",SUMIF([1]データシート!$A$1:$A$65536,[1]集計表!S44,[1]データシート!$E$1:$E$65536)) -> 366
A45: 076000 | B45: =IF(ISNA(VLOOKUP(A45,[1]データシート!$A$1:$I$65536,9,FALSE)),"",IF(RIGHT(A45,3) = "000",VLOOKUP(A45,[1]データシート!$A$1:$I$65536,9,FALSE),VLOOKUP(A45,[1]データシート!$A$1:$I$65536,9,FALSE)&VLOOKUP(A45,[1]データシート!$A$1:$G$65536,4,FALSE))) -> 高砂町 | C45: =IF(B45="","",SUM(D45:E45)) -> 27 | D45: =IF(ISNA(VLOOKUP(A45,[1]データシート!$A$1:$G$65536,6,FALSE)),"",SUMIF([1]データシート!$A$1:$A$65536,[1]集計表!A45,[1]データシート!$F$1:$F$65536)) -> 16 | E45: =IF(ISNA(VLOOKUP(A45,[1]データシート!$A$1:$G$65536,7,FALSE)),"",SUMIF([1]データシート!$A$1:$A$65536,[1]集計表!A45,[1]データシート!$G$1:$G$65536)) -> 11 | F45: =IF(ISNA(VLOOKUP(A45,[1]データシート!$A$1:$G$65536,5,FALSE)),"",SUMIF([1]データシート!$A$1:$A$65536,[1]集計表!A45,[1]データシート!$E$1:$E$65536)) -> 16 | G45: 141002 | H45: =IF(ISNA(VLOOKUP(G45,[1]データシート!$A$1:$I$65536,9,FALSE)),"",IF(RIGHT(G45,3) = "000",VLOOKUP(G45,[1]データシート!$A$1:$I$65536,9,FALSE),VLOOKUP(G45,[1]データシート!$A$1:$I$65536,9,FALSE)&VLOOKUP(G45,[1]データシート!$A$1:$G$65536,4,FALSE))) -> 田貫２丁目 | I45: =IF(H45="","",SUM(J45:K45)) -> 261 | J45: =IF(ISNA(VLOOKUP(G45,[1]データシート!$A$1:$G$65536,6,FALSE)),"",SUMIF([1]データシート!$A$1:$A$65536,[1]集計表!G45,[1]データシート!$F$1:$F$65536)) -> 139 | K45: =IF(ISNA(VLOOKUP(G45,[1]データシート!$A$1:$G$65536,7,FALSE)),"",SUMIF([1]データシート!$A$1:$A$65536,[1]集計表!G45,[1]データシート!$G$1:$G$65536)) -> 122 | L45: =IF(ISNA(VLOOKUP(G45,[1]データシート!$A$1:$G$65536,5,FALSE)),"",SUMIF([1]データシート!$A$1:$A$65536,[1]集計表!G45,[1]データシート!$E$1:$E$65536)) -> 125 | M45: 室場地区 計 | O45: =SUM(O32:O44) -> 3558 | P45: =SUM(P32:P44) -> 1775 | Q45: =SUM(Q32:Q44) -> 1783 | R45: =SUM(R32:R44) -> 1414 | S45: 182000 | T45: =IF(ISNA(VLOOKUP(S45,[1]データシート!$A$1:$I$65536,9,FALSE)),"",IF(RIGHT(S45,3) = "000",VLOOKUP(S45,[1]データシート!$A$1:$I$65536,9,FALSE),VLOOKUP(S45,[1]データシート!$A$1:$I$65536,9,FALSE)&VLOOKUP(S45,[1]データシート!$A$1:$G$65536,4,FALSE))) -> 吉良町白浜新田 | U45: =IF(T45="","",SUM(V45:W45)) -> 75 | V45: =IF(ISNA(VLOOKUP(S45,[1]データシート!$A$1:$G$65536,6,FALSE)),"",SUMIF([1]データシート!$A$1:$A$65536,[1]集計表!S45,[1]データシート!$F$1:$F$65536)) -> 39 | W45: =IF(ISNA(VLOOKUP(S45,[1]データシート!$A$1:$G$65536,7,FALSE)),"",SUMIF([1]データシート!$A$1:$A$65536,[1]集計表!S45,[1]データシート!$G$1:$G$65536)) -> 36 | X45: =IF(ISNA(VLOOKUP(S45,[1]データシート!$A$1:$G$65536,5,FALSE)),"",SUMIF([1]データシート!$A$1:$A$65536,[1]集計表!S45,[1]データシート!$E$1:$E$65536)) -> 30
A46: 124000 | B46: =IF(ISNA(VLOOKUP(A46,[1]データシート!$A$1:$I$65536,9,FALSE)),"",IF(RIGHT(A46,3) = "000",VLOOKUP(A46,[1]データシート!$A$1:$I$65536,9,FALSE),VLOOKUP(A46,[1]データシート!$A$1:$I$65536,9,FALSE)&VLOOKUP(A46,[1]データシート!$A$1:$G$65536,4,FALSE))) -> 南旭町 | C46: =IF(B46="","",SUM(D46:E46)) -> 31 | D46: =IF(ISNA(VLOOKUP(A46,[1]データシート!$A$1:$G$65536,6,FALSE)),"",SUMIF([1]データシート!$A$1:$A$65536,[1]集計表!A46,[1]データシート!$F$1:$F$65536)) -> 10 | E46: =IF(ISNA(VLOOKUP(A46,[1]データシート!$A$1:$G$65536,7,FALSE)),"",SUMIF([1]データシート!$A$1:$A$65536,[1]集計表!A46,[1]データシート!$G$1:$G$65536)) -> 21 | F46: =IF(ISNA(VLOOKUP(A46,[1]データシート!$A$1:$G$65536,5,FALSE)),"",SUMIF([1]データシート!$A$1:$A$65536,[1]集計表!A46,[1]データシート!$E$1:$E$65536)) -> 14 | G46: 141003 | H46: =IF(ISNA(VLOOKUP(G46,[1]データシート!$A$1:$I$65536,9,FALSE)),"",IF(RIGHT(G46,3) = "000",VLOOKUP(G46,[1]データシート!$A$1:$I$65536,9,FALSE),VLOOKUP(G46,[1]データシート!$A$1:$I$65536,9,FALSE)&VLOOKUP(G46,[1]データシート!$A$1:$G$65536,4,FALSE))) -> 田貫３丁目 | I46: =IF(H46="","",SUM(J46:K46)) -> 242 | J46: =IF(ISNA(VLOOKUP(G46,[1]データシート!$A$1:$G$65536,6,FALSE)),"",SUMIF([1]データシート!$A$1:$A$65536,[1]集計表!G46,[1]データシート!$F$1:$F$65536)) -> 126 | K46: =IF(ISNA(VLOOKUP(G46,[1]データシート!$A$1:$G$65536,7,FALSE)),"",SUMIF([1]データシート!$A$1:$A$65536,[1]集計表!G46,[1]データシート!$G$1:$G$65536)) -> 116 | L46: =IF(ISNA(VLOOKUP(G46,[1]データシート!$A$1:$G$65536,5,FALSE)),"",SUMIF([1]データシート!$A$1:$A$65536,[1]集計表!G46,[1]データシート!$E$1:$E$65536)) -> 112 | M46: 三 和 地 区 | S46: 183000 | T46: =IF(ISNA(VLOOKUP(S46,[1]データシート!$A$1:$I$65536,9,FALSE)),"",IF(RIGHT(S46,3) = "000",VLOOKUP(S46,[1]データシート!$A$1:$I$65536,9,FALSE),VLOOKUP(S46,[1]データシート!$A$1:$I$65536,9,FALSE)&VLOOKUP(S46,[1]データシート!$A$1:$G$65536,4,FALSE))) -> 吉良町瀬戸 | U46: =IF(T46="","",SUM(V46:W46)) -> 109 | V46: =IF(ISNA(VLOOKUP(S46,[1]データシート!$A$1:$G$65536,6,FALSE)),"",SUMIF([1]データシート!$A$1:$A$65536,[1]集計表!S46,[1]データシート!$F$1:$F$65536)) -> 64 | W46: =IF(ISNA(VLOOKUP(S46,[1]データシート!$A$1:$G$65536,7,FALSE)),"",SUMIF([1]データシート!$A$1:$A$65536,[1]集計表!S46,[1]データシート!$G$1:$G$65536)) -> 45 | X46: =IF(ISNA(VLOOKUP(S46,[1]データシート!$A$1:$G$65536,5,FALSE)),"",SUMIF([1]データシート!$A$1:$A$65536,[1]集計表!S46,[1]データシート!$E$1:$E$65536)) -> 52
A47: 002000 | B47: =IF(ISNA(VLOOKUP(A47,[1]データシート!$A$1:$I$65536,9,FALSE)),"",IF(RIGHT(A47,3) = "000",VLOOKUP(A47,[1]データシート!$A$1:$I$65536,9,FALSE),VLOOKUP(A47,[1]データシート!$A$1:$I$65536,9,FALSE)&VLOOKUP(A47,[1]データシート!$A$1:$G$65536,4,FALSE))) -> 吾妻町 | C47: =IF(B47="","",SUM(D47:E47)) -> 248 | D47: =IF(ISNA(VLOOKUP(A47,[1]データシート!$A$1:$G$65536,6,FALSE)),"",SUMIF([1]データシート!$A$1:$A$65536,[1]集計表!A47,[1]データシート!$F$1:$F$65536)) -> 111 | E47: =IF(ISNA(VLOOKUP(A47,[1]データシート!$A$1:$G$65536,7,FALSE)),"",SUMIF([1]データシート!$A$1:$A$65536,[1]集計表!A47,[1]データシート!$G$1:$G$65536)) -> 137 | F47: =IF(ISNA(VLOOKUP(A47,[1]データシート!$A$1:$G$65536,5,FALSE)),"",SUMIF([1]データシート!$A$1:$A$65536,[1]集計表!A47,[1]データシート!$E$1:$E$65536)) -> 95 | G47: 141004 | H47: =IF(ISNA(VLOOKUP(G47,[1]データシート!$A$1:$I$65536,9,FALSE)),"",IF(RIGHT(G47,3) = "000",VLOOKUP(G47,[1]データシート!$A$1:$I$65536,9,FALSE),VLOOKUP(G47,[1]データシート!$A$1:$I$65536,9,FALSE)&VLOOKUP(G47,[1]データシート!$A$1:$G$65536,4,FALSE))) -> 田貫４丁目 | I47: =IF(H47="","",SUM(J47:K47)) -> 224 | J47: =IF(ISNA(VLOOKUP(G47,[1]データシート!$A$1:$G$65536,6,FALSE)),"",SUMIF([1]データシート!$A$1:$A$65536,[1]集計表!G47,[1]データシート!$F$1:$F$65536)) -> 111 | K47: =IF(ISNA(VLOOKUP(G47,[1]データシート!$A$1:$G$65536,7,FALSE)),"",SUMIF([1]データシート!$A$1:$A$65536,[1]集計表!G47,[1]データシート!$G$1:$G$65536)) -> 113 | L47: =IF(ISNA(VLOOKUP(G47,[1]データシート!$A$1:$G$65536,5,FALSE)),"",SUMIF([1]データシート!$A$1:$A$65536,[1]集計表!G47,[1]データシート!$E$1:$E$65536)) -> 84 | M47: 074000 | N47: =IF(ISNA(VLOOKUP(M47,[1]データシート!$A$1:$I$65536,9,FALSE)),"",IF(RIGHT(M47,3) = "000",VLOOKUP(M47,[1]データシート!$A$1:$I$65536,9,FALSE),VLOOKUP(M47,[1]データシート!$A$1:$I$65536,9,FALSE)&VLOOKUP(M47,[1]データシート!$A$1:$G$65536,4,FALSE))) -> 高落町 | O47: =IF(N47="","",SUM(P47:Q47)) -> 220 | P47: =IF(ISNA(VLOOKUP(M47,[1]データシート!$A$1:$G$65536,6,FALSE)),"",SUMIF([1]データシート!$A$1:$A$65536,[1]集計表!M47,[1]データシート!$F$1:$F$65536)) -> 111 | Q47: =IF(ISNA(VLOOKUP(M47,[1]データシート!$A$1:$G$65536,7,FALSE)),"",SUMIF([1]データシート!$A$1:$A$65536,[1]集計表!M47,[1]データシート!$G$1:$G$65536)) -> 109 | R47: =IF(ISNA(VLOOKUP(M47,[1]データシート!$A$1:$G$65536,5,FALSE)),"",SUMIF([1]データシート!$A$1:$A$65536,[1]集計表!M47,[1]データシート!$E$1:$E$65536)) -> 81 | S47: 184000 | T47: =IF(ISNA(VLOOKUP(S47,[1]データシート!$A$1:$I$65536,9,FALSE)),"",IF(RIGHT(S47,3) = "000",VLOOKUP(S47,[1]データシート!$A$1:$I$65536,9,FALSE),VLOOKUP(S47,[1]データシート!$A$1:$I$65536,9,FALSE)&VLOOKUP(S47,[1]データシート!$A$1:$G$65536,4,FALSE))) -> 吉良町津平 | U47: =IF(T47="","",SUM(V47:W47)) -> 792 | V47: =IF(ISNA(VLOOKUP(S47,[1]データシート!$A$1:$G$65536,6,FALSE)),"",SUMIF([1]データシート!$A$1:$A$65536,[1]集計表!S47,[1]データシート!$F$1:$F$65536)) -> 419 | W47: =IF(ISNA(VLOOKUP(S47,[1]データシート!$A$1:$G$65536,7,FALSE)),"",SUMIF([1]データシート!$A$1:$A$65536,[1]集計表!S47,[1]データシート!$G$1:$G$65536)) -> 373 | X47: =IF(ISNA(VLOOKUP(S47,[1]データシート!$A$1:$G$65536,5,FALSE)),"",SUMIF([1]データシート!$A$1:$A$65536,[1]集計表!S47,[1]データシート!$E$1:$E$65536)) -> 275
A48: 102000 | B48: =IF(ISNA(VLOOKUP(A48,[1]データシート!$A$1:$I$65536,9,FALSE)),"",IF(RIGHT(A48,3) = "000",VLOOKUP(A48,[1]データシート!$A$1:$I$65536,9,FALSE),VLOOKUP(A48,[1]データシート!$A$1:$I$65536,9,FALSE)&VLOOKUP(A48,[1]データシート!$A$1:$G$65536,4,FALSE))) -> 永吉町 | C48: =IF(B48="","",SUM(D48:E48)) -> 381 | D48: =IF(ISNA(VLOOKUP(A48,[1]データシート!$A$1:$G$65536,6,FALSE)),"",SUMIF([1]データシート!$A$1:$A$65536,[1]集計表!A48,[1]データシート!$F$1:$F$65536)) -> 198 | E48: =IF(ISNA(VLOOKUP(A48,[1]データシート!$A$1:$G$65536,7,FALSE)),"",SUMIF([1]データシート!$A$1:$A$65536,[1]集計表!A48,[1]データシート!$G$1:$G$65536)) -> 183 | F48: =IF(ISNA(VLOOKUP(A48,[1]データシート!$A$1:$G$65536,5,FALSE)),"",SUMIF([1]データシート!$A$1:$A$65536,[1]集計表!A48,[1]データシート!$E$1:$E$65536)) -> 191 | G48: 141005 | H48: =IF(ISNA(VLOOKUP(G48,[1]データシート!$A$1:$I$65536,9,FALSE)),"",IF(RIGHT(G48,3) = "000",VLOOKUP(G48,[1]データシート!$A$1:$I$65536,9,FALSE),VLOOKUP(G48,[1]データシート!$A$1:$I$65536,9,FALSE)&VLOOKUP(G48,[1]データシート!$A$1:$G$65536,4,FALSE))) -> 田貫５丁目 | I48: =IF(H48="","",SUM(J48:K48)) -> 258 | J48: =IF(ISNA(VLOOKUP(G48,[1]データシート!$A$1:$G$65536,6,FALSE)),"",SUMIF([1]データシート!$A$1:$A$65536,[1]集計表!G48,[1]データシート!$F$1:$F$65536)) -> 131 | K48: =IF(ISNA(VLOOKUP(G48,[1]データシート!$A$1:$G$65536,7,FALSE)),"",SUMIF([1]データシート!$A$1:$A$65536,[1]集計表!G48,[1]データシート!$G$1:$G$65536)) -> 127 | L48: =IF(ISNA(VLOOKUP(G48,[1]データシート!$A$1:$G$65536,5,FALSE)),"",SUMIF([1]データシート!$A$1:$A$65536,[1]集計表!G48,[1]データシート!$E$1:$E$65536)) -> 76 | M48: 062000 | N48: =IF(ISNA(VLOOKUP(M48,[1]データシート!$A$1:$I$65536,9,FALSE)),"",IF(RIGHT(M48,3) = "000",VLOOKUP(M48,[1]データシート!$A$1:$I$65536,9,FALSE),VLOOKUP(M48,[1]データシート!$A$1:$I$65536,9,FALSE)&VLOOKUP(M48,[1]データシート!$A$1:$G$65536,4,FALSE))) -> 新村町 | O48: =IF(N48="","",SUM(P48:Q48)) -> 237 | P48: =IF(ISNA(VLOOKUP(M48,[1]データシート!$A$1:$G$65536,6,FALSE)),"",SUMIF([1]データシート!$A$1:$A$65536,[1]集計表!M48,[1]データシート!$F$1:$F$65536)) -> 124 | Q48: =IF(ISNA(VLOOKUP(M48,[1]データシート!$A$1:$G$65536,7,FALSE)),"",SUMIF([1]データシート!$A$1:$A$65536,[1]集計表!M48,[1]データシート!$G$1:$G$65536)) -> 113 | R48: =IF(ISNA(VLOOKUP(M48,[1]データシート!$A$1:$G$65536,5,FALSE)),"",SUMIF([1]データシート!$A$1:$A$65536,[1]集計表!M48,[1]データシート!$E$1:$E$65536)) -> 93 | S48: 185000 | T48: =IF(ISNA(VLOOKUP(S48,[1]データシート!$A$1:$I$65536,9,FALSE)),"",IF(RIGHT(S48,3) = "000",VLOOKUP(S48,[1]データシート!$A$1:$I$65536,9,FALSE),VLOOKUP(S48,[1]データシート!$A$1:$I$65536,9,FALSE)&VLOOKUP(S48,[1]データシート!$A$1:$G$65536,4,FALSE))) -> 吉良町寺嶋 | U48: =IF(T48="","",SUM(V48:W48)) -> 292 | V48: =IF(ISNA(VLOOKUP(S48,[1]データシート!$A$1:$G$65536,6,FALSE)),"",SUMIF([1]データシート!$A$1:$A$65536,[1]集計表!S48,[1]データシート!$F$1:$F$65536)) -> 142 | W48: =IF(ISNA(VLOOKUP(S48,[1]データシート!$A$1:$G$65536,7,FALSE)),"",SUMIF([1]データシート!$A$1:$A$65536,[1]集計表!S48,[1]データシート!$G$1:$G$65536)) -> 150 | X48: =IF(ISNA(VLOOKUP(S48,[1]データシート!$A$1:$G$65536,5,FALSE)),"",SUMIF([1]データシート!$A$1:$A$65536,[1]集計表!S48,[1]データシート!$E$1:$E$65536)) -> 132
A49: 146001 | B49: =IF(ISNA(VLOOKUP(A49,[1]データシート!$A$1:$I$65536,9,FALSE)),"",IF(RIGHT(A49,3) = "000",VLOOKUP(A49,[1]データシート!$A$1:$I$65536,9,FALSE),VLOOKUP(A49,[1]データシート!$A$1:$I$65536,9,FALSE)&VLOOKUP(A49,[1]データシート!$A$1:$G$65536,4,FALSE))) -> 永吉１丁目 | C49: =IF(B49="","",SUM(D49:E49)) -> 211 | D49: =IF(ISNA(VLOOKUP(A49,[1]データシート!$A$1:$G$65536,6,FALSE)),"",SUMIF([1]データシート!$A$1:$A$65536,[1]集計表!A49,[1]データシート!$F$1:$F$65536)) -> 108 | E49: =IF(ISNA(VLOOKUP(A49,[1]データシート!$A$1:$G$65536,7,FALSE)),"",SUMIF([1]データシート!$A$1:$A$65536,[1]集計表!A49,[1]データシート!$G$1:$G$65536)) -> 103 | F49: =IF(ISNA(VLOOKUP(A49,[1]データシート!$A$1:$G$65536,5,FALSE)),"",SUMIF([1]データシート!$A$1:$A$65536,[1]集計表!A49,[1]データシート!$E$1:$E$65536)) -> 106 | G49: 140000 | H49: =IF(ISNA(VLOOKUP(G49,[1]データシート!$A$1:$I$65536,9,FALSE)),"",IF(RIGHT(G49,3) = "000",VLOOKUP(G49,[1]データシート!$A$1:$I$65536,9,FALSE),VLOOKUP(G49,[1]データシート!$A$1:$I$65536,9,FALSE)&VLOOKUP(G49,[1]データシート!$A$1:$G$65536,4,FALSE))) | I49: =IF(H49="","",SUM(J49:K49)) | J49: =IF(ISNA(VLOOKUP(G49,[1]データシート!$A$1:$G$65536,6,FALSE)),"",SUMIF([1]データシート!$A$1:$A$65536,[1]集計表!G49,[1]データシート!$F$1:$F$65536)) | K49: =IF(ISNA(VLOOKUP(G49,[1]データシート!$A$1:$G$65536,7,FALSE)),"",SUMIF([1]データシート!$A$1:$A$65536,[1]集計表!G49,[1]データシート!$G$1:$G$65536)) | L49: =IF(ISNA(VLOOKUP(G49,[1]データシート!$A$1:$G$65536,5,FALSE)),"",SUMIF([1]データシート!$A$1:$A$65536,[1]集計表!G49,[1]データシート!$E$1:$E$65536)) | M49: 113000 | N49: =IF(ISNA(VLOOKUP(M49,[1]データシート!$A$1:$I$65536,9,FALSE)),"",IF(RIGHT(M49,3) = "000",VLOOKUP(M49,[1]データシート!$A$1:$I$65536,9,FALSE),VLOOKUP(M49,[1]データシート!$A$1:$I$65536,9,FALSE)&VLOOKUP(M49,[1]データシート!$A$1:$G$65536,4,FALSE))) -> 東浅井町 | O49: =IF(N49="","",SUM(P49:Q49)) -> 305 | P49: =IF(ISNA(VLOOKUP(M49,[1]データシート!$A$1:$G$65536,6,FALSE)),"",SUMIF([1]データシート!$A$1:$A$65536,[1]集計表!M49,[1]データシート!$F$1:$F$65536)) -> 150 | Q49: =IF(ISNA(VLOOKUP(M49,[1]データシート!$A$1:$G$65536,7,FALSE)),"",SUMIF([1]データシート!$A$1:$A$65536,[1]集計表!M49,[1]データシート!$G$1:$G$65536)) -> 155 | R49: =IF(ISNA(VLOOKUP(M49,[1]データシート!$A$1:$G$65536,5,FALSE)),"",SUMIF([1]データシート!$A$1:$A$65536,[1]集計表!M49,[1]データシート!$E$1:$E$65536)) -> 126 | S49: 186000 | T49: =IF(ISNA(VLOOKUP(S49,[1]データシート!$A$1:$I$65536,9,FALSE)),"",IF(RIGHT(S49,3) = "000",VLOOKUP(S49,[1]データシート!$A$1:$I$65536,9,FALSE),VLOOKUP(S49,[1]データシート!$A$1:$I$65536,9,FALSE)&VLOOKUP(S49,[1]データシート!$A$1:$G$65536,4,FALSE))) -> 吉良町富田 | U49: =IF(T49="","",SUM(V49:W49)) -> 1124 | V49: =IF(ISNA(VLOOKUP(S49,[1]データシート!$A$1:$G$65536,6,FALSE)),"",SUMIF([1]データシート!$A$1:$A$65536,[1]集計表!S49,[1]データシート!$F$1:$F$65536)) -> 556 | W49: =IF(ISNA(VLOOKUP(S49,[1]データシート!$A$1:$G$65536,7,FALSE)),"",SUMIF([1]データシート!$A$1:$A$65536,[1]集計表!S49,[1]データシート!$G$1:$G$65536)) -> 568 | X49: =IF(ISNA(VLOOKUP(S49,[1]データシート!$A$1:$G$65536,5,FALSE)),"",SUMIF([1]データシート!$A$1:$A$65536,[1]集計表!S49,[1]データシート!$E$1:$E$65536)) -> 408
A50: 146002 | B50: =IF(ISNA(VLOOKUP(A50,[1]データシート!$A$1:$I$65536,9,FALSE)),"",IF(RIGHT(A50,3) = "000",VLOOKUP(A50,[1]データシート!$A$1:$I$65536,9,FALSE),VLOOKUP(A50,[1]データシート!$A$1:$I$65536,9,FALSE)&VLOOKUP(A50,[1]データシート!$A$1:$G$65536,4,FALSE))) -> 永吉２丁目 | C50: =IF(B50="","",SUM(D50:E50)) -> 249 | D50: =IF(ISNA(VLOOKUP(A50,[1]データシート!$A$1:$G$65536,6,FALSE)),"",SUMIF([1]データシート!$A$1:$A$65536,[1]集計表!A50,[1]データシート!$F$1:$F$65536)) -> 128 | E50: =IF(ISNA(VLOOKUP(A50,[1]データシート!$A$1:$G$65536,7,FALSE)),"",SUMIF([1]データシート!$A$1:$A$65536,[1]集計表!A50,[1]データシート!$G$1:$G$65536)) -> 121 | F50: =IF(ISNA(VLOOKUP(A50,[1]データシート!$A$1:$G$65536,5,FALSE)),"",SUMIF([1]データシート!$A$1:$A$65536,[1]集計表!A50,[1]データシート!$E$1:$E$65536)) -> 111 | G50: 199001 | H50: =IF(ISNA(VLOOKUP(G50,[1]データシート!$A$1:$I$65536,9,FALSE)),"",IF(RIGHT(G50,3) = "000",VLOOKUP(G50,[1]データシート!$A$1:$I$65536,9,FALSE),VLOOKUP(G50,[1]データシート!$A$1:$I$65536,9,FALSE)&VLOOKUP(G50,[1]データシート!$A$1:$G$65536,4,FALSE))) -> 平坂吉山１丁目 | I50: =IF(H50="","",SUM(J50:K50)) -> 309 | J50: =IF(ISNA(VLOOKUP(G50,[1]データシート!$A$1:$G$65536,6,FALSE)),"",SUMIF([1]データシート!$A$1:$A$65536,[1]集計表!G50,[1]データシート!$F$1:$F$65536)) -> 155 | K50: =IF(ISNA(VLOOKUP(G50,[1]データシート!$A$1:$G$65536,7,FALSE)),"",SUMIF([1]データシート!$A$1:$A$65536,[1]集計表!G50,[1]データシート!$G$1:$G$65536)) -> 154 | L50: =IF(ISNA(VLOOKUP(G50,[1]データシート!$A$1:$G$65536,5,FALSE)),"",SUMIF([1]データシート!$A$1:$A$65536,[1]集計表!G50,[1]データシート!$E$1:$E$65536)) -> 85 | M50: 104000 | N50: =IF(ISNA(VLOOKUP(M50,[1]データシート!$A$1:$I$65536,9,FALSE)),"",IF(RIGHT(M50,3) = "000",VLOOKUP(M50,[1]データシート!$A$1:$I$65536,9,FALSE),VLOOKUP(M50,[1]データシート!$A$1:$I$65536,9,FALSE)&VLOOKUP(M50,[1]データシート!$A$1:$G$65536,4,FALSE))) -> 西浅井町 | O50: =IF(N50="","",SUM(P50:Q50)) -> 867 | P50: =IF(ISNA(VLOOKUP(M50,[1]データシート!$A$1:$G$65536,6,FALSE)),"",SUMIF([1]データシート!$A$1:$A$65536,[1]集計表!M50,[1]データシート!$F$1:$F$65536)) -> 449 | Q50: =IF(ISNA(VLOOKUP(M50,[1]データシート!$A$1:$G$65536,7,FALSE)),"",SUMIF([1]データシート!$A$1:$A$65536,[1]集計表!M50,[1]データシート!$G$1:$G$65536)) -> 418 | R50: =IF(ISNA(VLOOKUP(M50,[1]データシート!$A$1:$G$65536,5,FALSE)),"",SUMIF([1]データシート!$A$1:$A$65536,[1]集計表!M50,[1]データシート!$E$1:$E$65536)) -> 359 | S50: 187000 | T50: =IF(ISNA(VLOOKUP(S50,[1]データシート!$A$1:$I$65536,9,FALSE)),"",IF(RIGHT(S50,3) = "000",VLOOKUP(S50,[1]データシート!$A$1:$I$65536,9,FALSE),VLOOKUP(S50,[1]データシート!$A$1:$I$65536,9,FALSE)&VLOOKUP(S50,[1]データシート!$A$1:$G$65536,4,FALSE))) -> 吉良町富好新田 | U50: =IF(T50="","",SUM(V50:W50)) -> 1347 | V50: =IF(ISNA(VLOOKUP(S50,[1]データシート!$A$1:$G$65536,6,FALSE)),"",SUMIF([1]データシート!$A$1:$A$65536,[1]集計表!S50,[1]データシート!$F$1:$F$65536)) -> 663 | W50: =IF(ISNA(VLOOKUP(S50,[1]データシート!$A$1:$G$65536,7,FALSE)),"",SUMIF([1]データシート!$A$1:$A$65536,[1]集計表!S50,[1]データシート!$G$1:$G$65536)) -> 684 | X50: =IF(ISNA(VLOOKUP(S50,[1]データシート!$A$1:$G$65536,5,FALSE)),"",SUMIF([1]データシート!$A$1:$A$65536,[1]集計表!S50,[1]データシート!$E$1:$E$65536)) -> 639
A51: 146003 | B51: =IF(ISNA(VLOOKUP(A51,[1]データシート!$A$1:$I$65536,9,FALSE)),"",IF(RIGHT(A51,3) = "000",VLOOKUP(A51,[1]データシート!$A$1:$I$65536,9,FALSE),VLOOKUP(A51,[1]データシート!$A$1:$I$65536,9,FALSE)&VLOOKUP(A51,[1]データシート!$A$1:$G$65536,4,FALSE))) -> 永吉３丁目 | C51: =IF(B51="","",SUM(D51:E51)) -> 309 | D51: =IF(ISNA(VLOOKUP(A51,[1]データシート!$A$1:$G$65536,6,FALSE)),"",SUMIF([1]データシート!$A$1:$A$65536,[1]集計表!A51,[1]データシート!$F$1:$F$65536)) -> 164 | E51: =IF(ISNA(VLOOKUP(A51,[1]データシート!$A$1:$G$65536,7,FALSE)),"",SUMIF([1]データシート!$A$1:$A$65536,[1]集計表!A51,[1]データシート!$G$1:$G$65536)) -> 145 | F51: =IF(ISNA(VLOOKUP(A51,[1]データシート!$A$1:$G$65536,5,FALSE)),"",SUMIF([1]データシート!$A$1:$A$65536,[1]集計表!A51,[1]データシート!$E$1:$E$65536)) -> 139 | G51: 199002 | H51: =IF(ISNA(VLOOKUP(G51,[1]データシート!$A$1:$I$65536,9,FALSE)),"",IF(RIGHT(G51,3) = "000",VLOOKUP(G51,[1]データシート!$A$1:$I$65536,9,FALSE),VLOOKUP(G51,[1]データシート!$A$1:$I$65536,9,FALSE)&VLOOKUP(G51,[1]データシート!$A$1:$G$65536,4,FALSE))) -> 平坂吉山２丁目 | I51: =IF(H51="","",SUM(J51:K51)) -> 370 | J51: =IF(ISNA(VLOOKUP(G51,[1]データシート!$A$1:$G$65536,6,FALSE)),"",SUMIF([1]データシート!$A$1:$A$65536,[1]集計表!G51,[1]データシート!$F$1:$F$65536)) -> 188 | K51: =IF(ISNA(VLOOKUP(G51,[1]データシート!$A$1:$G$65536,7,FALSE)),"",SUMIF([1]データシート!$A$1:$A$65536,[1]集計表!G51,[1]データシート!$G$1:$G$65536)) -> 182 | L51: =IF(ISNA(VLOOKUP(G51,[1]データシート!$A$1:$G$65536,5,FALSE)),"",SUMIF([1]データシート!$A$1:$A$65536,[1]集計表!G51,[1]データシート!$E$1:$E$65536)) -> 113 | M51: 017000 | N51: =IF(ISNA(VLOOKUP(M51,[1]データシート!$A$1:$I$65536,9,FALSE)),"",IF(RIGHT(M51,3) = "000",VLOOKUP(M51,[1]データシート!$A$1:$I$65536,9,FALSE),VLOOKUP(M51,[1]データシート!$A$1:$I$65536,9,FALSE)&VLOOKUP(M51,[1]データシート!$A$1:$G$65536,4,FALSE))) -> 小島町 | O51: =IF(N51="","",SUM(P51:Q51)) -> 877 | P51: =IF(ISNA(VLOOKUP(M51,[1]データシート!$A$1:$G$65536,6,FALSE)),"",SUMIF([1]データシート!$A$1:$A$65536,[1]集計表!M51,[1]データシート!$F$1:$F$65536)) -> 417 | Q51: =IF(ISNA(VLOOKUP(M51,[1]データシート!$A$1:$G$65536,7,FALSE)),"",SUMIF([1]データシート!$A$1:$A$65536,[1]集計表!M51,[1]データシート!$G$1:$G$65536)) -> 460 | R51: =IF(ISNA(VLOOKUP(M51,[1]データシート!$A$1:$G$65536,5,FALSE)),"",SUMIF([1]データシート!$A$1:$A$65536,[1]集計表!M51,[1]データシート!$E$1:$E$65536)) -> 359 | S51: 188000 | T51: =IF(ISNA(VLOOKUP(S51,[1]データシート!$A$1:$I$65536,9,FALSE)),"",IF(RIGHT(S51,3) = "000",VLOOKUP(S51,[1]データシート!$A$1:$I$65536,9,FALSE),VLOOKUP(S51,[1]データシート!$A$1:$I$65536,9,FALSE)&VLOOKUP(S51,[1]データシート!$A$1:$G$65536,4,FALSE))) -> 吉良町友国 | U51: =IF(T51="","",SUM(V51:W51)) -> 616 | V51: =IF(ISNA(VLOOKUP(S51,[1]データシート!$A$1:$G$65536,6,FALSE)),"",SUMIF([1]データシート!$A$1:$A$65536,[1]集計表!S51,[1]データシート!$F$1:$F$65536)) -> 312 | W51: =IF(ISNA(VLOOKUP(S51,[1]データシート!$A$1:$G$65536,7,FALSE)),"",SUMIF([1]データシート!$A$1:$A$65536,[1]集計表!S51,[1]データシート!$G$1:$G$65536)) -> 304 | X51: =IF(ISNA(VLOOKUP(S51,[1]データシート!$A$1:$G$65536,5,FALSE)),"",SUMIF([1]データシート!$A$1:$A$65536,[1]集計表!S51,[1]データシート!$E$1:$E$65536)) -> 251
A52: 146004 | B52: =IF(ISNA(VLOOKUP(A52,[1]データシート!$A$1:$I$65536,9,FALSE)),"",IF(RIGHT(A52,3) = "000",VLOOKUP(A52,[1]データシート!$A$1:$I$65536,9,FALSE),VLOOKUP(A52,[1]データシート!$A$1:$I$65536,9,FALSE)&VLOOKUP(A52,[1]データシート!$A$1:$G$65536,4,FALSE))) -> 永吉４丁目 | C52: =IF(B52="","",SUM(D52:E52)) -> 360 | D52: =IF(ISNA(VLOOKUP(A52,[1]データシート!$A$1:$G$65536,6,FALSE)),"",SUMIF([1]データシート!$A$1:$A$65536,[1]集計表!A52,[1]データシート!$F$1:$F$65536)) -> 193 | E52: =IF(ISNA(VLOOKUP(A52,[1]データシート!$A$1:$G$65536,7,FALSE)),"",SUMIF([1]データシート!$A$1:$A$65536,[1]集計表!A52,[1]データシート!$G$1:$G$65536)) -> 167 | F52: =IF(ISNA(VLOOKUP(A52,[1]データシート!$A$1:$G$65536,5,FALSE)),"",SUMIF([1]データシート!$A$1:$A$65536,[1]集計表!A52,[1]データシート!$E$1:$E$65536)) -> 140 | G52: 200001 | H52: =IF(ISNA(VLOOKUP(G52,[1]データシート!$A$1:$I$65536,9,FALSE)),"",IF(RIGHT(G52,3) = "000",VLOOKUP(G52,[1]データシート!$A$1:$I$65536,9,FALSE),VLOOKUP(G52,[1]データシート!$A$1:$I$65536,9,FALSE)&VLOOKUP(G52,[1]データシート!$A$1:$G$65536,4,FALSE))) -> 富山１丁目 | I52: =IF(H52="","",SUM(J52:K52)) -> 455 | J52: =IF(ISNA(VLOOKUP(G52,[1]データシート!$A$1:$G$65536,6,FALSE)),"",SUMIF([1]データシート!$A$1:$A$65536,[1]集計表!G52,[1]データシート!$F$1:$F$65536)) -> 228 | K52: =IF(ISNA(VLOOKUP(G52,[1]データシート!$A$1:$G$65536,7,FALSE)),"",SUMIF([1]データシート!$A$1:$A$65536,[1]集計表!G52,[1]データシート!$G$1:$G$65536)) -> 227 | L52: =IF(ISNA(VLOOKUP(G52,[1]データシート!$A$1:$G$65536,5,FALSE)),"",SUMIF([1]データシート!$A$1:$A$65536,[1]集計表!G52,[1]データシート!$E$1:$E$65536)) -> 143 | M52: 042000 | N52: =IF(ISNA(VLOOKUP(M52,[1]データシート!$A$1:$I$65536,9,FALSE)),"",IF(RIGHT(M52,3) = "000",VLOOKUP(M52,[1]データシート!$A$1:$I$65536,9,FALSE),VLOOKUP(M52,[1]データシート!$A$1:$I$65536,9,FALSE)&VLOOKUP(M52,[1]データシート!$A$1:$G$65536,4,FALSE))) -> 米野町 | O52: =IF(N52="","",SUM(P52:Q52)) -> 282 | P52: =IF(ISNA(VLOOKUP(M52,[1]データシート!$A$1:$G$65536,6,FALSE)),"",SUMIF([1]データシート!$A$1:$A$65536,[1]集計表!M52,[1]データシート!$F$1:$F$65536)) -> 145 | Q52: =IF(ISNA(VLOOKUP(M52,[1]データシート!$A$1:$G$65536,7,FALSE)),"",SUMIF([1]データシート!$A$1:$A$65536,[1]集計表!M52,[1]データシート!$G$1:$G$65536)) -> 137 | R52: =IF(ISNA(VLOOKUP(M52,[1]データシート!$A$1:$G$65536,5,FALSE)),"",SUMIF([1]データシート!$A$1:$A$65536,[1]集計表!M52,[1]データシート!$E$1:$E$65536)) -> 89 | S52: 189000 | T52: =IF(ISNA(VLOOKUP(S52,[1]データシート!$A$1:$I$65536,9,FALSE)),"",IF(RIGHT(S52,3) = "000",VLOOKUP(S52,[1]データシート!$A$1:$I$65536,9,FALSE),VLOOKUP(S52,[1]データシート!$A$1:$I$65536,9,FALSE)&VLOOKUP(S52,[1]データシート!$A$1:$G$65536,4,FALSE))) -> 吉良町中野 | U52: =IF(T52="","",SUM(V52:W52)) -> 369 | V52: =IF(ISNA(VLOOKUP(S52,[1]データシート!$A$1:$G$65536,6,FALSE)),"",SUMIF([1]データシート!$A$1:$A$65536,[1]集計表!S52,[1]データシート!$F$1:$F$65536)) -> 191 | W52: =IF(ISNA(VLOOKUP(S52,[1]データシート!$A$1:$G$65536,7,FALSE)),"",SUMIF([1]データシート!$A$1:$A$65536,[1]集計表!S52,[1]データシート!$G$1:$G$65536)) -> 178 | X52: =IF(ISNA(VLOOKUP(S52,[1]データシート!$A$1:$G$65536,5,FALSE)),"",SUMIF([1]データシート!$A$1:$A$65536,[1]集計表!S52,[1]データシート!$E$1:$E$65536)) -> 133
A53: 132000 | B53: =IF(ISNA(VLOOKUP(A53,[1]データシート!$A$1:$I$65536,9,FALSE)),"",IF(RIGHT(A53,3) = "000",VLOOKUP(A53,[1]データシート!$A$1:$I$65536,9,FALSE),VLOOKUP(A53,[1]データシート!$A$1:$I$65536,9,FALSE)&VLOOKUP(A53,[1]データシート!$A$1:$G$65536,4,FALSE))) -> 山下町 | C53: =IF(B53="","",SUM(D53:E53)) -> 1735 | D53: =IF(ISNA(VLOOKUP(A53,[1]データシート!$A$1:$G$65536,6,FALSE)),"",SUMIF([1]データシート!$A$1:$A$65536,[1]集計表!A53,[1]データシート!$F$1:$F$65536)) -> 887 | E53: =IF(ISNA(VLOOKUP(A53,[1]データシート!$A$1:$G$65536,7,FALSE)),"",SUMIF([1]データシート!$A$1:$A$65536,[1]集計表!A53,[1]データシート!$G$1:$G$65536)) -> 848 | F53: =IF(ISNA(VLOOKUP(A53,[1]データシート!$A$1:$G$65536,5,FALSE)),"",SUMIF([1]データシート!$A$1:$A$65536,[1]集計表!A53,[1]データシート!$E$1:$E$65536)) -> 765 | G53: 200002 | H53: =IF(ISNA(VLOOKUP(G53,[1]データシート!$A$1:$I$65536,9,FALSE)),"",IF(RIGHT(G53,3) = "000",VLOOKUP(G53,[1]データシート!$A$1:$I$65536,9,FALSE),VLOOKUP(G53,[1]データシート!$A$1:$I$65536,9,FALSE)&VLOOKUP(G53,[1]データシート!$A$1:$G$65536,4,FALSE))) -> 富山２丁目 | I53: =IF(H53="","",SUM(J53:K53)) -> 518 | J53: =IF(ISNA(VLOOKUP(G53,[1]データシート!$A$1:$G$65536,6,FALSE)),"",SUMIF([1]データシート!$A$1:$A$65536,[1]集計表!G53,[1]データシート!$F$1:$F$65536)) -> 270 | K53: =IF(ISNA(VLOOKUP(G53,[1]データシート!$A$1:$G$65536,7,FALSE)),"",SUMIF([1]データシート!$A$1:$A$65536,[1]集計表!G53,[1]データシート!$G$1:$G$65536)) -> 248 | L53: =IF(ISNA(VLOOKUP(G53,[1]データシート!$A$1:$G$65536,5,FALSE)),"",SUMIF([1]データシート!$A$1:$A$65536,[1]集計表!G53,[1]データシート!$E$1:$E$65536)) -> 201 | M53: 011000 | N53: =IF(ISNA(VLOOKUP(M53,[1]データシート!$A$1:$I$65536,9,FALSE)),"",IF(RIGHT(M53,3) = "000",VLOOKUP(M53,[1]データシート!$A$1:$I$65536,9,FALSE),VLOOKUP(M53,[1]データシート!$A$1:$I$65536,9,FALSE)&VLOOKUP(M53,[1]データシート!$A$1:$G$65536,4,FALSE))) -> 江原町 | O53: =IF(N53="","",SUM(P53:Q53)) -> 939 | P53: =IF(ISNA(VLOOKUP(M53,[1]データシート!$A$1:$G$65536,6,FALSE)),"",SUMIF([1]データシート!$A$1:$A$65536,[1]集計表!M53,[1]データシート!$F$1:$F$65536)) -> 463 | Q53: =IF(ISNA(VLOOKUP(M53,[1]データシート!$A$1:$G$65536,7,FALSE)),"",SUMIF([1]データシート!$A$1:$A$65536,[1]集計表!M53,[1]データシート!$G$1:$G$65536)) -> 476 | R53: =IF(ISNA(VLOOKUP(M53,[1]データシート!$A$1:$G$65536,5,FALSE)),"",SUMIF([1]データシート!$A$1:$A$65536,[1]集計表!M53,[1]データシート!$E$1:$E$65536)) -> 341 | S53: 190000 | T53: =IF(ISNA(VLOOKUP(S53,[1]データシート!$A$1:$I$65536,9,FALSE)),"",IF(RIGHT(S53,3) = "000",VLOOKUP(S53,[1]データシート!$A$1:$I$65536,9,FALSE),VLOOKUP(S53,[1]データシート!$A$1:$I$65536,9,FALSE)&VLOOKUP(S53,[1]データシート!$A$1:$G$65536,4,FALSE))) -> 吉良町八幡川田 | U53: =IF(T53="","",SUM(V53:W53)) -> 100 | V53: =IF(ISNA(VLOOKUP(S53,[1]データシート!$A$1:$G$65536,6,FALSE)),"",SUMIF([1]データシート!$A$1:$A$65536,[1]集計表!S53,[1]データシート!$F$1:$F$65536)) -> 47 | W53: =IF(ISNA(VLOOKUP(S53,[1]データシート!$A$1:$G$65536,7,FALSE)),"",SUMIF([1]データシート!$A$1:$A$65536,[1]集計表!S53,[1]データシート!$G$1:$G$65536)) -> 53 | X53: =IF(ISNA(VLOOKUP(S53,[1]データシート!$A$1:$G$65536,5,FALSE)),"",SUMIF([1]データシート!$A$1:$A$65536,[1]集計表!S53,[1]データシート!$E$1:$E$65536)) -> 38
A54: 027000 | B54: =IF(ISNA(VLOOKUP(A54,[1]データシート!$A$1:$I$65536,9,FALSE)),"",IF(RIGHT(A54,3) = "000",VLOOKUP(A54,[1]データシート!$A$1:$I$65536,9,FALSE),VLOOKUP(A54,[1]データシート!$A$1:$I$65536,9,FALSE)&VLOOKUP(A54,[1]データシート!$A$1:$G$65536,4,FALSE))) -> 上町 | C54: =IF(B54="","",SUM(D54:E54)) -> 2928 | D54: =IF(ISNA(VLOOKUP(A54,[1]データシート!$A$1:$G$65536,6,FALSE)),"",SUMIF([1]データシート!$A$1:$A$65536,[1]集計表!A54,[1]データシート!$F$1:$F$65536)) -> 1425 | E54: =IF(ISNA(VLOOKUP(A54,[1]データシート!$A$1:$G$65536,7,FALSE)),"",SUMIF([1]データシート!$A$1:$A$65536,[1]集計表!A54,[1]データシート!$G$1:$G$65536)) -> 1503 | F54: =IF(ISNA(VLOOKUP(A54,[1]データシート!$A$1:$G$65536,5,FALSE)),"",SUMIF([1]データシート!$A$1:$A$65536,[1]集計表!A54,[1]データシート!$E$1:$E$65536)) -> 1134 | G54: 201001 | H54: =IF(ISNA(VLOOKUP(G54,[1]データシート!$A$1:$I$65536,9,FALSE)),"",IF(RIGHT(G54,3) = "000",VLOOKUP(G54,[1]データシート!$A$1:$I$65536,9,FALSE),VLOOKUP(G54,[1]データシート!$A$1:$I$65536,9,FALSE)&VLOOKUP(G54,[1]データシート!$A$1:$G$65536,4,FALSE))) -> 羽塚西ノ山１丁目 | I54: =IF(H54="","",SUM(J54:K54)) -> 169 | J54: =IF(ISNA(VLOOKUP(G54,[1]データシート!$A$1:$G$65536,6,FALSE)),"",SUMIF([1]データシート!$A$1:$A$65536,[1]集計表!G54,[1]データシート!$F$1:$F$65536)) -> 85 | K54: =IF(ISNA(VLOOKUP(G54,[1]データシート!$A$1:$G$65536,7,FALSE)),"",SUMIF([1]データシート!$A$1:$A$65536,[1]集計表!G54,[1]データシート!$G$1:$G$65536)) -> 84 | L54: =IF(ISNA(VLOOKUP(G54,[1]データシート!$A$1:$G$65536,5,FALSE)),"",SUMIF([1]データシート!$A$1:$A$65536,[1]集計表!G54,[1]データシート!$E$1:$E$65536)) -> 54 | M54: 139000 | N54: =IF(ISNA(VLOOKUP(M54,[1]データシート!$A$1:$I$65536,9,FALSE)),"",IF(RIGHT(M54,3) = "000",VLOOKUP(M54,[1]データシート!$A$1:$I$65536,9,FALSE),VLOOKUP(M54,[1]データシート!$A$1:$I$65536,9,FALSE)&VLOOKUP(M54,[1]データシート!$A$1:$G$65536,4,FALSE))) -> 和気町 | O54: =IF(N54="","",SUM(P54:Q54)) -> 327 | P54: =IF(ISNA(VLOOKUP(M54,[1]データシート!$A$1:$G$65536,6,FALSE)),"",SUMIF([1]データシート!$A$1:$A$65536,[1]集計表!M54,[1]データシート!$F$1:$F$65536)) -> 166 | Q54: =IF(ISNA(VLOOKUP(M54,[1]データシート!$A$1:$G$65536,7,FALSE)),"",SUMIF([1]データシート!$A$1:$A$65536,[1]集計表!M54,[1]データシート!$G$1:$G$65536)) -> 161 | R54: =IF(ISNA(VLOOKUP(M54,[1]データシート!$A$1:$G$65536,5,FALSE)),"",SUMIF([1]データシート!$A$1:$A$65536,[1]集計表!M54,[1]データシート!$E$1:$E$65536)) -> 111 | S54: 191000 | T54: =IF(ISNA(VLOOKUP(S54,[1]データシート!$A$1:$I$65536,9,FALSE)),"",IF(RIGHT(S54,3) = "000",VLOOKUP(S54,[1]データシート!$A$1:$I$65536,9,FALSE),VLOOKUP(S54,[1]データシート!$A$1:$I$65536,9,FALSE)&VLOOKUP(S54,[1]データシート!$A$1:$G$65536,4,FALSE))) -> 吉良町駮馬 | U54: =IF(T54="","",SUM(V54:W54)) -> 525 | V54: =IF(ISNA(VLOOKUP(S54,[1]データシート!$A$1:$G$65536,6,FALSE)),"",SUMIF([1]データシート!$A$1:$A$65536,[1]集計表!S54,[1]データシート!$F$1:$F$65536)) -> 266 | W54: =IF(ISNA(VLOOKUP(S54,[1]データシート!$A$1:$G$65536,7,FALSE)),"",SUMIF([1]データシート!$A$1:$A$65536,[1]集計表!S54,[1]データシート!$G$1:$G$65536)) -> 259 | X54: =IF(ISNA(VLOOKUP(S54,[1]データシート!$A$1:$G$65536,5,FALSE)),"",SUMIF([1]データシート!$A$1:$A$65536,[1]集計表!S54,[1]データシート!$E$1:$E$65536)) -> 176
A55: 019000 | B55: =IF(ISNA(VLOOKUP(A55,[1]データシート!$A$1:$I$65536,9,FALSE)),"",IF(RIGHT(A55,3) = "000",VLOOKUP(A55,[1]データシート!$A$1:$I$65536,9,FALSE),VLOOKUP(A55,[1]データシート!$A$1:$I$65536,9,FALSE)&VLOOKUP(A55,[1]データシート!$A$1:$G$65536,4,FALSE))) -> 小間町 | C55: =IF(B55="","",SUM(D55:E55)) -> 433 | D55: =IF(ISNA(VLOOKUP(A55,[1]データシート!$A$1:$G$65536,6,FALSE)),"",SUMIF([1]データシート!$A$1:$A$65536,[1]集計表!A55,[1]データシート!$F$1:$F$65536)) -> 202 | E55: =IF(ISNA(VLOOKUP(A55,[1]データシート!$A$1:$G$65536,7,FALSE)),"",SUMIF([1]データシート!$A$1:$A$65536,[1]集計表!A55,[1]データシート!$G$1:$G$65536)) -> 231 | F55: =IF(ISNA(VLOOKUP(A55,[1]データシート!$A$1:$G$65536,5,FALSE)),"",SUMIF([1]データシート!$A$1:$A$65536,[1]集計表!A55,[1]データシート!$E$1:$E$65536)) -> 156 | G55: 201002 | H55: =IF(ISNA(VLOOKUP(G55,[1]データシート!$A$1:$I$65536,9,FALSE)),"",IF(RIGHT(G55,3) = "000",VLOOKUP(G55,[1]データシート!$A$1:$I$65536,9,FALSE),VLOOKUP(G55,[1]データシート!$A$1:$I$65536,9,FALSE)&VLOOKUP(G55,[1]データシート!$A$1:$G$65536,4,FALSE))) -> 羽塚西ノ山２丁目 | I55: =IF(H55="","",SUM(J55:K55)) -> 128 | J55: =IF(ISNA(VLOOKUP(G55,[1]データシート!$A$1:$G$65536,6,FALSE)),"",SUMIF([1]データシート!$A$1:$A$65536,[1]集計表!G55,[1]データシート!$F$1:$F$65536)) -> 66 | K55: =IF(ISNA(VLOOKUP(G55,[1]データシート!$A$1:$G$65536,7,FALSE)),"",SUMIF([1]データシート!$A$1:$A$65536,[1]集計表!G55,[1]データシート!$G$1:$G$65536)) -> 62 | L55: =IF(ISNA(VLOOKUP(G55,[1]データシート!$A$1:$G$65536,5,FALSE)),"",SUMIF([1]データシート!$A$1:$A$65536,[1]集計表!G55,[1]データシート!$E$1:$E$65536)) -> 34 | M55: 012000 | N55: =IF(ISNA(VLOOKUP(M55,[1]データシート!$A$1:$I$65536,9,FALSE)),"",IF(RIGHT(M55,3) = "000",VLOOKUP(M55,[1]データシート!$A$1:$I$65536,9,FALSE),VLOOKUP(M55,[1]データシート!$A$1:$I$65536,9,FALSE)&VLOOKUP(M55,[1]データシート!$A$1:$G$65536,4,FALSE))) -> 大和田町 | O55: =IF(N55="","",SUM(P55:Q55)) -> 264 | P55: =IF(ISNA(VLOOKUP(M55,[1]データシート!$A$1:$G$65536,6,FALSE)),"",SUMIF([1]データシート!$A$1:$A$65536,[1]集計表!M55,[1]データシート!$F$1:$F$65536)) -> 141 | Q55: =IF(ISNA(VLOOKUP(M55,[1]データシート!$A$1:$G$65536,7,FALSE)),"",SUMIF([1]データシート!$A$1:$A$65536,[1]集計表!M55,[1]データシート!$G$1:$G$65536)) -> 123 | R55: =IF(ISNA(VLOOKUP(M55,[1]データシート!$A$1:$G$65536,5,FALSE)),"",SUMIF([1]データシート!$A$1:$A$65536,[1]集計表!M55,[1]データシート!$E$1:$E$65536)) -> 119 | S55: 192000 | T55: =IF(ISNA(VLOOKUP(S55,[1]データシート!$A$1:$I$65536,9,FALSE)),"",IF(RIGHT(S55,3) = "000",VLOOKUP(S55,[1]データシート!$A$1:$I$65536,9,FALSE),VLOOKUP(S55,[1]データシート!$A$1:$I$65536,9,FALSE)&VLOOKUP(S55,[1]データシート!$A$1:$G$65536,4,FALSE))) -> 吉良町宮崎 | U55: =IF(T55="","",SUM(V55:W55)) -> 481 | V55: =IF(ISNA(VLOOKUP(S55,[1]データシート!$A$1:$G$65536,6,FALSE)),"",SUMIF([1]データシート!$A$1:$A$65536,[1]集計表!S55,[1]データシート!$F$1:$F$65536)) -> 227 | W55: =IF(ISNA(VLOOKUP(S55,[1]データシート!$A$1:$G$65536,7,FALSE)),"",SUMIF([1]データシート!$A$1:$A$65536,[1]集計表!S55,[1]データシート!$G$1:$G$65536)) -> 254 | X55: =IF(ISNA(VLOOKUP(S55,[1]データシート!$A$1:$G$65536,5,FALSE)),"",SUMIF([1]データシート!$A$1:$A$65536,[1]集計表!S55,[1]データシート!$E$1:$E$65536)) -> 272
A56: 056000 | B56: =IF(ISNA(VLOOKUP(A56,[1]データシート!$A$1:$I$65536,9,FALSE)),"",IF(RIGHT(A56,3) = "000",VLOOKUP(A56,[1]データシート!$A$1:$I$65536,9,FALSE),VLOOKUP(A56,[1]データシート!$A$1:$I$65536,9,FALSE)&VLOOKUP(A56,[1]データシート!$A$1:$G$65536,4,FALSE))) -> 下町 | C56: =IF(B56="","",SUM(D56:E56)) -> 1809 | D56: =IF(ISNA(VLOOKUP(A56,[1]データシート!$A$1:$G$65536,6,FALSE)),"",SUMIF([1]データシート!$A$1:$A$65536,[1]集計表!A56,[1]データシート!$F$1:$F$65536)) -> 942 | E56: =IF(ISNA(VLOOKUP(A56,[1]データシート!$A$1:$G$65536,7,FALSE)),"",SUMIF([1]データシート!$A$1:$A$65536,[1]集計表!A56,[1]データシート!$G$1:$G$65536)) -> 867 | F56: =IF(ISNA(VLOOKUP(A56,[1]データシート!$A$1:$G$65536,5,FALSE)),"",SUMIF([1]データシート!$A$1:$A$65536,[1]集計表!A56,[1]データシート!$E$1:$E$65536)) -> 833 | G56: 202001 | H56: =IF(ISNA(VLOOKUP(G56,[1]データシート!$A$1:$I$65536,9,FALSE)),"",IF(RIGHT(G56,3) = "000",VLOOKUP(G56,[1]データシート!$A$1:$I$65536,9,FALSE),VLOOKUP(G56,[1]データシート!$A$1:$I$65536,9,FALSE)&VLOOKUP(G56,[1]データシート!$A$1:$G$65536,4,FALSE))) -> 矢田１丁目 | I56: =IF(H56="","",SUM(J56:K56)) -> 279 | J56: =IF(ISNA(VLOOKUP(G56,[1]データシート!$A$1:$G$65536,6,FALSE)),"",SUMIF([1]データシート!$A$1:$A$65536,[1]集計表!G56,[1]データシート!$F$1:$F$65536)) -> 138 | K56: =IF(ISNA(VLOOKUP(G56,[1]データシート!$A$1:$G$65536,7,FALSE)),"",SUMIF([1]データシート!$A$1:$A$65536,[1]集計表!G56,[1]データシート!$G$1:$G$65536)) -> 141 | L56: =IF(ISNA(VLOOKUP(G56,[1]データシート!$A$1:$G$65536,5,FALSE)),"",SUMIF([1]データシート!$A$1:$A$65536,[1]集計表!G56,[1]データシート!$E$1:$E$65536)) -> 95 | M56: 075000 | N56: =IF(ISNA(VLOOKUP(M56,[1]データシート!$A$1:$I$65536,9,FALSE)),"",IF(RIGHT(M56,3) = "000",VLOOKUP(M56,[1]データシート!$A$1:$I$65536,9,FALSE),VLOOKUP(M56,[1]データシート!$A$1:$I$65536,9,FALSE)&VLOOKUP(M56,[1]データシート!$A$1:$G$65536,4,FALSE))) -> 高河原町 | O56: =IF(N56="","",SUM(P56:Q56)) -> 369 | P56: =IF(ISNA(VLOOKUP(M56,[1]データシート!$A$1:$G$65536,6,FALSE)),"",SUMIF([1]データシート!$A$1:$A$65536,[1]集計表!M56,[1]データシート!$F$1:$F$65536)) -> 185 | Q56: =IF(ISNA(VLOOKUP(M56,[1]データシート!$A$1:$G$65536,7,FALSE)),"",SUMIF([1]データシート!$A$1:$A$65536,[1]集計表!M56,[1]データシート!$G$1:$G$65536)) -> 184 | R56: =IF(ISNA(VLOOKUP(M56,[1]データシート!$A$1:$G$65536,5,FALSE)),"",SUMIF([1]データシート!$A$1:$A$65536,[1]集計表!M56,[1]データシート!$E$1:$E$65536)) -> 145 | S56: 193000 | T56: =IF(ISNA(VLOOKUP(S56,[1]データシート!$A$1:$I$65536,9,FALSE)),"",IF(RIGHT(S56,3) = "000",VLOOKUP(S56,[1]データシート!$A$1:$I$65536,9,FALSE),VLOOKUP(S56,[1]データシート!$A$1:$I$65536,9,FALSE)&VLOOKUP(S56,[1]データシート!$A$1:$G$65536,4,FALSE))) -> 吉良町宮迫 | U56: =IF(T56="","",SUM(V56:W56)) -> 417 | V56: =IF(ISNA(VLOOKUP(S56,[1]データシート!$A$1:$G$65536,6,FALSE)),"",SUMIF([1]データシート!$A$1:$A$65536,[1]集計表!S56,[1]データシート!$F$1:$F$65536)) -> 218 | W56: =IF(ISNA(VLOOKUP(S56,[1]データシート!$A$1:$G$65536,7,FALSE)),"",SUMIF([1]データシート!$A$1:$A$65536,[1]集計表!S56,[1]データシート!$G$1:$G$65536)) -> 199 | X56: =IF(ISNA(VLOOKUP(S56,[1]データシート!$A$1:$G$65536,5,FALSE)),"",SUMIF([1]データシート!$A$1:$A$65536,[1]集計表!S56,[1]データシート!$E$1:$E$65536)) -> 161
A57: 119000 | B57: =IF(ISNA(VLOOKUP(A57,[1]データシート!$A$1:$I$65536,9,FALSE)),"",IF(RIGHT(A57,3) = "000",VLOOKUP(A57,[1]データシート!$A$1:$I$65536,9,FALSE),VLOOKUP(A57,[1]データシート!$A$1:$I$65536,9,FALSE)&VLOOKUP(A57,[1]データシート!$A$1:$G$65536,4,FALSE))) -> 法光寺町 | C57: =IF(B57="","",SUM(D57:E57)) -> 727 | D57: =IF(ISNA(VLOOKUP(A57,[1]データシート!$A$1:$G$65536,6,FALSE)),"",SUMIF([1]データシート!$A$1:$A$65536,[1]集計表!A57,[1]データシート!$F$1:$F$65536)) -> 393 | E57: =IF(ISNA(VLOOKUP(A57,[1]データシート!$A$1:$G$65536,7,FALSE)),"",SUMIF([1]データシート!$A$1:$A$65536,[1]集計表!A57,[1]データシート!$G$1:$G$65536)) -> 334 | F57: =IF(ISNA(VLOOKUP(A57,[1]データシート!$A$1:$G$65536,5,FALSE)),"",SUMIF([1]データシート!$A$1:$A$65536,[1]集計表!A57,[1]データシート!$E$1:$E$65536)) -> 292 | G57: 202002 | H57: =IF(ISNA(VLOOKUP(G57,[1]データシート!$A$1:$I$65536,9,FALSE)),"",IF(RIGHT(G57,3) = "000",VLOOKUP(G57,[1]データシート!$A$1:$I$65536,9,FALSE),VLOOKUP(G57,[1]データシート!$A$1:$I$65536,9,FALSE)&VLOOKUP(G57,[1]データシート!$A$1:$G$65536,4,FALSE))) -> 矢田２丁目 | I57: =IF(H57="","",SUM(J57:K57)) -> 433 | J57: =IF(ISNA(VLOOKUP(G57,[1]データシート!$A$1:$G$65536,6,FALSE)),"",SUMIF([1]データシート!$A$1:$A$65536,[1]集計表!G57,[1]データシート!$F$1:$F$65536)) -> 225 | K57: =IF(ISNA(VLOOKUP(G57,[1]データシート!$A$1:$G$65536,7,FALSE)),"",SUMIF([1]データシート!$A$1:$A$65536,[1]集計表!G57,[1]データシート!$G$1:$G$65536)) -> 208 | L57: =IF(ISNA(VLOOKUP(G57,[1]データシート!$A$1:$G$65536,5,FALSE)),"",SUMIF([1]データシート!$A$1:$A$65536,[1]集計表!G57,[1]データシート!$E$1:$E$65536)) -> 142 | M57: 013000 | N57: =IF(ISNA(VLOOKUP(M57,[1]データシート!$A$1:$I$65536,9,FALSE)),"",IF(RIGHT(M57,3) = "000",VLOOKUP(M57,[1]データシート!$A$1:$I$65536,9,FALSE),VLOOKUP(M57,[1]データシート!$A$1:$I$65536,9,FALSE)&VLOOKUP(M57,[1]データシート!$A$1:$G$65536,4,FALSE))) -> 岡島町 | O57: =IF(N57="","",SUM(P57:Q57)) -> 343 | P57: =IF(ISNA(VLOOKUP(M57,[1]データシート!$A$1:$G$65536,6,FALSE)),"",SUMIF([1]データシート!$A$1:$A$65536,[1]集計表!M57,[1]データシート!$F$1:$F$65536)) -> 181 | Q57: =IF(ISNA(VLOOKUP(M57,[1]データシート!$A$1:$G$65536,7,FALSE)),"",SUMIF([1]データシート!$A$1:$A$65536,[1]集計表!M57,[1]データシート!$G$1:$G$65536)) -> 162 | R57: =IF(ISNA(VLOOKUP(M57,[1]データシート!$A$1:$G$65536,5,FALSE)),"",SUMIF([1]データシート!$A$1:$A$65536,[1]集計表!M57,[1]データシート!$E$1:$E$65536)) -> 117 | S57: 194000 | T57: =IF(ISNA(VLOOKUP(S57,[1]データシート!$A$1:$I$65536,9,FALSE)),"",IF(RIGHT(S57,3) = "000",VLOOKUP(S57,[1]データシート!$A$1:$I$65536,9,FALSE),VLOOKUP(S57,[1]データシート!$A$1:$I$65536,9,FALSE)&VLOOKUP(S57,[1]データシート!$A$1:$G$65536,4,FALSE))) -> 吉良町吉田 | U57: =IF(T57="","",SUM(V57:W57)) -> 4592 | V57: =IF(ISNA(VLOOKUP(S57,[1]データシート!$A$1:$G$65536,6,FALSE)),"",SUMIF([1]データシート!$A$1:$A$65536,[1]集計表!S57,[1]データシート!$F$1:$F$65536)) -> 2281 | W57: =IF(ISNA(VLOOKUP(S57,[1]データシート!$A$1:$G$65536,7,FALSE)),"",SUMIF([1]データシート!$A$1:$A$65536,[1]集計表!S57,[1]データシート!$G$1:$G$65536)) -> 2311 | X57: =IF(ISNA(VLOOKUP(S57,[1]データシート!$A$1:$G$65536,5,FALSE)),"",SUMIF([1]データシート!$A$1:$A$65536,[1]集計表!S57,[1]データシート!$E$1:$E$65536)) -> 1810
A58: 069000 | B58: =IF(ISNA(VLOOKUP(A58,[1]データシート!$A$1:$I$65536,9,FALSE)),"",IF(RIGHT(A58,3) = "000",VLOOKUP(A58,[1]データシート!$A$1:$I$65536,9,FALSE),VLOOKUP(A58,[1]データシート!$A$1:$I$65536,9,FALSE)&VLOOKUP(A58,[1]データシート!$A$1:$G$65536,4,FALSE))) -> 住崎町 | C58: =IF(B58="","",SUM(D58:E58)) -> 1225 | D58: =IF(ISNA(VLOOKUP(A58,[1]データシート!$A$1:$G$65536,6,FALSE)),"",SUMIF([1]データシート!$A$1:$A$65536,[1]集計表!A58,[1]データシート!$F$1:$F$65536)) -> 641 | E58: =IF(ISNA(VLOOKUP(A58,[1]データシート!$A$1:$G$65536,7,FALSE)),"",SUMIF([1]データシート!$A$1:$A$65536,[1]集計表!A58,[1]データシート!$G$1:$G$65536)) -> 584 | F58: =IF(ISNA(VLOOKUP(A58,[1]データシート!$A$1:$G$65536,5,FALSE)),"",SUMIF([1]データシート!$A$1:$A$65536,[1]集計表!A58,[1]データシート!$E$1:$E$65536)) -> 561 | H58: =IF(ISNA(VLOOKUP(G58,[1]データシート!$A$1:$I$65536,9,FALSE)),"",IF(RIGHT(G58,3) = "000",VLOOKUP(G58,[1]データシート!$A$1:$I$65536,9,FALSE),VLOOKUP(G58,[1]データシート!$A$1:$I$65536,9,FALSE)&VLOOKUP(G58,[1]データシート!$A$1:$G$65536,4,FALSE))) | I58: =IF(H58="","",SUM(J58:K58)) | J58: =IF(ISNA(VLOOKUP(G58,[1]データシート!$A$1:$G$65536,6,FALSE)),"",SUMIF([1]データシート!$A$1:$A$65536,[1]集計表!G58,[1]データシート!$F$1:$F$65536)) | K58: =IF(ISNA(VLOOKUP(G58,[1]データシート!$A$1:$G$65536,7,FALSE)),"",SUMIF([1]データシート!$A$1:$A$65536,[1]集計表!G58,[1]データシート!$G$1:$G$65536)) | L58: =IF(ISNA(VLOOKUP(G58,[1]データシート!$A$1:$G$65536,5,FALSE)),"",SUMIF([1]データシート!$A$1:$A$65536,[1]集計表!G58,[1]データシート!$E$1:$E$65536)) | M58: 018000 | N58: =IF(ISNA(VLOOKUP(M58,[1]データシート!$A$1:$I$65536,9,FALSE)),"",IF(RIGHT(M58,3) = "000",VLOOKUP(M58,[1]データシート!$A$1:$I$65536,9,FALSE),VLOOKUP(M58,[1]データシート!$A$1:$I$65536,9,FALSE)&VLOOKUP(M58,[1]データシート!$A$1:$G$65536,4,FALSE))) -> 尾花町 | O58: =IF(N58="","",SUM(P58:Q58)) -> 177 | P58: =IF(ISNA(VLOOKUP(M58,[1]データシート!$A$1:$G$65536,6,FALSE)),"",SUMIF([1]データシート!$A$1:$A$65536,[1]集計表!M58,[1]データシート!$F$1:$F$65536)) -> 84 | Q58: =IF(ISNA(VLOOKUP(M58,[1]データシート!$A$1:$G$65536,7,FALSE)),"",SUMIF([1]データシート!$A$1:$A$65536,[1]集計表!M58,[1]データシート!$G$1:$G$65536)) -> 93 | R58: =IF(ISNA(VLOOKUP(M58,[1]データシート!$A$1:$G$65536,5,FALSE)),"",SUMIF([1]データシート!$A$1:$A$65536,[1]集計表!M58,[1]データシート!$E$1:$E$65536)) -> 75 | U58: =IF(T58="","",SUM(V58:W58))
A59: 145001 | B59: =IF(ISNA(VLOOKUP(A59,[1]データシート!$A$1:$I$65536,9,FALSE)),"",IF(RIGHT(A59,3) = "000",VLOOKUP(A59,[1]データシート!$A$1:$I$65536,9,FALSE),VLOOKUP(A59,[1]データシート!$A$1:$I$65536,9,FALSE)&VLOOKUP(A59,[1]データシート!$A$1:$G$65536,4,FALSE))) -> 住崎１丁目 | C59: =IF(B59="","",SUM(D59:E59)) -> 300 | D59: =IF(ISNA(VLOOKUP(A59,[1]データシート!$A$1:$G$65536,6,FALSE)),"",SUMIF([1]データシート!$A$1:$A$65536,[1]集計表!A59,[1]データシート!$F$1:$F$65536)) -> 141 | E59: =IF(ISNA(VLOOKUP(A59,[1]データシート!$A$1:$G$65536,7,FALSE)),"",SUMIF([1]データシート!$A$1:$A$65536,[1]集計表!A59,[1]データシート!$G$1:$G$65536)) -> 159 | F59: =IF(ISNA(VLOOKUP(A59,[1]データシート!$A$1:$G$65536,5,FALSE)),"",SUMIF([1]データシート!$A$1:$A$65536,[1]集計表!A59,[1]データシート!$E$1:$E$65536)) -> 131 | G59: 平坂地区 計 | I59: =SUM(I26:I58) -> 28012 | J59: =SUM(J26:J58) -> 14502 | K59: =SUM(K26:K58) -> 13510 | L59: =SUM(L26:L58) -> 11673 | M59: 054000 | N59: =IF(ISNA(VLOOKUP(M59,[1]データシート!$A$1:$I$65536,9,FALSE)),"",IF(RIGHT(M59,3) = "000",VLOOKUP(M59,[1]データシート!$A$1:$I$65536,9,FALSE),VLOOKUP(M59,[1]データシート!$A$1:$I$65536,9,FALSE)&VLOOKUP(M59,[1]データシート!$A$1:$G$65536,4,FALSE))) -> 下永良町 | O59: =IF(N59="","",SUM(P59:Q59)) -> 413 | P59: =IF(ISNA(VLOOKUP(M59,[1]データシート!$A$1:$G$65536,6,FALSE)),"",SUMIF([1]データシート!$A$1:$A$65536,[1]集計表!M59,[1]データシート!$F$1:$F$65536)) -> 212 | Q59: =IF(ISNA(VLOOKUP(M59,[1]データシート!$A$1:$G$65536,7,FALSE)),"",SUMIF([1]データシート!$A$1:$A$65536,[1]集計表!M59,[1]データシート!$G$1:$G$65536)) -> 201 | R59: =IF(ISNA(VLOOKUP(M59,[1]データシート!$A$1:$G$65536,5,FALSE)),"",SUMIF([1]データシート!$A$1:$A$65536,[1]集計表!M59,[1]データシート!$E$1:$E$65536)) -> 159 | U59: =IF(T59="","",SUM(V59:W59))
A60: 145002 | B60: =IF(ISNA(VLOOKUP(A60,[1]データシート!$A$1:$I$65536,9,FALSE)),"",IF(RIGHT(A60,3) = "000",VLOOKUP(A60,[1]データシート!$A$1:$I$65536,9,FALSE),VLOOKUP(A60,[1]データシート!$A$1:$I$65536,9,FALSE)&VLOOKUP(A60,[1]データシート!$A$1:$G$65536,4,FALSE))) -> 住崎２丁目 | C60: =IF(B60="","",SUM(D60:E60)) -> 312 | D60: =IF(ISNA(VLOOKUP(A60,[1]データシート!$A$1:$G$65536,6,FALSE)),"",SUMIF([1]データシート!$A$1:$A$65536,[1]集計表!A60,[1]データシート!$F$1:$F$65536)) -> 157 | E60: =IF(ISNA(VLOOKUP(A60,[1]データシート!$A$1:$G$65536,7,FALSE)),"",SUMIF([1]データシート!$A$1:$A$65536,[1]集計表!A60,[1]データシート!$G$1:$G$65536)) -> 155 | F60: =IF(ISNA(VLOOKUP(A60,[1]データシート!$A$1:$G$65536,5,FALSE)),"",SUMIF([1]データシート!$A$1:$A$65536,[1]集計表!A60,[1]データシート!$E$1:$E$65536)) -> 137 | G60: 寺 津 地 区 | M60: 025000 | N60: =IF(ISNA(VLOOKUP(M60,[1]データシート!$A$1:$I$65536,9,FALSE)),"",IF(RIGHT(M60,3) = "000",VLOOKUP(M60,[1]データシート!$A$1:$I$65536,9,FALSE),VLOOKUP(M60,[1]データシート!$A$1:$I$65536,9,FALSE)&VLOOKUP(M60,[1]データシート!$A$1:$G$65536,4,FALSE))) -> 上永良町 | O60: =IF(N60="","",SUM(P60:Q60)) -> 509 | P60: =IF(ISNA(VLOOKUP(M60,[1]データシート!$A$1:$G$65536,6,FALSE)),"",SUMIF([1]データシート!$A$1:$A$65536,[1]集計表!M60,[1]データシート!$F$1:$F$65536)) -> 249 | Q60: =IF(ISNA(VLOOKUP(M60,[1]データシート!$A$1:$G$65536,7,FALSE)),"",SUMIF([1]データシート!$A$1:$A$65536,[1]集計表!M60,[1]データシート!$G$1:$G$65536)) -> 260 | R60: =IF(ISNA(VLOOKUP(M60,[1]データシート!$A$1:$G$65536,5,FALSE)),"",SUMIF([1]データシート!$A$1:$A$65536,[1]集計表!M60,[1]データシート!$E$1:$E$65536)) -> 186 | T60: =IF(ISNA(VLOOKUP(S60,[1]データシート!$A$1:$I$65536,9,FALSE)),"",IF(RIGHT(S60,3) = "000",VLOOKUP(S60,[1]データシート!$A$1:$I$65536,9,FALSE),VLOOKUP(S60,[1]データシート!$A$1:$I$65536,9,FALSE)&VLOOKUP(S60,[1]データシート!$A$1:$G$65536,4,FALSE))) | U60: =IF(T60="","",SUM(V60:W60)) | V60: =IF(ISNA(VLOOKUP(S60,[1]データシート!$A$1:$G$65536,6,FALSE)),"",SUMIF([1]データシート!$A$1:$A$65536,[1]集計表!S60,[1]データシート!$F$1:$F$65536)) | W60: =IF(ISNA(VLOOKUP(S60,[1]データシート!$A$1:$G$65536,7,FALSE)),"",SUMIF([1]データシート!$A$1:$A$65536,[1]集計表!S60,[1]データシート!$G$1:$G$65536)) | X60: =IF(ISNA(VLOOKUP(S60,[1]データシート!$A$1:$G$65536,5,FALSE)),"",SUMIF([1]データシート!$A$1:$A$65536,[1]集計表!S60,[1]データシート!$E$1:$E$65536))
A61: 145003 | B61: =IF(ISNA(VLOOKUP(A61,[1]データシート!$A$1:$I$65536,9,FALSE)),"",IF(RIGHT(A61,3) = "000",VLOOKUP(A61,[1]データシート!$A$1:$I$65536,9,FALSE),VLOOKUP(A61,[1]データシート!$A$1:$I$65536,9,FALSE)&VLOOKUP(A61,[1]データシート!$A$1:$G$65536,4,FALSE))) -> 住崎３丁目 | C61: =IF(B61="","",SUM(D61:E61)) -> 401 | D61: =IF(ISNA(VLOOKUP(A61,[1]データシート!$A$1:$G$65536,6,FALSE)),"",SUMIF([1]データシート!$A$1:$A$65536,[1]集計表!A61,[1]データシート!$F$1:$F$65536)) -> 214 | E61: =IF(ISNA(VLOOKUP(A61,[1]データシート!$A$1:$G$65536,7,FALSE)),"",SUMIF([1]データシート!$A$1:$A$65536,[1]集計表!A61,[1]データシート!$G$1:$G$65536)) -> 187 | F61: =IF(ISNA(VLOOKUP(A61,[1]データシート!$A$1:$G$65536,5,FALSE)),"",SUMIF([1]データシート!$A$1:$A$65536,[1]集計表!A61,[1]データシート!$E$1:$E$65536)) -> 187 | G61: 093000 | H61: =IF(ISNA(VLOOKUP(G61,[1]データシート!$A$1:$I$65536,9,FALSE)),"",IF(RIGHT(G61,3) = "000",VLOOKUP(G61,[1]データシート!$A$1:$I$65536,9,FALSE),VLOOKUP(G61,[1]データシート!$A$1:$I$65536,9,FALSE)&VLOOKUP(G61,[1]データシート!$A$1:$G$65536,4,FALSE))) -> 徳永町 | I61: =IF(H61="","",SUM(J61:K61)) -> 881 | J61: =IF(ISNA(VLOOKUP(G61,[1]データシート!$A$1:$G$65536,6,FALSE)),"",SUMIF([1]データシート!$A$1:$A$65536,[1]集計表!G61,[1]データシート!$F$1:$F$65536)) -> 451 | K61: =IF(ISNA(VLOOKUP(G61,[1]データシート!$A$1:$G$65536,7,FALSE)),"",SUMIF([1]データシート!$A$1:$A$65536,[1]集計表!G61,[1]データシート!$G$1:$G$65536)) -> 430 | L61: =IF(ISNA(VLOOKUP(G61,[1]データシート!$A$1:$G$65536,5,FALSE)),"",SUMIF([1]データシート!$A$1:$A$65536,[1]集計表!G61,[1]データシート!$E$1:$E$65536)) -> 386 | M61: 021000 | N61: =IF(ISNA(VLOOKUP(M61,[1]データシート!$A$1:$I$65536,9,FALSE)),"",IF(RIGHT(M61,3) = "000",VLOOKUP(M61,[1]データシート!$A$1:$I$65536,9,FALSE),VLOOKUP(M61,[1]データシート!$A$1:$I$65536,9,FALSE)&VLOOKUP(M61,[1]データシート!$A$1:$G$65536,4,FALSE))) -> 貝吹町 | O61: =IF(N61="","",SUM(P61:Q61)) -> 326 | P61: =IF(ISNA(VLOOKUP(M61,[1]データシート!$A$1:$G$65536,6,FALSE)),"",SUMIF([1]データシート!$A$1:$A$65536,[1]集計表!M61,[1]データシート!$F$1:$F$65536)) -> 151 | Q61: =IF(ISNA(VLOOKUP(M61,[1]データシート!$A$1:$G$65536,7,FALSE)),"",SUMIF([1]データシート!$A$1:$A$65536,[1]集計表!M61,[1]データシート!$G$1:$G$65536)) -> 175 | R61: =IF(ISNA(VLOOKUP(M61,[1]データシート!$A$1:$G$65536,5,FALSE)),"",SUMIF([1]データシート!$A$1:$A$65536,[1]集計表!M61,[1]データシート!$E$1:$E$65536)) -> 112 | U61: =IF(T61="","",SUM(V61:W61)) | V61: =IF(ISNA(VLOOKUP(S61,[1]データシート!$A$1:$G$65536,6,FALSE)),"",SUMIF([1]データシート!$A$1:$A$65536,[1]集計表!S61,[1]データシート!$F$1:$F$65536)) | W61: =IF(ISNA(VLOOKUP(S61,[1]データシート!$A$1:$G$65536,7,FALSE)),"",SUMIF([1]データシート!$A$1:$A$65536,[1]集計表!S61,[1]データシート!$G$1:$G$65536)) | X61: =IF(ISNA(VLOOKUP(S61,[1]データシート!$A$1:$G$65536,5,FALSE)),"",SUMIF([1]データシート!$A$1:$A$65536,[1]集計表!S61,[1]データシート!$E$1:$E$65536))
A62: 145004 | B62: =IF(ISNA(VLOOKUP(A62,[1]データシート!$A$1:$I$65536,9,FALSE)),"",IF(RIGHT(A62,3) = "000",VLOOKUP(A62,[1]データシート!$A$1:$I$65536,9,FALSE),VLOOKUP(A62,[1]データシート!$A$1:$I$65536,9,FALSE)&VLOOKUP(A62,[1]データシート!$A$1:$G$65536,4,FALSE))) -> 住崎４丁目 | C62: =IF(B62="","",SUM(D62:E62)) -> 322 | D62: =IF(ISNA(VLOOKUP(A62,[1]データシート!$A$1:$G$65536,6,FALSE)),"",SUMIF([1]データシート!$A$1:$A$65536,[1]集計表!A62,[1]データシート!$F$1:$F$65536)) -> 161 | E62: =IF(ISNA(VLOOKUP(A62,[1]データシート!$A$1:$G$65536,7,FALSE)),"",SUMIF([1]データシート!$A$1:$A$65536,[1]集計表!A62,[1]データシート!$G$1:$G$65536)) -> 161 | F62: =IF(ISNA(VLOOKUP(A62,[1]データシート!$A$1:$G$65536,5,FALSE)),"",SUMIF([1]データシート!$A$1:$A$65536,[1]集計表!A62,[1]データシート!$E$1:$E$65536)) -> 129 | G62: 086000 | H62: =IF(ISNA(VLOOKUP(G62,[1]データシート!$A$1:$I$65536,9,FALSE)),"",IF(RIGHT(G62,3) = "000",VLOOKUP(G62,[1]データシート!$A$1:$I$65536,9,FALSE),VLOOKUP(G62,[1]データシート!$A$1:$I$65536,9,FALSE)&VLOOKUP(G62,[1]データシート!$A$1:$G$65536,4,FALSE))) -> 寺津町 | I62: =IF(H62="","",SUM(J62:K62)) -> 3808 | J62: =IF(ISNA(VLOOKUP(G62,[1]データシート!$A$1:$G$65536,6,FALSE)),"",SUMIF([1]データシート!$A$1:$A$65536,[1]集計表!G62,[1]データシート!$F$1:$F$65536)) -> 1916 | K62: =IF(ISNA(VLOOKUP(G62,[1]データシート!$A$1:$G$65536,7,FALSE)),"",SUMIF([1]データシート!$A$1:$A$65536,[1]集計表!G62,[1]データシート!$G$1:$G$65536)) -> 1892 | L62: =IF(ISNA(VLOOKUP(G62,[1]データシート!$A$1:$G$65536,5,FALSE)),"",SUMIF([1]データシート!$A$1:$A$65536,[1]集計表!G62,[1]データシート!$E$1:$E$65536)) -> 1604 | M62: 055000 | N62: =IF(ISNA(VLOOKUP(M62,[1]データシート!$A$1:$I$65536,9,FALSE)),"",IF(RIGHT(M62,3) = "000",VLOOKUP(M62,[1]データシート!$A$1:$I$65536,9,FALSE),VLOOKUP(M62,[1]データシート!$A$1:$I$65536,9,FALSE)&VLOOKUP(M62,[1]データシート!$A$1:$G$65536,4,FALSE))) -> 下羽角町 | O62: =IF(N62="","",SUM(P62:Q62)) -> 755 | P62: =IF(ISNA(VLOOKUP(M62,[1]データシート!$A$1:$G$65536,6,FALSE)),"",SUMIF([1]データシート!$A$1:$A$65536,[1]集計表!M62,[1]データシート!$F$1:$F$65536)) -> 493 | Q62: =IF(ISNA(VLOOKUP(M62,[1]データシート!$A$1:$G$65536,7,FALSE)),"",SUMIF([1]データシート!$A$1:$A$65536,[1]集計表!M62,[1]データシート!$G$1:$G$65536)) -> 262 | R62: =IF(ISNA(VLOOKUP(M62,[1]データシート!$A$1:$G$65536,5,FALSE)),"",SUMIF([1]データシート!$A$1:$A$65536,[1]集計表!M62,[1]データシート!$E$1:$E$65536)) -> 547 | S62: 吉良地区 計 | U62: =SUM(U34:U61) -> 21510 | V62: =SUM(V34:V61) -> 10743 | W62: =SUM(W34:W61) -> 10767 | X62: =SUM(X34:X61) -> 8606
A63: 145005 | B63: =IF(ISNA(VLOOKUP(A63,[1]データシート!$A$1:$I$65536,9,FALSE)),"",IF(RIGHT(A63,3) = "000",VLOOKUP(A63,[1]データシート!$A$1:$I$65536,9,FALSE),VLOOKUP(A63,[1]データシート!$A$1:$I$65536,9,FALSE)&VLOOKUP(A63,[1]データシート!$A$1:$G$65536,4,FALSE))) -> 住崎５丁目 | C63: =IF(B63="","",SUM(D63:E63)) -> 364 | D63: =IF(ISNA(VLOOKUP(A63,[1]データシート!$A$1:$G$65536,6,FALSE)),"",SUMIF([1]データシート!$A$1:$A$65536,[1]集計表!A63,[1]データシート!$F$1:$F$65536)) -> 171 | E63: =IF(ISNA(VLOOKUP(A63,[1]データシート!$A$1:$G$65536,7,FALSE)),"",SUMIF([1]データシート!$A$1:$A$65536,[1]集計表!A63,[1]データシート!$G$1:$G$65536)) -> 193 | F63: =IF(ISNA(VLOOKUP(A63,[1]データシート!$A$1:$G$65536,5,FALSE)),"",SUMIF([1]データシート!$A$1:$A$65536,[1]集計表!A63,[1]データシート!$E$1:$E$65536)) -> 174 | G63: 147001 | H63: =IF(ISNA(VLOOKUP(G63,[1]データシート!$A$1:$I$65536,9,FALSE)),"",IF(RIGHT(G63,3) = "000",VLOOKUP(G63,[1]データシート!$A$1:$I$65536,9,FALSE),VLOOKUP(G63,[1]データシート!$A$1:$I$65536,9,FALSE)&VLOOKUP(G63,[1]データシート!$A$1:$G$65536,4,FALSE))) -> 寺津１丁目 | I63: =IF(H63="","",SUM(J63:K63)) -> 284 | J63: =IF(ISNA(VLOOKUP(G63,[1]データシート!$A$1:$G$65536,6,FALSE)),"",SUMIF([1]データシート!$A$1:$A$65536,[1]集計表!G63,[1]データシート!$F$1:$F$65536)) -> 158 | K63: =IF(ISNA(VLOOKUP(G63,[1]データシート!$A$1:$G$65536,7,FALSE)),"",SUMIF([1]データシート!$A$1:$A$65536,[1]集計表!G63,[1]データシート!$G$1:$G$65536)) -> 126 | L63: =IF(ISNA(VLOOKUP(G63,[1]データシート!$A$1:$G$65536,5,FALSE)),"",SUMIF([1]データシート!$A$1:$A$65536,[1]集計表!G63,[1]データシート!$E$1:$E$65536)) -> 116 | M63: 026000 | N63: =IF(ISNA(VLOOKUP(M63,[1]データシート!$A$1:$I$65536,9,FALSE)),"",IF(RIGHT(M63,3) = "000",VLOOKUP(M63,[1]データシート!$A$1:$I$65536,9,FALSE),VLOOKUP(M63,[1]データシート!$A$1:$I$65536,9,FALSE)&VLOOKUP(M63,[1]データシート!$A$1:$G$65536,4,FALSE))) -> 上羽角町 | O63: =IF(N63="","",SUM(P63:Q63)) -> 243 | P63: =IF(ISNA(VLOOKUP(M63,[1]データシート!$A$1:$G$65536,6,FALSE)),"",SUMIF([1]データシート!$A$1:$A$65536,[1]集計表!M63,[1]データシート!$F$1:$F$65536)) -> 123 | Q63: =IF(ISNA(VLOOKUP(M63,[1]データシート!$A$1:$G$65536,7,FALSE)),"",SUMIF([1]データシート!$A$1:$A$65536,[1]集計表!M63,[1]データシート!$G$1:$G$65536)) -> 120 | R63: =IF(ISNA(VLOOKUP(M63,[1]データシート!$A$1:$G$65536,5,FALSE)),"",SUMIF([1]データシート!$A$1:$A$65536,[1]集計表!M63,[1]データシート!$E$1:$E$65536)) -> 88 | S63: 幡 豆 地 区
A64: 145006 | B64: =IF(ISNA(VLOOKUP(A64,[1]データシート!$A$1:$I$65536,9,FALSE)),"",IF(RIGHT(A64,3) = "000",VLOOKUP(A64,[1]データシート!$A$1:$I$65536,9,FALSE),VLOOKUP(A64,[1]データシート!$A$1:$I$65536,9,FALSE)&VLOOKUP(A64,[1]データシート!$A$1:$G$65536,4,FALSE))) -> 住崎６丁目 | C64: =IF(B64="","",SUM(D64:E64)) -> 310 | D64: =IF(ISNA(VLOOKUP(A64,[1]データシート!$A$1:$G$65536,6,FALSE)),"",SUMIF([1]データシート!$A$1:$A$65536,[1]集計表!A64,[1]データシート!$F$1:$F$65536)) -> 158 | E64: =IF(ISNA(VLOOKUP(A64,[1]データシート!$A$1:$G$65536,7,FALSE)),"",SUMIF([1]データシート!$A$1:$A$65536,[1]集計表!A64,[1]データシート!$G$1:$G$65536)) -> 152 | F64: =IF(ISNA(VLOOKUP(A64,[1]データシート!$A$1:$G$65536,5,FALSE)),"",SUMIF([1]データシート!$A$1:$A$65536,[1]集計表!A64,[1]データシート!$E$1:$E$65536)) -> 120 | G64: 147002 | H64: =IF(ISNA(VLOOKUP(G64,[1]データシート!$A$1:$I$65536,9,FALSE)),"",IF(RIGHT(G64,3) = "000",VLOOKUP(G64,[1]データシート!$A$1:$I$65536,9,FALSE),VLOOKUP(G64,[1]データシート!$A$1:$I$65536,9,FALSE)&VLOOKUP(G64,[1]データシート!$A$1:$G$65536,4,FALSE))) -> 寺津２丁目 | I64: =IF(H64="","",SUM(J64:K64)) -> 228 | J64: =IF(ISNA(VLOOKUP(G64,[1]データシート!$A$1:$G$65536,6,FALSE)),"",SUMIF([1]データシート!$A$1:$A$65536,[1]集計表!G64,[1]データシート!$F$1:$F$65536)) -> 115 | K64: =IF(ISNA(VLOOKUP(G64,[1]データシート!$A$1:$G$65536,7,FALSE)),"",SUMIF([1]データシート!$A$1:$A$65536,[1]集計表!G64,[1]データシート!$G$1:$G$65536)) -> 113 | L64: =IF(ISNA(VLOOKUP(G64,[1]データシート!$A$1:$G$65536,5,FALSE)),"",SUMIF([1]データシート!$A$1:$A$65536,[1]集計表!G64,[1]データシート!$E$1:$E$65536)) -> 95 | M64: 082002 | N64: =IF(ISNA(VLOOKUP(M64,[1]データシート!$A$1:$I$65536,9,FALSE)),"",IF(RIGHT(M64,3) = "000",VLOOKUP(M64,[1]データシート!$A$1:$I$65536,9,FALSE),VLOOKUP(M64,[1]データシート!$A$1:$I$65536,9,FALSE)&VLOOKUP(M64,[1]データシート!$A$1:$G$65536,4,FALSE))) -> つくしが丘２丁目 | O64: =IF(N64="","",SUM(P64:Q64)) -> 208 | P64: =IF(ISNA(VLOOKUP(M64,[1]データシート!$A$1:$G$65536,6,FALSE)),"",SUMIF([1]データシート!$A$1:$A$65536,[1]集計表!M64,[1]データシート!$F$1:$F$65536)) -> 114 | Q64: =IF(ISNA(VLOOKUP(M64,[1]データシート!$A$1:$G$65536,7,FALSE)),"",SUMIF([1]データシート!$A$1:$A$65536,[1]集計表!M64,[1]データシート!$G$1:$G$65536)) -> 94 | R64: =IF(ISNA(VLOOKUP(M64,[1]データシート!$A$1:$G$65536,5,FALSE)),"",SUMIF([1]データシート!$A$1:$A$65536,[1]集計表!M64,[1]データシート!$E$1:$E$65536)) -> 91 | S64: 195000 | T64: =IF(ISNA(VLOOKUP(S64,[1]データシート!$A$1:$I$65536,9,FALSE)),"",IF(RIGHT(S64,3) = "000",VLOOKUP(S64,[1]データシート!$A$1:$I$65536,9,FALSE),VLOOKUP(S64,[1]データシート!$A$1:$I$65536,9,FALSE)&VLOOKUP(S64,[1]データシート!$A$1:$G$65536,4,FALSE))) -> 寺部町 | U64: =IF(T64="","",SUM(V64:W64)) -> 951 | V64: =IF(ISNA(VLOOKUP(S64,[1]データシート!$A$1:$G$65536,6,FALSE)),"",SUMIF([1]データシート!$A$1:$A$65536,[1]集計表!S64,[1]データシート!$F$1:$F$65536)) -> 482 | W64: =IF(ISNA(VLOOKUP(S64,[1]データシート!$A$1:$G$65536,7,FALSE)),"",SUMIF([1]データシート!$A$1:$A$65536,[1]集計表!S64,[1]データシート!$G$1:$G$65536)) -> 469 | X64: =IF(ISNA(VLOOKUP(S64,[1]データシート!$A$1:$G$65536,5,FALSE)),"",SUMIF([1]データシート!$A$1:$A$65536,[1]集計表!S64,[1]データシート!$E$1:$E$65536)) -> 364
A65: 129000 | B65: =IF(ISNA(VLOOKUP(A65,[1]データシート!$A$1:$I$65536,9,FALSE)),"",IF(RIGHT(A65,3) = "000",VLOOKUP(A65,[1]データシート!$A$1:$I$65536,9,FALSE),VLOOKUP(A65,[1]データシート!$A$1:$I$65536,9,FALSE)&VLOOKUP(A65,[1]データシート!$A$1:$G$65536,4,FALSE))) -> 矢曽根町 | C65: =IF(B65="","",SUM(D65:E65)) -> 766 | D65: =IF(ISNA(VLOOKUP(A65,[1]データシート!$A$1:$G$65536,6,FALSE)),"",SUMIF([1]データシート!$A$1:$A$65536,[1]集計表!A65,[1]データシート!$F$1:$F$65536)) -> 357 | E65: =IF(ISNA(VLOOKUP(A65,[1]データシート!$A$1:$G$65536,7,FALSE)),"",SUMIF([1]データシート!$A$1:$A$65536,[1]集計表!A65,[1]データシート!$G$1:$G$65536)) -> 409 | F65: =IF(ISNA(VLOOKUP(A65,[1]データシート!$A$1:$G$65536,5,FALSE)),"",SUMIF([1]データシート!$A$1:$A$65536,[1]集計表!A65,[1]データシート!$E$1:$E$65536)) -> 330 | G65: 147003 | H65: =IF(ISNA(VLOOKUP(G65,[1]データシート!$A$1:$I$65536,9,FALSE)),"",IF(RIGHT(G65,3) = "000",VLOOKUP(G65,[1]データシート!$A$1:$I$65536,9,FALSE),VLOOKUP(G65,[1]データシート!$A$1:$I$65536,9,FALSE)&VLOOKUP(G65,[1]データシート!$A$1:$G$65536,4,FALSE))) -> 寺津３丁目 | I65: =IF(H65="","",SUM(J65:K65)) -> 164 | J65: =IF(ISNA(VLOOKUP(G65,[1]データシート!$A$1:$G$65536,6,FALSE)),"",SUMIF([1]データシート!$A$1:$A$65536,[1]集計表!G65,[1]データシート!$F$1:$F$65536)) -> 91 | K65: =IF(ISNA(VLOOKUP(G65,[1]データシート!$A$1:$G$65536,7,FALSE)),"",SUMIF([1]データシート!$A$1:$A$65536,[1]集計表!G65,[1]データシート!$G$1:$G$65536)) -> 73 | L65: =IF(ISNA(VLOOKUP(G65,[1]データシート!$A$1:$G$65536,5,FALSE)),"",SUMIF([1]データシート!$A$1:$A$65536,[1]集計表!G65,[1]データシート!$E$1:$E$65536)) -> 69 | M65: 082003 | N65: =IF(ISNA(VLOOKUP(M65,[1]データシート!$A$1:$I$65536,9,FALSE)),"",IF(RIGHT(M65,3) = "000",VLOOKUP(M65,[1]データシート!$A$1:$I$65536,9,FALSE),VLOOKUP(M65,[1]データシート!$A$1:$I$65536,9,FALSE)&VLOOKUP(M65,[1]データシート!$A$1:$G$65536,4,FALSE))) -> つくしが丘３丁目 | O65: =IF(N65="","",SUM(P65:Q65)) -> 109 | P65: =IF(ISNA(VLOOKUP(M65,[1]データシート!$A$1:$G$65536,6,FALSE)),"",SUMIF([1]データシート!$A$1:$A$65536,[1]集計表!M65,[1]データシート!$F$1:$F$65536)) -> 109 | Q65: =IF(ISNA(VLOOKUP(M65,[1]データシート!$A$1:$G$65536,7,FALSE)),"",SUMIF([1]データシート!$A$1:$A$65536,[1]集計表!M65,[1]データシート!$G$1:$G$65536)) -> 0 | R65: =IF(ISNA(VLOOKUP(M65,[1]データシート!$A$1:$G$65536,5,FALSE)),"",SUMIF([1]データシート!$A$1:$A$65536,[1]集計表!M65,[1]データシート!$E$1:$E$65536)) -> 109 | S65: 196000 | T65: =IF(ISNA(VLOOKUP(S65,[1]データシート!$A$1:$I$65536,9,FALSE)),"",IF(RIGHT(S65,3) = "000",VLOOKUP(S65,[1]データシート!$A$1:$I$65536,9,FALSE),VLOOKUP(S65,[1]データシート!$A$1:$I$65536,9,FALSE)&VLOOKUP(S65,[1]データシート!$A$1:$G$65536,4,FALSE))) -> 鳥羽町 | U65: =IF(T65="","",SUM(V65:W65)) -> 1788 | V65: =IF(ISNA(VLOOKUP(S65,[1]データシート!$A$1:$G$65536,6,FALSE)),"",SUMIF([1]データシート!$A$1:$A$65536,[1]集計表!S65,[1]データシート!$F$1:$F$65536)) -> 858 | W65: =IF(ISNA(VLOOKUP(S65,[1]データシート!$A$1:$G$65536,7,FALSE)),"",SUMIF([1]データシート!$A$1:$A$65536,[1]集計表!S65,[1]データシート!$G$1:$G$65536)) -> 930 | X65: =IF(ISNA(VLOOKUP(S65,[1]データシート!$A$1:$G$65536,5,FALSE)),"",SUMIF([1]データシート!$A$1:$A$65536,[1]集計表!S65,[1]データシート!$E$1:$E$65536)) -> 800
A66: 007000 | B66: =IF(ISNA(VLOOKUP(A66,[1]データシート!$A$1:$I$65536,9,FALSE)),"",IF(RIGHT(A66,3) = "000",VLOOKUP(A66,[1]データシート!$A$1:$I$65536,9,FALSE),VLOOKUP(A66,[1]データシート!$A$1:$I$65536,9,FALSE)&VLOOKUP(A66,[1]データシート!$A$1:$G$65536,4,FALSE))) -> 今川町 | C66: =IF(B66="","",SUM(D66:E66)) -> 3153 | D66: =IF(ISNA(VLOOKUP(A66,[1]データシート!$A$1:$G$65536,6,FALSE)),"",SUMIF([1]データシート!$A$1:$A$65536,[1]集計表!A66,[1]データシート!$F$1:$F$65536)) -> 1592 | E66: =IF(ISNA(VLOOKUP(A66,[1]データシート!$A$1:$G$65536,7,FALSE)),"",SUMIF([1]データシート!$A$1:$A$65536,[1]集計表!A66,[1]データシート!$G$1:$G$65536)) -> 1561 | F66: =IF(ISNA(VLOOKUP(A66,[1]データシート!$A$1:$G$65536,5,FALSE)),"",SUMIF([1]データシート!$A$1:$A$65536,[1]集計表!A66,[1]データシート!$E$1:$E$65536)) -> 1351 | G66: 147004 | H66: =IF(ISNA(VLOOKUP(G66,[1]データシート!$A$1:$I$65536,9,FALSE)),"",IF(RIGHT(G66,3) = "000",VLOOKUP(G66,[1]データシート!$A$1:$I$65536,9,FALSE),VLOOKUP(G66,[1]データシート!$A$1:$I$65536,9,FALSE)&VLOOKUP(G66,[1]データシート!$A$1:$G$65536,4,FALSE))) -> 寺津４丁目 | I66: =IF(H66="","",SUM(J66:K66)) -> 62 | J66: =IF(ISNA(VLOOKUP(G66,[1]データシート!$A$1:$G$65536,6,FALSE)),"",SUMIF([1]データシート!$A$1:$A$65536,[1]集計表!G66,[1]データシート!$F$1:$F$65536)) -> 31 | K66: =IF(ISNA(VLOOKUP(G66,[1]データシート!$A$1:$G$65536,7,FALSE)),"",SUMIF([1]データシート!$A$1:$A$65536,[1]集計表!G66,[1]データシート!$G$1:$G$65536)) -> 31 | L66: =IF(ISNA(VLOOKUP(G66,[1]データシート!$A$1:$G$65536,5,FALSE)),"",SUMIF([1]データシート!$A$1:$A$65536,[1]集計表!G66,[1]データシート!$E$1:$E$65536)) -> 21 | M66: 082004 | N66: =IF(ISNA(VLOOKUP(M66,[1]データシート!$A$1:$I$65536,9,FALSE)),"",IF(RIGHT(M66,3) = "000",VLOOKUP(M66,[1]データシート!$A$1:$I$65536,9,FALSE),VLOOKUP(M66,[1]データシート!$A$1:$I$65536,9,FALSE)&VLOOKUP(M66,[1]データシート!$A$1:$G$65536,4,FALSE))) -> つくしが丘４丁目 | O66: =IF(N66="","",SUM(P66:Q66)) -> 387 | P66: =IF(ISNA(VLOOKUP(M66,[1]データシート!$A$1:$G$65536,6,FALSE)),"",SUMIF([1]データシート!$A$1:$A$65536,[1]集計表!M66,[1]データシート!$F$1:$F$65536)) -> 191 | Q66: =IF(ISNA(VLOOKUP(M66,[1]データシート!$A$1:$G$65536,7,FALSE)),"",SUMIF([1]データシート!$A$1:$A$65536,[1]集計表!M66,[1]データシート!$G$1:$G$65536)) -> 196 | R66: =IF(ISNA(VLOOKUP(M66,[1]データシート!$A$1:$G$65536,5,FALSE)),"",SUMIF([1]データシート!$A$1:$A$65536,[1]集計表!M66,[1]データシート!$E$1:$E$65536)) -> 175 | S66: 197000 | T66: =IF(ISNA(VLOOKUP(S66,[1]データシート!$A$1:$I$65536,9,FALSE)),"",IF(RIGHT(S66,3) = "000",VLOOKUP(S66,[1]データシート!$A$1:$I$65536,9,FALSE),VLOOKUP(S66,[1]データシート!$A$1:$I$65536,9,FALSE)&VLOOKUP(S66,[1]データシート!$A$1:$G$65536,4,FALSE))) -> 西幡豆町 | U66: =IF(T66="","",SUM(V66:W66)) -> 3769 | V66: =IF(ISNA(VLOOKUP(S66,[1]データシート!$A$1:$G$65536,6,FALSE)),"",SUMIF([1]データシート!$A$1:$A$65536,[1]集計表!S66,[1]データシート!$F$1:$F$65536)) -> 1828 | W66: =IF(ISNA(VLOOKUP(S66,[1]データシート!$A$1:$G$65536,7,FALSE)),"",SUMIF([1]データシート!$A$1:$A$65536,[1]集計表!S66,[1]データシート!$G$1:$G$65536)) -> 1941 | X66: =IF(ISNA(VLOOKUP(S66,[1]データシート!$A$1:$G$65536,5,FALSE)),"",SUMIF([1]データシート!$A$1:$A$65536,[1]集計表!S66,[1]データシート!$E$1:$E$65536)) -> 1529
A67: 081000 | B67: =IF(ISNA(VLOOKUP(A67,[1]データシート!$A$1:$I$65536,9,FALSE)),"",IF(RIGHT(A67,3) = "000",VLOOKUP(A67,[1]データシート!$A$1:$I$65536,9,FALSE),VLOOKUP(A67,[1]データシート!$A$1:$I$65536,9,FALSE)&VLOOKUP(A67,[1]データシート!$A$1:$G$65536,4,FALSE))) -> 丁田町 | C67: =IF(B67="","",SUM(D67:E67)) -> 1798 | D67: =IF(ISNA(VLOOKUP(A67,[1]データシート!$A$1:$G$65536,6,FALSE)),"",SUMIF([1]データシート!$A$1:$A$65536,[1]集計表!A67,[1]データシート!$F$1:$F$65536)) -> 937 | E67: =IF(ISNA(VLOOKUP(A67,[1]データシート!$A$1:$G$65536,7,FALSE)),"",SUMIF([1]データシート!$A$1:$A$65536,[1]集計表!A67,[1]データシート!$G$1:$G$65536)) -> 861 | F67: =IF(ISNA(VLOOKUP(A67,[1]データシート!$A$1:$G$65536,5,FALSE)),"",SUMIF([1]データシート!$A$1:$A$65536,[1]集計表!A67,[1]データシート!$E$1:$E$65536)) -> 862 | G67: 147005 | H67: =IF(ISNA(VLOOKUP(G67,[1]データシート!$A$1:$I$65536,9,FALSE)),"",IF(RIGHT(G67,3) = "000",VLOOKUP(G67,[1]データシート!$A$1:$I$65536,9,FALSE),VLOOKUP(G67,[1]データシート!$A$1:$I$65536,9,FALSE)&VLOOKUP(G67,[1]データシート!$A$1:$G$65536,4,FALSE))) -> 寺津５丁目 | I67: =IF(H67="","",SUM(J67:K67)) -> 76 | J67: =IF(ISNA(VLOOKUP(G67,[1]データシート!$A$1:$G$65536,6,FALSE)),"",SUMIF([1]データシート!$A$1:$A$65536,[1]集計表!G67,[1]データシート!$F$1:$F$65536)) -> 40 | K67: =IF(ISNA(VLOOKUP(G67,[1]データシート!$A$1:$G$65536,7,FALSE)),"",SUMIF([1]データシート!$A$1:$A$65536,[1]集計表!G67,[1]データシート!$G$1:$G$65536)) -> 36 | L67: =IF(ISNA(VLOOKUP(G67,[1]データシート!$A$1:$G$65536,5,FALSE)),"",SUMIF([1]データシート!$A$1:$A$65536,[1]集計表!G67,[1]データシート!$E$1:$E$65536)) -> 25 | O67: =IF(N67="","",SUM(P67:Q67)) | S67: 198000 | T67: =IF(ISNA(VLOOKUP(S67,[1]データシート!$A$1:$I$65536,9,FALSE)),"",IF(RIGHT(S67,3) = "000",VLOOKUP(S67,[1]データシート!$A$1:$I$65536,9,FALSE),VLOOKUP(S67,[1]データシート!$A$1:$I$65536,9,FALSE)&VLOOKUP(S67,[1]データシート!$A$1:$G$65536,4,FALSE))) -> 東幡豆町 | U67: =IF(T67="","",SUM(V67:W67)) -> 3997 | V67: =IF(ISNA(VLOOKUP(S67,[1]データシート!$A$1:$G$65536,6,FALSE)),"",SUMIF([1]データシート!$A$1:$A$65536,[1]集計表!S67,[1]データシート!$F$1:$F$65536)) -> 1990 | W67: =IF(ISNA(VLOOKUP(S67,[1]データシート!$A$1:$G$65536,7,FALSE)),"",SUMIF([1]データシート!$A$1:$A$65536,[1]集計表!S67,[1]データシート!$G$1:$G$65536)) -> 2007 | X67: =IF(ISNA(VLOOKUP(S67,[1]データシート!$A$1:$G$65536,5,FALSE)),"",SUMIF([1]データシート!$A$1:$A$65536,[1]集計表!S67,[1]データシート!$E$1:$E$65536)) -> 1568
A68: 137000 | B68: =IF(ISNA(VLOOKUP(A68,[1]データシート!$A$1:$I$65536,9,FALSE)),"",IF(RIGHT(A68,3) = "000",VLOOKUP(A68,[1]データシート!$A$1:$I$65536,9,FALSE),VLOOKUP(A68,[1]データシート!$A$1:$I$65536,9,FALSE)&VLOOKUP(A68,[1]データシート!$A$1:$G$65536,4,FALSE))) -> 寄近町 | C68: =IF(B68="","",SUM(D68:E68)) -> 263 | D68: =IF(ISNA(VLOOKUP(A68,[1]データシート!$A$1:$G$65536,6,FALSE)),"",SUMIF([1]データシート!$A$1:$A$65536,[1]集計表!A68,[1]データシート!$F$1:$F$65536)) -> 132 | E68: =IF(ISNA(VLOOKUP(A68,[1]データシート!$A$1:$G$65536,7,FALSE)),"",SUMIF([1]データシート!$A$1:$A$65536,[1]集計表!A68,[1]データシート!$G$1:$G$65536)) -> 131 | F68: =IF(ISNA(VLOOKUP(A68,[1]データシート!$A$1:$G$65536,5,FALSE)),"",SUMIF([1]データシート!$A$1:$A$65536,[1]集計表!A68,[1]データシート!$E$1:$E$65536)) -> 88 | G68: 147006 | H68: =IF(ISNA(VLOOKUP(G68,[1]データシート!$A$1:$I$65536,9,FALSE)),"",IF(RIGHT(G68,3) = "000",VLOOKUP(G68,[1]データシート!$A$1:$I$65536,9,FALSE),VLOOKUP(G68,[1]データシート!$A$1:$I$65536,9,FALSE)&VLOOKUP(G68,[1]データシート!$A$1:$G$65536,4,FALSE))) -> 寺津６丁目 | I68: =IF(H68="","",SUM(J68:K68)) -> 111 | J68: =IF(ISNA(VLOOKUP(G68,[1]データシート!$A$1:$G$65536,6,FALSE)),"",SUMIF([1]データシート!$A$1:$A$65536,[1]集計表!G68,[1]データシート!$F$1:$F$65536)) -> 55 | K68: =IF(ISNA(VLOOKUP(G68,[1]データシート!$A$1:$G$65536,7,FALSE)),"",SUMIF([1]データシート!$A$1:$A$65536,[1]集計表!G68,[1]データシート!$G$1:$G$65536)) -> 56 | L68: =IF(ISNA(VLOOKUP(G68,[1]データシート!$A$1:$G$65536,5,FALSE)),"",SUMIF([1]データシート!$A$1:$A$65536,[1]集計表!G68,[1]データシート!$E$1:$E$65536)) -> 41 | O68: =IF(N68="","",SUM(P68:Q68)) | T68: =IF(ISNA(VLOOKUP(S68,[1]データシート!$A$1:$I$65536,9,FALSE)),"",IF(RIGHT(S68,3) = "000",VLOOKUP(S68,[1]データシート!$A$1:$I$65536,9,FALSE),VLOOKUP(S68,[1]データシート!$A$1:$I$65536,9,FALSE)&VLOOKUP(S68,[1]データシート!$A$1:$G$65536,4,FALSE))) | U68: =IF(T68="","",SUM(V68:W68)) | V68: =IF(ISNA(VLOOKUP(S68,[1]データシート!$A$1:$G$65536,6,FALSE)),"",SUMIF([1]データシート!$A$1:$A$65536,[1]集計表!S68,[1]データシート!$F$1:$F$65536)) | W68: =IF(ISNA(VLOOKUP(S68,[1]データシート!$A$1:$G$65536,7,FALSE)),"",SUMIF([1]データシート!$A$1:$A$65536,[1]集計表!S68,[1]データシート!$G$1:$G$65536)) | X68: =IF(ISNA(VLOOKUP(S68,[1]データシート!$A$1:$G$65536,5,FALSE)),"",SUMIF([1]データシート!$A$1:$A$65536,[1]集計表!S68,[1]データシート!$E$1:$E$65536))
A69: 092000 | B69: =IF(ISNA(VLOOKUP(A69,[1]データシート!$A$1:$I$65536,9,FALSE)),"",IF(RIGHT(A69,3) = "000",VLOOKUP(A69,[1]データシート!$A$1:$I$65536,9,FALSE),VLOOKUP(A69,[1]データシート!$A$1:$I$65536,9,FALSE)&VLOOKUP(A69,[1]データシート!$A$1:$G$65536,4,FALSE))) -> 徳次町 | C69: =IF(B69="","",SUM(D69:E69)) -> 2404 | D69: =IF(ISNA(VLOOKUP(A69,[1]データシート!$A$1:$G$65536,6,FALSE)),"",SUMIF([1]データシート!$A$1:$A$65536,[1]集計表!A69,[1]データシート!$F$1:$F$65536)) -> 1292 | E69: =IF(ISNA(VLOOKUP(A69,[1]データシート!$A$1:$G$65536,7,FALSE)),"",SUMIF([1]データシート!$A$1:$A$65536,[1]集計表!A69,[1]データシート!$G$1:$G$65536)) -> 1112 | F69: =IF(ISNA(VLOOKUP(A69,[1]データシート!$A$1:$G$65536,5,FALSE)),"",SUMIF([1]データシート!$A$1:$A$65536,[1]集計表!A69,[1]データシート!$E$1:$E$65536)) -> 1197 | G69: 041000 | H69: =IF(ISNA(VLOOKUP(G69,[1]データシート!$A$1:$I$65536,9,FALSE)),"",IF(RIGHT(G69,3) = "000",VLOOKUP(G69,[1]データシート!$A$1:$I$65536,9,FALSE),VLOOKUP(G69,[1]データシート!$A$1:$I$65536,9,FALSE)&VLOOKUP(G69,[1]データシート!$A$1:$G$65536,4,FALSE))) -> 巨海町 | I69: =IF(H69="","",SUM(J69:K69)) -> 1820 | J69: =IF(ISNA(VLOOKUP(G69,[1]データシート!$A$1:$G$65536,6,FALSE)),"",SUMIF([1]データシート!$A$1:$A$65536,[1]集計表!G69,[1]データシート!$F$1:$F$65536)) -> 934 | K69: =IF(ISNA(VLOOKUP(G69,[1]データシート!$A$1:$G$65536,7,FALSE)),"",SUMIF([1]データシート!$A$1:$A$65536,[1]集計表!G69,[1]データシート!$G$1:$G$65536)) -> 886 | L69: =IF(ISNA(VLOOKUP(G69,[1]データシート!$A$1:$G$65536,5,FALSE)),"",SUMIF([1]データシート!$A$1:$A$65536,[1]集計表!G69,[1]データシート!$E$1:$E$65536)) -> 790 | N69: =IF(ISNA(VLOOKUP(M69,[1]データシート!$A$1:$I$65536,9,FALSE)),"",IF(RIGHT(M69,3) = "000",VLOOKUP(M69,[1]データシート!$A$1:$I$65536,9,FALSE),VLOOKUP(M69,[1]データシート!$A$1:$I$65536,9,FALSE)&VLOOKUP(M69,[1]データシート!$A$1:$G$65536,4,FALSE))) | O69: =IF(N69="","",SUM(P69:Q69)) | P69: =IF(ISNA(VLOOKUP(M69,[1]データシート!$A$1:$G$65536,6,FALSE)),"",SUMIF([1]データシート!$A$1:$A$65536,[1]集計表!M69,[1]データシート!$F$1:$F$65536)) | Q69: =IF(ISNA(VLOOKUP(M69,[1]データシート!$A$1:$G$65536,7,FALSE)),"",SUMIF([1]データシート!$A$1:$A$65536,[1]集計表!M69,[1]データシート!$G$1:$G$65536)) | R69: =IF(ISNA(VLOOKUP(M69,[1]データシート!$A$1:$G$65536,5,FALSE)),"",SUMIF([1]データシート!$A$1:$A$65536,[1]集計表!M69,[1]データシート!$E$1:$E$65536)) | U69: =IF(T69="","",SUM(V69:W69))
A70: 136000 | B70: =IF(ISNA(VLOOKUP(A70,[1]データシート!$A$1:$I$65536,9,FALSE)),"",IF(RIGHT(A70,3) = "000",VLOOKUP(A70,[1]データシート!$A$1:$I$65536,9,FALSE),VLOOKUP(A70,[1]データシート!$A$1:$I$65536,9,FALSE)&VLOOKUP(A70,[1]データシート!$A$1:$G$65536,4,FALSE))) -> 寄住町 | C70: =IF(B70="","",SUM(D70:E70)) -> 1924 | D70: =IF(ISNA(VLOOKUP(A70,[1]データシート!$A$1:$G$65536,6,FALSE)),"",SUMIF([1]データシート!$A$1:$A$65536,[1]集計表!A70,[1]データシート!$F$1:$F$65536)) -> 997 | E70: =IF(ISNA(VLOOKUP(A70,[1]データシート!$A$1:$G$65536,7,FALSE)),"",SUMIF([1]データシート!$A$1:$A$65536,[1]集計表!A70,[1]データシート!$G$1:$G$65536)) -> 927 | F70: =IF(ISNA(VLOOKUP(A70,[1]データシート!$A$1:$G$65536,5,FALSE)),"",SUMIF([1]データシート!$A$1:$A$65536,[1]集計表!A70,[1]データシート!$E$1:$E$65536)) -> 957 | G70: 030000 | H70: =IF(ISNA(VLOOKUP(G70,[1]データシート!$A$1:$I$65536,9,FALSE)),"",IF(RIGHT(G70,3) = "000",VLOOKUP(G70,[1]データシート!$A$1:$I$65536,9,FALSE),VLOOKUP(G70,[1]データシート!$A$1:$I$65536,9,FALSE)&VLOOKUP(G70,[1]データシート!$A$1:$G$65536,4,FALSE))) -> 刈宿町 | I70: =IF(H70="","",SUM(J70:K70)) -> 667 | J70: =IF(ISNA(VLOOKUP(G70,[1]データシート!$A$1:$G$65536,6,FALSE)),"",SUMIF([1]データシート!$A$1:$A$65536,[1]集計表!G70,[1]データシート!$F$1:$F$65536)) -> 335 | K70: =IF(ISNA(VLOOKUP(G70,[1]データシート!$A$1:$G$65536,7,FALSE)),"",SUMIF([1]データシート!$A$1:$A$65536,[1]集計表!G70,[1]データシート!$G$1:$G$65536)) -> 332 | L70: =IF(ISNA(VLOOKUP(G70,[1]データシート!$A$1:$G$65536,5,FALSE)),"",SUMIF([1]データシート!$A$1:$A$65536,[1]集計表!G70,[1]データシート!$E$1:$E$65536)) -> 275 | M70: 三和地区 計 | O70: =SUM(O47:O69) -> 8157 | P70: =SUM(P47:P69) -> 4258 | Q70: =SUM(Q47:Q69) -> 3899 | R70: =SUM(R47:R69) -> 3482 | U70: =IF(T70="","",SUM(V70:W70))
A71: 038000 | B71: =IF(ISNA(VLOOKUP(A71,[1]データシート!$A$1:$I$65536,9,FALSE)),"",IF(RIGHT(A71,3) = "000",VLOOKUP(A71,[1]データシート!$A$1:$I$65536,9,FALSE),VLOOKUP(A71,[1]データシート!$A$1:$I$65536,9,FALSE)&VLOOKUP(A71,[1]データシート!$A$1:$G$65536,4,FALSE))) -> 熊味町 | C71: =IF(B71="","",SUM(D71:E71)) -> 3459 | D71: =IF(ISNA(VLOOKUP(A71,[1]データシート!$A$1:$G$65536,6,FALSE)),"",SUMIF([1]データシート!$A$1:$A$65536,[1]集計表!A71,[1]データシート!$F$1:$F$65536)) -> 1857 | E71: =IF(ISNA(VLOOKUP(A71,[1]データシート!$A$1:$G$65536,7,FALSE)),"",SUMIF([1]データシート!$A$1:$A$65536,[1]集計表!A71,[1]データシート!$G$1:$G$65536)) -> 1602 | F71: =IF(ISNA(VLOOKUP(A71,[1]データシート!$A$1:$G$65536,5,FALSE)),"",SUMIF([1]データシート!$A$1:$A$65536,[1]集計表!A71,[1]データシート!$E$1:$E$65536)) -> 1681 | G71: 097000 | H71: =IF(ISNA(VLOOKUP(G71,[1]データシート!$A$1:$I$65536,9,FALSE)),"",IF(RIGHT(G71,3) = "000",VLOOKUP(G71,[1]データシート!$A$1:$I$65536,9,FALSE),VLOOKUP(G71,[1]データシート!$A$1:$I$65536,9,FALSE)&VLOOKUP(G71,[1]データシート!$A$1:$G$65536,4,FALSE))) -> 中根町 | I71: =IF(H71="","",SUM(J71:K71)) -> 57 | J71: =IF(ISNA(VLOOKUP(G71,[1]データシート!$A$1:$G$65536,6,FALSE)),"",SUMIF([1]データシート!$A$1:$A$65536,[1]集計表!G71,[1]データシート!$F$1:$F$65536)) -> 23 | K71: =IF(ISNA(VLOOKUP(G71,[1]データシート!$A$1:$G$65536,7,FALSE)),"",SUMIF([1]データシート!$A$1:$A$65536,[1]集計表!G71,[1]データシート!$G$1:$G$65536)) -> 34 | L71: =IF(ISNA(VLOOKUP(G71,[1]データシート!$A$1:$G$65536,5,FALSE)),"",SUMIF([1]データシート!$A$1:$A$65536,[1]集計表!G71,[1]データシート!$E$1:$E$65536)) -> 28 | M71: 米 津 地 区 | T71: =IF(ISNA(VLOOKUP(S71,[1]データシート!$A$1:$I$65536,9,FALSE)),"",IF(RIGHT(S71,3) = "000",VLOOKUP(S71,[1]データシート!$A$1:$I$65536,9,FALSE),VLOOKUP(S71,[1]データシート!$A$1:$I$65536,9,FALSE)&VLOOKUP(S71,[1]データシート!$A$1:$G$65536,4,FALSE))) | U71: =IF(T71="","",SUM(V71:W71)) | V71: =IF(ISNA(VLOOKUP(S71,[1]データシート!$A$1:$G$65536,6,FALSE)),"",SUMIF([1]データシート!$A$1:$A$65536,[1]集計表!S71,[1]データシート!$F$1:$F$65536)) | W71: =IF(ISNA(VLOOKUP(S71,[1]データシート!$A$1:$G$65536,7,FALSE)),"",SUMIF([1]データシート!$A$1:$A$65536,[1]集計表!S71,[1]データシート!$G$1:$G$65536)) | X71: =IF(ISNA(VLOOKUP(S71,[1]データシート!$A$1:$G$65536,5,FALSE)),"",SUMIF([1]データシート!$A$1:$A$65536,[1]集計表!S71,[1]データシート!$E$1:$E$65536))
A72: 130000 | B72: =IF(ISNA(VLOOKUP(A72,[1]データシート!$A$1:$I$65536,9,FALSE)),"",IF(RIGHT(A72,3) = "000",VLOOKUP(A72,[1]データシート!$A$1:$I$65536,9,FALSE),VLOOKUP(A72,[1]データシート!$A$1:$I$65536,9,FALSE)&VLOOKUP(A72,[1]データシート!$A$1:$G$65536,4,FALSE))) -> 八ツ面町 | C72: =IF(B72="","",SUM(D72:E72)) -> 1102 | D72: =IF(ISNA(VLOOKUP(A72,[1]データシート!$A$1:$G$65536,6,FALSE)),"",SUMIF([1]データシート!$A$1:$A$65536,[1]集計表!A72,[1]データシート!$F$1:$F$65536)) -> 531 | E72: =IF(ISNA(VLOOKUP(A72,[1]データシート!$A$1:$G$65536,7,FALSE)),"",SUMIF([1]データシート!$A$1:$A$65536,[1]集計表!A72,[1]データシート!$G$1:$G$65536)) -> 571 | F72: =IF(ISNA(VLOOKUP(A72,[1]データシート!$A$1:$G$65536,5,FALSE)),"",SUMIF([1]データシート!$A$1:$A$65536,[1]集計表!A72,[1]データシート!$E$1:$E$65536)) -> 517 | H72: =IF(ISNA(VLOOKUP(G72,[1]データシート!$A$1:$I$65536,9,FALSE)),"",IF(RIGHT(G72,3) = "000",VLOOKUP(G72,[1]データシート!$A$1:$I$65536,9,FALSE),VLOOKUP(G72,[1]データシート!$A$1:$I$65536,9,FALSE)&VLOOKUP(G72,[1]データシート!$A$1:$G$65536,4,FALSE))) | I72: =IF(H72="","",SUM(J72:K72)) | J72: =IF(ISNA(VLOOKUP(G72,[1]データシート!$A$1:$G$65536,6,FALSE)),"",SUMIF([1]データシート!$A$1:$A$65536,[1]集計表!G72,[1]データシート!$F$1:$F$65536)) | K72: =IF(ISNA(VLOOKUP(G72,[1]データシート!$A$1:$G$65536,7,FALSE)),"",SUMIF([1]データシート!$A$1:$A$65536,[1]集計表!G72,[1]データシート!$G$1:$G$65536)) | L72: =IF(ISNA(VLOOKUP(G72,[1]データシート!$A$1:$G$65536,5,FALSE)),"",SUMIF([1]データシート!$A$1:$A$65536,[1]集計表!G72,[1]データシート!$E$1:$E$65536)) | M72: 135000 | N72: =IF(ISNA(VLOOKUP(M72,[1]データシート!$A$1:$I$65536,9,FALSE)),"",IF(RIGHT(M72,3) = "000",VLOOKUP(M72,[1]データシート!$A$1:$I$65536,9,FALSE),VLOOKUP(M72,[1]データシート!$A$1:$I$65536,9,FALSE)&VLOOKUP(M72,[1]データシート!$A$1:$G$65536,4,FALSE))) -> 米津町 | O72: =IF(N72="","",SUM(P72:Q72)) -> 6384 | P72: =IF(ISNA(VLOOKUP(M72,[1]データシート!$A$1:$G$65536,6,FALSE)),"",SUMIF([1]データシート!$A$1:$A$65536,[1]集計表!M72,[1]データシート!$F$1:$F$65536)) -> 3401 | Q72: =IF(ISNA(VLOOKUP(M72,[1]データシート!$A$1:$G$65536,7,FALSE)),"",SUMIF([1]データシート!$A$1:$A$65536,[1]集計表!M72,[1]データシート!$G$1:$G$65536)) -> 2983 | R72: =IF(ISNA(VLOOKUP(M72,[1]データシート!$A$1:$G$65536,5,FALSE)),"",SUMIF([1]データシート!$A$1:$A$65536,[1]集計表!M72,[1]データシート!$E$1:$E$65536)) -> 2991 | S72: 幡豆地区 計 | U72: =SUM(U64:U71) -> 10505 | V72: =SUM(V64:V71) -> 5158 | W72: =SUM(W64:W71) -> 5347 | X72: =SUM(X64:X71) -> 4261
A73: 052000 | B73: =IF(ISNA(VLOOKUP(A73,[1]データシート!$A$1:$I$65536,9,FALSE)),"",IF(RIGHT(A73,3) = "000",VLOOKUP(A73,[1]データシート!$A$1:$I$65536,9,FALSE),VLOOKUP(A73,[1]データシート!$A$1:$I$65536,9,FALSE)&VLOOKUP(A73,[1]データシート!$A$1:$G$65536,4,FALSE))) -> 志籠谷町 | C73: =IF(B73="","",SUM(D73:E73)) -> 345 | D73: =IF(ISNA(VLOOKUP(A73,[1]データシート!$A$1:$G$65536,6,FALSE)),"",SUMIF([1]データシート!$A$1:$A$65536,[1]集計表!A73,[1]データシート!$F$1:$F$65536)) -> 179 | E73: =IF(ISNA(VLOOKUP(A73,[1]データシート!$A$1:$G$65536,7,FALSE)),"",SUMIF([1]データシート!$A$1:$A$65536,[1]集計表!A73,[1]データシート!$G$1:$G$65536)) -> 166 | F73: =IF(ISNA(VLOOKUP(A73,[1]データシート!$A$1:$G$65536,5,FALSE)),"",SUMIF([1]データシート!$A$1:$A$65536,[1]集計表!A73,[1]データシート!$E$1:$E$65536)) -> 138 | G73: 寺津地区 計 | I73: =SUM(I61:I72) -> 8158 | J73: =SUM(J61:J72) -> 4149 | K73: =SUM(K61:K72) -> 4009 | L73: =SUM(L61:L72) -> 3450 | M73: 126000 | N73: =IF(ISNA(VLOOKUP(M73,[1]データシート!$A$1:$I$65536,9,FALSE)),"",IF(RIGHT(M73,3) = "000",VLOOKUP(M73,[1]データシート!$A$1:$I$65536,9,FALSE),VLOOKUP(M73,[1]データシート!$A$1:$I$65536,9,FALSE)&VLOOKUP(M73,[1]データシート!$A$1:$G$65536,4,FALSE))) -> 南中根町 | O73: =IF(N73="","",SUM(P73:Q73)) -> 743 | P73: =IF(ISNA(VLOOKUP(M73,[1]データシート!$A$1:$G$65536,6,FALSE)),"",SUMIF([1]データシート!$A$1:$A$65536,[1]集計表!M73,[1]データシート!$F$1:$F$65536)) -> 377 | Q73: =IF(ISNA(VLOOKUP(M73,[1]データシート!$A$1:$G$65536,7,FALSE)),"",SUMIF([1]データシート!$A$1:$A$65536,[1]集計表!M73,[1]データシート!$G$1:$G$65536)) -> 366 | R73: =IF(ISNA(VLOOKUP(M73,[1]データシート!$A$1:$G$65536,5,FALSE)),"",SUMIF([1]データシート!$A$1:$A$65536,[1]集計表!M73,[1]データシート!$E$1:$E$65536)) -> 276 | S73: 旧西尾地区計 | U73: =O77+O70+O45+O30+I24+I59+I73 -> 113706 | V73: =P77+P70+P45+P30+J24+J59+J73 -> 58119 | W73: =Q77+Q70+Q45+Q30+K24+K59+K73 -> 55587 | X73: =R77+R70+R45+R30+L24+L59+L73 -> 48798
A74: 051000 | B74: =IF(ISNA(VLOOKUP(A74,[1]データシート!$A$1:$I$65536,9,FALSE)),"",IF(RIGHT(A74,3) = "000",VLOOKUP(A74,[1]データシート!$A$1:$I$65536,9,FALSE),VLOOKUP(A74,[1]データシート!$A$1:$I$65536,9,FALSE)&VLOOKUP(A74,[1]データシート!$A$1:$G$65536,4,FALSE))) -> 志貴野町 | C74: =IF(B74="","",SUM(D74:E74)) -> 305 | D74: =IF(ISNA(VLOOKUP(A74,[1]データシート!$A$1:$G$65536,6,FALSE)),"",SUMIF([1]データシート!$A$1:$A$65536,[1]集計表!A74,[1]データシート!$F$1:$F$65536)) -> 154 | E74: =IF(ISNA(VLOOKUP(A74,[1]データシート!$A$1:$G$65536,7,FALSE)),"",SUMIF([1]データシート!$A$1:$A$65536,[1]集計表!A74,[1]データシート!$G$1:$G$65536)) -> 151 | F74: =IF(ISNA(VLOOKUP(A74,[1]データシート!$A$1:$G$65536,5,FALSE)),"",SUMIF([1]データシート!$A$1:$A$65536,[1]集計表!A74,[1]データシート!$E$1:$E$65536)) -> 113 | G74: 福 地 地 区 | O74: =IF(N74="","",SUM(P74:Q74)) | S74: 一色地区計 | U74: =+U32 -> 22625 | V74: =+V32 -> 11287 | W74: =+W32 -> 11338 | X74: =+X32 -> 8979
A75: 098000 | B75: =IF(ISNA(VLOOKUP(A75,[1]データシート!$A$1:$I$65536,9,FALSE)),"",IF(RIGHT(A75,3) = "000",VLOOKUP(A75,[1]データシート!$A$1:$I$65536,9,FALSE),VLOOKUP(A75,[1]データシート!$A$1:$I$65536,9,FALSE)&VLOOKUP(A75,[1]データシート!$A$1:$G$65536,4,FALSE))) -> 中原町 | C75: =IF(B75="","",SUM(D75:E75)) -> 752 | D75: =IF(ISNA(VLOOKUP(A75,[1]データシート!$A$1:$G$65536,6,FALSE)),"",SUMIF([1]データシート!$A$1:$A$65536,[1]集計表!A75,[1]データシート!$F$1:$F$65536)) -> 359 | E75: =IF(ISNA(VLOOKUP(A75,[1]データシート!$A$1:$G$65536,7,FALSE)),"",SUMIF([1]データシート!$A$1:$A$65536,[1]集計表!A75,[1]データシート!$G$1:$G$65536)) -> 393 | F75: =IF(ISNA(VLOOKUP(A75,[1]データシート!$A$1:$G$65536,5,FALSE)),"",SUMIF([1]データシート!$A$1:$A$65536,[1]集計表!A75,[1]データシート!$E$1:$E$65536)) -> 341 | G75: 043000 | H75: =IF(ISNA(VLOOKUP(G75,[1]データシート!$A$1:$I$65536,9,FALSE)),"",IF(RIGHT(G75,3) = "000",VLOOKUP(G75,[1]データシート!$A$1:$I$65536,9,FALSE),VLOOKUP(G75,[1]データシート!$A$1:$I$65536,9,FALSE)&VLOOKUP(G75,[1]データシート!$A$1:$G$65536,4,FALSE))) -> 小焼野町 | I75: =IF(H75="","",SUM(J75:K75)) -> 409 | J75: =IF(ISNA(VLOOKUP(G75,[1]データシート!$A$1:$G$65536,6,FALSE)),"",SUMIF([1]データシート!$A$1:$A$65536,[1]集計表!G75,[1]データシート!$F$1:$F$65536)) -> 193 | K75: =IF(ISNA(VLOOKUP(G75,[1]データシート!$A$1:$G$65536,7,FALSE)),"",SUMIF([1]データシート!$A$1:$A$65536,[1]集計表!G75,[1]データシート!$G$1:$G$65536)) -> 216 | L75: =IF(ISNA(VLOOKUP(G75,[1]データシート!$A$1:$G$65536,5,FALSE)),"",SUMIF([1]データシート!$A$1:$A$65536,[1]集計表!G75,[1]データシート!$E$1:$E$65536)) -> 125 | O75: =IF(N75="","",SUM(P75:Q75)) | S75: 吉良地区計 | U75: =+U62 -> 21510 | V75: =+V62 -> 10743 | W75: =+W62 -> 10767 | X75: =+X62 -> 8606
A76: 096000 | B76: =IF(ISNA(VLOOKUP(A76,[1]データシート!$A$1:$I$65536,9,FALSE)),"",IF(RIGHT(A76,3) = "000",VLOOKUP(A76,[1]データシート!$A$1:$I$65536,9,FALSE),VLOOKUP(A76,[1]データシート!$A$1:$I$65536,9,FALSE)&VLOOKUP(A76,[1]データシート!$A$1:$G$65536,4,FALSE))) -> 道光寺町 | C76: =IF(B76="","",SUM(D76:E76)) -> 1124 | D76: =IF(ISNA(VLOOKUP(A76,[1]データシート!$A$1:$G$65536,6,FALSE)),"",SUMIF([1]データシート!$A$1:$A$65536,[1]集計表!A76,[1]データシート!$F$1:$F$65536)) -> 581 | E76: =IF(ISNA(VLOOKUP(A76,[1]データシート!$A$1:$G$65536,7,FALSE)),"",SUMIF([1]データシート!$A$1:$A$65536,[1]集計表!A76,[1]データシート!$G$1:$G$65536)) -> 543 | F76: =IF(ISNA(VLOOKUP(A76,[1]データシート!$A$1:$G$65536,5,FALSE)),"",SUMIF([1]データシート!$A$1:$A$65536,[1]集計表!A76,[1]データシート!$E$1:$E$65536)) -> 499 | G76: 078000 | H76: =IF(ISNA(VLOOKUP(G76,[1]データシート!$A$1:$I$65536,9,FALSE)),"",IF(RIGHT(G76,3) = "000",VLOOKUP(G76,[1]データシート!$A$1:$I$65536,9,FALSE),VLOOKUP(G76,[1]データシート!$A$1:$I$65536,9,FALSE)&VLOOKUP(G76,[1]データシート!$A$1:$G$65536,4,FALSE))) -> 宅野島町 | I76: =IF(H76="","",SUM(J76:K76)) -> 229 | J76: =IF(ISNA(VLOOKUP(G76,[1]データシート!$A$1:$G$65536,6,FALSE)),"",SUMIF([1]データシート!$A$1:$A$65536,[1]集計表!G76,[1]データシート!$F$1:$F$65536)) -> 112 | K76: =IF(ISNA(VLOOKUP(G76,[1]データシート!$A$1:$G$65536,7,FALSE)),"",SUMIF([1]データシート!$A$1:$A$65536,[1]集計表!G76,[1]データシート!$G$1:$G$65536)) -> 117 | L76: =IF(ISNA(VLOOKUP(G76,[1]データシート!$A$1:$G$65536,5,FALSE)),"",SUMIF([1]データシート!$A$1:$A$65536,[1]集計表!G76,[1]データシート!$E$1:$E$65536)) -> 77 | N76: =IF(ISNA(VLOOKUP(M76,[1]データシート!$A$1:$I$65536,9,FALSE)),"",IF(RIGHT(M76,3) = "000",VLOOKUP(M76,[1]データシート!$A$1:$I$65536,9,FALSE),VLOOKUP(M76,[1]データシート!$A$1:$I$65536,9,FALSE)&VLOOKUP(M76,[1]データシート!$A$1:$G$65536,4,FALSE))) | O76: =IF(N76="","",SUM(P76:Q76)) | P76: =IF(ISNA(VLOOKUP(M76,[1]データシート!$A$1:$G$65536,6,FALSE)),"",SUMIF([1]データシート!$A$1:$A$65536,[1]集計表!M76,[1]データシート!$F$1:$F$65536)) | Q76: =IF(ISNA(VLOOKUP(M76,[1]データシート!$A$1:$G$65536,7,FALSE)),"",SUMIF([1]データシート!$A$1:$A$65536,[1]集計表!M76,[1]データシート!$G$1:$G$65536)) | R76: =IF(ISNA(VLOOKUP(M76,[1]データシート!$A$1:$G$65536,5,FALSE)),"",SUMIF([1]データシート!$A$1:$A$65536,[1]集計表!M76,[1]データシート!$E$1:$E$65536)) | S76: 幡豆地区計 | U76: =+U72 -> 10505 | V76: =+V72 -> 5158 | W76: =+W72 -> 5347 | X76: =+X72 -> 4261
A77: 095001 | B77: =IF(ISNA(VLOOKUP(A77,[1]データシート!$A$1:$I$65536,9,FALSE)),"",IF(RIGHT(A77,3) = "000",VLOOKUP(A77,[1]データシート!$A$1:$I$65536,9,FALSE),VLOOKUP(A77,[1]データシート!$A$1:$I$65536,9,FALSE)&VLOOKUP(A77,[1]データシート!$A$1:$G$65536,4,FALSE))) -> 道光寺１丁目 | C77: =IF(B77="","",SUM(D77:E77)) -> 98 | D77: =IF(ISNA(VLOOKUP(A77,[1]データシート!$A$1:$G$65536,6,FALSE)),"",SUMIF([1]データシート!$A$1:$A$65536,[1]集計表!A77,[1]データシート!$F$1:$F$65536)) -> 49 | E77: =IF(ISNA(VLOOKUP(A77,[1]データシート!$A$1:$G$65536,7,FALSE)),"",SUMIF([1]データシート!$A$1:$A$65536,[1]集計表!A77,[1]データシート!$G$1:$G$65536)) -> 49 | F77: =IF(ISNA(VLOOKUP(A77,[1]データシート!$A$1:$G$65536,5,FALSE)),"",SUMIF([1]データシート!$A$1:$A$65536,[1]集計表!A77,[1]データシート!$E$1:$E$65536)) -> 41 | G77: 008000 | H77: =IF(ISNA(VLOOKUP(G77,[1]データシート!$A$1:$I$65536,9,FALSE)),"",IF(RIGHT(G77,3) = "000",VLOOKUP(G77,[1]データシート!$A$1:$I$65536,9,FALSE),VLOOKUP(G77,[1]データシート!$A$1:$I$65536,9,FALSE)&VLOOKUP(G77,[1]データシート!$A$1:$G$65536,4,FALSE))) -> 鵜ケ池町 | I77: =IF(H77="","",SUM(J77:K77)) -> 549 | J77: =IF(ISNA(VLOOKUP(G77,[1]データシート!$A$1:$G$65536,6,FALSE)),"",SUMIF([1]データシート!$A$1:$A$65536,[1]集計表!G77,[1]データシート!$F$1:$F$65536)) -> 284 | K77: =IF(ISNA(VLOOKUP(G77,[1]データシート!$A$1:$G$65536,7,FALSE)),"",SUMIF([1]データシート!$A$1:$A$65536,[1]集計表!G77,[1]データシート!$G$1:$G$65536)) -> 265 | L77: =IF(ISNA(VLOOKUP(G77,[1]データシート!$A$1:$G$65536,5,FALSE)),"",SUMIF([1]データシート!$A$1:$A$65536,[1]集計表!G77,[1]データシート!$E$1:$E$65536)) -> 220 | M77: 米津地区 計 | O77: =SUM(O72:O76) -> 7127 | P77: =SUM(P72:P76) -> 3778 | Q77: =SUM(Q72:Q76) -> 3349 | R77: =SUM(R72:R76) -> 3267 | S77: 合 計 | U77: =SUM(U73:U76) -> 168346 | V77: =SUM(V73:V76) -> 85307 | W77: =SUM(W73:W76) -> 83039 | X77: =SUM(X73:X76) -> 70644
V79: =+[1]データシート!O3 -> 85307 | W79: =+[1]データシート!P3 -> 83039 | X79: =+[1]データシート!N3 -> 70644

Sheet 日本人
G1: 公 称 町 名 別 集 計 表 （日本人） | T1: 46296 | V1: 現在 | W1: 西尾市 市民課
A3: 町名 | C3: 合計 | D3: 男 | E3: 女 | F3: 世帯 | G3: 町名 | I3: 合計 | J3: 男 | K3: 女 | L3: 世帯 | M3: 町名 | O3: 合計 | P3: 男 | Q3: 女 | R3: 世帯 | S3: 町名 | U3: 合計 | V3: 男 | W3: 女 | X3: 世帯
A4: 西 尾 地 区 | G4: 061000 | H4: 新渡場町 | I4: 567 | J4: 289 | K4: 278 | L4: 236 | M4: 022000 | N4: 鎌谷町 | O4: 490 | P4: 234 | Q4: 256 | R4: 213 | S4: 一 色 地 区
A5: 068000 | B5: 須田町 | C5: 135 | D5: 59 | E5: 76 | F5: 60 | G5: 060001 | H5: 新渡場１丁目 | I5: 280 | J5: 141 | K5: 139 | L5: 120 | M5: 064000 | N5: 十郎島町 | O5: 201 | P5: 101 | Q5: 100 | R5: 74 | S5: 149000 | T5: 一色町赤羽 | U5: 1584 | V5: 763 | W5: 821 | X5: 611
A6: 121000 | B6: 本町 | C6: 132 | D6: 68 | E6: 64 | F6: 65 | G6: 060002 | H6: 新渡場２丁目 | I6: 175 | J6: 97 | K6: 78 | L6: 88 | M6: 120000 | N6: 細池町 | O6: 710 | P6: 360 | Q6: 350 | R6: 249 | S6: 150000 | T6: 一色町味浜 | U6: 2314 | V6: 1126 | W6: 1188 | X6: 925
A7: 045000 | B7: 幸町 | C7: 37 | D7: 20 | E7: 17 | F7: 13 | G7: 005000 | H7: 伊藤町 | I7: 612 | J7: 303 | K7: 309 | L7: 250 | M7: 031000 | N7: 川口町 | O7: 535 | P7: 260 | Q7: 275 | R7: 196 | S7: 151000 | T7: 一色町生田 | U7: 1019 | V7: 529 | W7: 490 | X7: 362
A8: 046000 | B8: 肴町 | C8: 70 | D8: 34 | E8: 36 | F8: 29 | G8: 148001 | H8: 伊藤１丁目 | I8: 322 | J8: 152 | K8: 170 | L8: 131 | M8: 117000 | N8: 深池町 | O8: 245 | P8: 119 | Q8: 126 | R8: 93 | S8: 152000 | T8: 一色町池田 | U8: 670 | V8: 328 | W8: 342 | X8: 235
A9: 089000 | B9: 天王町 | C9: 105 | D9: 44 | E9: 61 | F9: 45 | G9: 148002 | H9: 伊藤２丁目 | I9: 187 | J9: 87 | K9: 100 | L9: 76 | M9: 114000 | N9: 菱池町 | O9: 454 | P9: 232 | Q9: 222 | R9: 170 | S9: 153000 | T9: 一色町一色 | U9: 5354 | V9: 2699 | W9: 2655 | X9: 2169
A10: 100000 | B10: 中町 | C10: 164 | D10: 80 | E10: 84 | F10: 74 | G10: 148003 | H10: 伊藤３丁目 | I10: 404 | J10: 213 | K10: 191 | L10: 176 | M10: 072000 | N10: 須脇町 | O10: 182 | P10: 94 | Q10: 88 | R10: 64 | S10: 154000 | T10: 一色町大塚 | U10: 797 | V10: 398 | W10: 399 | X10: 279
A11: 034000 | B11: 錦城町 | C11: 313 | D11: 152 | E11: 161 | F11: 142 | G11: 148004 | H11: 伊藤４丁目 | I11: 580 | J11: 294 | K11: 286 | L11: 231 | M11: 044000 | N11: 斉藤町 | O11: 369 | P11: 175 | Q11: 194 | R11: 129 | S11: 155000 | T11: 一色町開正 | U11: 765 | V11: 365 | W11: 400 | X11: 306
A12: 001000 | B12: 葵町 | C12: 276 | D12: 139 | E12: 137 | F12: 121 | G12: 148005 | H12: 伊藤５丁目 | I12: 277 | J12: 135 | K12: 142 | L12: 112 | M12: 103000 | N12: 熱池町 | O12: 377 | P12: 183 | Q12: 194 | R12: 160 | S12: 156000 | T12: 一色町小薮 | U12: 87 | V12: 46 | W12: 41 | X12: 29
A13: 050000 | B13: 塩町 | C13: 57 | D13: 26 | E13: 31 | F13: 25 | G13: 091000 | H13: 戸ケ崎町 | I13: 271 | J13: 121 | K13: 150 | L13: 96 | M13: 101000 | N13: 長縄町 | O13: 139 | P13: 63 | Q13: 76 | R13: 60 | S13: 157000 | T13: 一色町坂田新田 | U13: 39 | V13: 20 | W13: 19 | X13: 14
A14: 122000 | B14: 満全町 | C14: 44 | D14: 20 | E14: 24 | F14: 21 | G14: 090001 | H14: 戸ケ崎１丁目 | I14: 223 | J14: 116 | K14: 107 | L14: 100 | M14: 024000 | N14: 上道目記町 | O14: 548 | P14: 281 | Q14: 267 | R14: 208 | S14: 158000 | T14: 一色町酒手島 | U14: 727 | V14: 364 | W14: 363 | X14: 254
A15: 020000 | B15: 会生町 | C15: 81 | D15: 40 | E15: 41 | F15: 44 | G15: 090002 | H15: 戸ケ崎２丁目 | I15: 715 | J15: 366 | K15: 349 | L15: 305 | M15: 053000 | N15: 下道目記町 | O15: 256 | P15: 134 | Q15: 122 | R15: 89 | S15: 159000 | T15: 一色町佐久島 | U15: 172 | V15: 75 | W15: 97 | X15: 107
A16: 065000 | B16: 順海町 | C16: 71 | D16: 34 | E16: 37 | F16: 22 | G16: 090003 | H16: 戸ケ崎３丁目 | I16: 1096 | J16: 576 | K16: 520 | L16: 485 | M16: 111000 | N16: 針曽根町 | O16: 347 | P16: 179 | Q16: 168 | R16: 134 | S16: 160000 | T16: 一色町治明 | U16: 1360 | V16: 664 | W16: 696 | X16: 527
... A18: 006000 | B18: 伊文町 | C18: 129 | D18: 62 | E18: 67 | F18: 65 | G18: 090005 | H18: 戸ケ崎５丁目 | I18: 691 | J18: 327 | K18: 364 | L18: 290 | M18: 108000 | N18: 八ケ尻町 | O18: 184 | P18: 92 | Q18: 92 | R18: 67 | S18: 162000 | T18: 一色町惣五郎 | U18: 79 | V18: 38 | W18: 41 | X18: 26
A19: 032000 | B19: 瓦町 | C19: 104 | D19: 53 | E19: 51 | F19: 47 | M19: 004000 | N19: 市子町 | O19: 754 | P19: 370 | Q19: 384 | R19: 292 | S19: 163000 | T19: 一色町対米 | U19: 1318 | V19: 660 | W19: 658 | X19: 527
A20: 131000 | B20: 矢場町 | C20: 100 | D20: 47 | E20: 53 | F20: 49 | M20: 115000 | N20: 平口町 | O20: 388 | P20: 171 | Q20: 217 | R20: 177 | S20: 164000 | T20: 一色町中外沢 | U20: 573 | V20: 285 | W20: 288 | X20: 192
A21: 014000 | B21: 大給町 | C21: 268 | D21: 118 | E21: 150 | F21: 117 | M21: 049000 | N21: 笹曽根町 | O21: 247 | P21: 121 | Q21: 126 | R21: 79 | S21: 165000 | T21: 一色町野田 | U21: 408 | V21: 194 | W21: 214 | X21: 152
A22: 112000 | B22: 馬場町 | C22: 181 | D22: 90 | E22: 91 | F22: 92 | M22: 134000 | N22: 横手町 | O22: 387 | P22: 199 | Q22: 188 | R22: 133 | S22: 166000 | T22: 一色町藤江 | U22: 149 | V22: 75 | W22: 74 | X22: 53
A23: 133000 | B23: 弥生町 | C23: 107 | D23: 58 | E23: 49 | F23: 47 | M23: 087000 | N23: 天竹町 | O23: 208 | P23: 100 | Q23: 108 | R23: 78 | S23: 167000 | T23: 一色町細川 | U23: 97 | V23: 42 | W23: 55 | X23: 31
A24: 066000 | B24: 末広町 | C24: 62 | D24: 27 | E24: 35 | F24: 23 | G24: 西尾地区 計 | I24: 45085 | J24: 22720 | K24: 22365 | L24: 19794 | M24: 107000 | N24: 野々宮町 | O24: 260 | P24: 137 | Q24: 123 | R24: 111 | S24: 168000 | T24: 一色町前野 | U24: 624 | V24: 316 | W24: 308 | X24: 260
A25: 085000 | B25: 鶴舞町 | C25: 171 | D25: 84 | E25: 87 | F25: 66 | G25: 平 坂 地 区 | S25: 169000 | T25: 一色町松木島 | U25: 1700 | V25: 831 | W25: 869 | X25: 634
A26: 088000 | B26: 天神町 | C26: 198 | D26: 98 | E26: 100 | F26: 86 | G26: 099000 | H26: 中畑町 | I26: 2450 | J26: 1229 | K26: 1221 | L26: 1024 | S26: 170000 | T26: 一色町養ケ島 | U26: 196 | V26: 94 | W26: 102 | X26: 87
A27: 029000 | B27: 亀沢町 | C27: 692 | D27: 335 | E27: 357 | F27: 306 | G27: 142001 | H27: 中畑１丁目 | I27: 417 | J27: 210 | K27: 207 | L27: 155
A28: 080000 | B28: 千歳町 | C28: 68 | D28: 33 | E28: 35 | F28: 29 | G28: 142002 | H28: 中畑２丁目 | I28: 264 | J28: 124 | K28: 140 | L28: 104
A29: 083000 | B29: 鶴ケ崎町 | C29: 76 | D29: 42 | E29: 34 | F29: 33 | G29: 118000 | H29: 平坂町 | I29: 3974 | J29: 2057 | K29: 1917 | L29: 1688
A30: 063000 | B30: 新屋敷町 | C30: 265 | D30: 139 | E30: 126 | F30: 121 | G30: 036000 | H30: 楠村町 | I30: 2690 | J30: 1383 | K30: 1307 | L30: 1110 | M30: 福地地区 計 | O30: 8849 | P30: 4398 | Q30: 4451 | R30: 3329
A31: 067000 | B31: 菅原町 | C31: 213 | D31: 107 | E31: 106 | F31: 74 | G31: 106000 | H31: 西小梛町 | I31: 184 | J31: 97 | K31: 87 | L31: 65 | M31: 室 場 地 区
A32: 127000 | B32: 宮町 | C32: 489 | D32: 234 | E32: 255 | F32: 201 | G32: 016000 | H32: 小栗町 | I32: 102 | J32: 50 | K32: 52 | L32: 34 | M32: 128000 | N32: 室町 | O32: 863 | P32: 421 | Q32: 442 | R32: 348 | S32: 一色地区 計 | U32: 20618 | V32: 10209 | W32: 10409 | X32: 7985
A33: 048000 | B33: 桜町 | C33: 1576 | D33: 787 | E33: 789 | F33: 712 | G33: 015000 | H33: 奥田町 | I33: 96 | J33: 49 | K33: 47 | L33: 31 | M33: 040000 | N33: 駒場町 | O33: 688 | P33: 355 | Q33: 333 | R33: 265 | S33: 吉 良 地 区
A34: 123000 | B34: 緑町 | C34: 824 | D34: 403 | E34: 421 | F34: 383 | G34: 105000 | M34: 039000 | N34: 花蔵寺町 | O34: 335 | P34: 159 | Q34: 176 | R34: 120 | S34: 171000 | T34: 吉良町饗庭 | U34: 608 | V34: 300 | W34: 308 | X34: 218
A35: 023000 | B35: 神下町 | C35: 151 | D35: 78 | E35: 73 | F35: 66 | G35: 125000 | H35: 南奥田町 | I35: 42 | J35: 20 | K35: 22 | L35: 17 | M35: 073000 | N35: 善明町 | O35: 138 | P35: 66 | Q35: 72 | R35: 51 | S35: 172000 | T35: 吉良町大島 | U35: 341 | V35: 161 | W35: 180 | X35: 127
A36: 009000 | B36: 永楽町 | C36: 461 | D36: 216 | E36: 245 | F36: 180 | G36: 094000 | H36: 富山町 | I36: 645 | J36: 327 | K36: 318 | L36: 249 | M36: 010000 | N36: 家武町 | O36: 519 | P36: 278 | Q36: 241 | R36: 202 | S36: 173000 | T36: 吉良町岡山 | U36: 437 | V36: 210 | W36: 227 | X36: 152
A37: 110000 | B37: 花ノ木町 | C37: 481 | D37: 247 | E37: 234 | F37: 251 | G37: 028000 | H37: 上矢田町 | I37: 2812 | J37: 1474 | K37: 1338 | L37: 1230 | M37: 116000 | N37: 平原町 | O37: 372 | P37: 170 | Q37: 202 | R37: 142 | S37: 174000 | T37: 吉良町荻原 | U37: 1862 | V37: 958 | W37: 904 | X37: 742
A38: 047000 | B38: 桜木町 | C38: 508 | D38: 254 | E38: 254 | F38: 240 | G38: 057000 | H38: 下矢田町 | I38: 1384 | J38: 707 | K38: 677 | L38: 526 | M38: 143000 | S38: 175000 | T38: 吉良町乙川 | U38: 743 | V38: 375 | W38: 368 | X38: 275
A39: 058000 | B39: 城崎町 | C39: 572 | D39: 295 | E39: 277 | F39: 250 | G39: 109000 | H39: 羽塚町 | I39: 2350 | J39: 1217 | K39: 1133 | L39: 947 | M39: 082001 | N39: つくしが丘１丁目 | O39: 8 | P39: 4 | Q39: 4 | R39: 2 | S39: 176000 | T39: 吉良町小山田 | U39: 386 | V39: 178 | W39: 208 | X39: 140
A40: 084000 | B40: 鶴城町 | C40: 600 | D40: 297 | E40: 303 | F40: 216 | G40: 037000 | H40: 国森町 | I40: 1559 | J40: 774 | K40: 785 | L40: 613 | M40: 082005 | N40: つくしが丘５丁目 | O40: 344 | P40: 171 | Q40: 173 | R40: 148 | S40: 177000 | T40: 吉良町上横須賀 | U40: 3566 | V40: 1735 | W40: 1831 | X40: 1400
A41: 071000 | B41: 住吉町 | C41: 239 | D41: 124 | E41: 115 | F41: 118 | G41: 059000 | H41: 新在家町 | I41: 1089 | J41: 553 | K41: 536 | L41: 481 | M41: 082006 | N41: つくしが丘６丁目 | O41: 196 | P41: 104 | Q41: 92 | R41: 78 | S41: 178000 | T41: 吉良町木田 | U41: 891 | V41: 440 | W41: 451 | X41: 357
A42: 077000 | B42: 高畠町 | C42: 404 | D42: 199 | E42: 205 | F42: 190 | G42: 144001 | H42: 新在家１丁目 | I42: 279 | J42: 142 | K42: 137 | L42: 120 | S42: 179000 | T42: 吉良町小牧 | U42: 239 | V42: 124 | W42: 115 | X42: 86
A43: 138000 | B43: 若松町 | C43: 39 | D43: 18 | E43: 21 | F43: 17 | G43: 079000 | H43: 田貫町 | I43: 923 | J43: 449 | K43: 474 | L43: 376 | S43: 180000 | T43: 吉良町酒井 | U43: 157 | V43: 78 | W43: 79 | X43: 57
A44: 033000 | B44: 北旭町 | C44: 26 | D44: 11 | E44: 15 | F44: 11 | G44: 141001 | H44: 田貫１丁目 | I44: 307 | J44: 158 | K44: 149 | L44: 132 | S44: 181000 | T44: 吉良町下横須賀 | U44: 873 | V44: 449 | W44: 424 | X44: 339
A45: 076000 | B45: 高砂町 | C45: 23 | D45: 12 | E45: 11 | F45: 12 | G45: 141002 | H45: 田貫２丁目 | I45: 230 | J45: 124 | K45: 106 | L45: 104 | M45: 室場地区 計 | O45: 3463 | P45: 1728 | Q45: 1735 | R45: 1356 | S45: 182000 | T45: 吉良町白浜新田 | U45: 73 | V45: 39 | W45: 34 | X45: 29
A46: 124000 | B46: 南旭町 | C46: 27 | D46: 9 | E46: 18 | F46: 13 | G46: 141003 | H46: 田貫３丁目 | I46: 238 | J46: 125 | K46: 113 | L46: 111 | M46: 三 和 地 区 | S46: 183000 | T46: 吉良町瀬戸 | U46: 95 | V46: 50 | W46: 45 | X46: 38
A47: 002000 | B47: 吾妻町 | C47: 243 | D47: 110 | E47: 133 | F47: 91 | G47: 141004 | H47: 田貫４丁目 | I47: 219 | J47: 107 | K47: 112 | L47: 79 | M47: 074000 | N47: 高落町 | O47: 212 | P47: 108 | Q47: 104 | R47: 77 | S47: 184000 | T47: 吉良町津平 | U47: 779 | V47: 410 | W47: 369 | X47: 267
A48: 102000 | B48: 永吉町 | C48: 350 | D48: 180 | E48: 170 | F48: 173 | G48: 141005 | H48: 田貫５丁目 | I48: 235 | J48: 118 | K48: 117 | L48: 71 | M48: 062000 | N48: 新村町 | O48: 226 | P48: 115 | Q48: 111 | R48: 84 | S48: 185000 | T48: 吉良町寺嶋 | U48: 291 | V48: 142 | W48: 149 | X48: 132
A49: 146001 | B49: 永吉１丁目 | C49: 192 | D49: 97 | E49: 95 | F49: 97 | G49: 140000 | M49: 113000 | N49: 東浅井町 | O49: 280 | P49: 143 | Q49: 137 | R49: 102 | S49: 186000 | T49: 吉良町富田 | U49: 1075 | V49: 529 | W49: 546 | X49: 385
A50: 146002 | B50: 永吉２丁目 | C50: 224 | D50: 113 | E50: 111 | F50: 97 | G50: 199001 | H50: 平坂吉山１丁目 | I50: 301 | J50: 152 | K50: 149 | L50: 83 | M50: 104000 | N50: 西浅井町 | O50: 849 | P50: 441 | Q50: 408 | R50: 352 | S50: 187000 | T50: 吉良町富好新田 | U50: 1208 | V50: 606 | W50: 602 | X50: 550
A51: 146003 | B51: 永吉３丁目 | C51: 255 | D51: 133 | E51: 122 | F51: 112 | G51: 199002 | H51: 平坂吉山２丁目 | I51: 345 | J51: 175 | K51: 170 | L51: 104 | M51: 017000 | N51: 小島町 | O51: 772 | P51: 364 | Q51: 408 | R51: 324 | S51: 188000 | T51: 吉良町友国 | U51: 592 | V51: 302 | W51: 290 | X51: 237
A52: 146004 | B52: 永吉４丁目 | C52: 343 | D52: 182 | E52: 161 | F52: 131 | G52: 200001 | H52: 富山１丁目 | I52: 448 | J52: 226 | K52: 222 | L52: 140 | M52: 042000 | N52: 米野町 | O52: 282 | P52: 145 | Q52: 137 | R52: 89 | S52: 189000 | T52: 吉良町中野 | U52: 361 | V52: 187 | W52: 174 | X52: 129
A53: 132000 | B53: 山下町 | C53: 1625 | D53: 821 | E53: 804 | F53: 703 | G53: 200002 | H53: 富山２丁目 | I53: 487 | J53: 254 | K53: 233 | L53: 184 | M53: 011000 | N53: 江原町 | O53: 921 | P53: 452 | Q53: 469 | R53: 328 | S53: 190000 | T53: 吉良町八幡川田 | U53: 92 | V53: 42 | W53: 50 | X53: 35
A54: 027000 | B54: 上町 | C54: 2653 | D54: 1272 | E54: 1381 | F54: 1012 | G54: 201001 | H54: 羽塚西ノ山１丁目 | I54: 151 | J54: 79 | K54: 72 | L54: 43 | M54: 139000 | N54: 和気町 | O54: 319 | P54: 162 | Q54: 157 | R54: 107 | S54: 191000 | T54: 吉良町駮馬 | U54: 510 | V54: 257 | W54: 253 | X54: 167
A55: 019000 | B55: 小間町 | C55: 429 | D55: 199 | E55: 230 | F55: 154 | G55: 201002 | H55: 羽塚西ノ山２丁目 | I55: 125 | J55: 65 | K55: 60 | L55: 34 | M55: 012000 | N55: 大和田町 | O55: 243 | P55: 128 | Q55: 115 | R55: 109 | S55: 192000 | T55: 吉良町宮崎 | U55: 442 | V55: 211 | W55: 231 | X55: 237
A56: 056000 | B56: 下町 | C56: 1449 | D56: 730 | E56: 719 | F56: 634 | G56: 202001 | H56: 矢田１丁目 | I56: 264 | J56: 129 | K56: 135 | L56: 89 | M56: 075000 | N56: 高河原町 | O56: 356 | P56: 178 | Q56: 178 | R56: 138 | S56: 193000 | T56: 吉良町宮迫 | U56: 379 | V56: 187 | W56: 192 | X56: 127
A57: 119000 | B57: 法光寺町 | C57: 657 | D57: 346 | E57: 311 | F57: 250 | G57: 202002 | H57: 矢田２丁目 | I57: 413 | J57: 212 | K57: 201 | L57: 133 | M57: 013000 | N57: 岡島町 | O57: 341 | P57: 179 | Q57: 162 | R57: 117 | S57: 194000 | T57: 吉良町吉田 | U57: 4252 | V57: 2109 | W57: 2143 | X57: 1659
A58: 069000 | B58: 住崎町 | C58: 1059 | D58: 545 | E58: 514 | F58: 473 | M58: 018000 | N58: 尾花町 | O58: 170 | P58: 81 | Q58: 89 | R58: 73
A59: 145001 | B59: 住崎１丁目 | C59: 220 | D59: 107 | E59: 113 | F59: 96 | G59: 平坂地区 計 | I59: 25023 | J59: 12786 | K59: 12237 | L59: 10077 | M59: 054000 | N59: 下永良町 | O59: 408 | P59: 210 | Q59: 198 | R59: 157
A60: 145002 | B60: 住崎２丁目 | C60: 277 | D60: 139 | E60: 138 | F60: 119 | G60: 寺 津 地 区 | M60: 025000 | N60: 上永良町 | O60: 506 | P60: 248 | Q60: 258 | R60: 184
A61: 145003 | B61: 住崎３丁目 | C61: 302 | D61: 153 | E61: 149 | F61: 117 | G61: 093000 | H61: 徳永町 | I61: 786 | J61: 406 | K61: 380 | L61: 343 | M61: 021000 | N61: 貝吹町 | O61: 321 | P61: 150 | Q61: 171 | R61: 111
A62: 145004 | B62: 住崎４丁目 | C62: 303 | D62: 150 | E62: 153 | F62: 125 | G62: 086000 | H62: 寺津町 | I62: 3414 | J62: 1715 | K62: 1699 | L62: 1411 | M62: 055000 | N62: 下羽角町 | O62: 750 | P62: 491 | Q62: 259 | R62: 544 | S62: 吉良地区 計 | U62: 20252 | V62: 10079 | W62: 10173 | X62: 7885
A63: 145005 | B63: 住崎５丁目 | C63: 312 | D63: 150 | E63: 162 | F63: 142 | G63: 147001 | H63: 寺津１丁目 | I63: 242 | J63: 129 | K63: 113 | L63: 87 | M63: 026000 | N63: 上羽角町 | O63: 230 | P63: 117 | Q63: 113 | R63: 84 | S63: 幡 豆 地 区
A64: 145006 | B64: 住崎６丁目 | C64: 293 | D64: 149 | E64: 144 | F64: 114 | G64: 147002 | H64: 寺津２丁目 | I64: 182 | J64: 89 | K64: 93 | L64: 74 | M64: 082002 | N64: つくしが丘２丁目 | O64: 207 | P64: 113 | Q64: 94 | R64: 91 | S64: 195000 | T64: 寺部町 | U64: 942 | V64: 478 | W64: 464 | X64: 362
A65: 129000 | B65: 矢曽根町 | C65: 718 | D65: 336 | E65: 382 | F65: 311 | G65: 147003 | H65: 寺津３丁目 | I65: 158 | J65: 87 | K65: 71 | L65: 66 | M65: 082003 | N65: つくしが丘３丁目 | O65: 108 | P65: 108 | Q65: 0 | R65: 108 | S65: 196000 | T65: 鳥羽町 | U65: 1736 | V65: 833 | W65: 903 | X65: 778
A66: 007000 | B66: 今川町 | C66: 2910 | D66: 1453 | E66: 1457 | F66: 1232 | G66: 147004 | H66: 寺津４丁目 | I66: 62 | J66: 31 | K66: 31 | L66: 21 | M66: 082004 | N66: つくしが丘４丁目 | O66: 387 | P66: 191 | Q66: 196 | R66: 175 | S66: 197000 | T66: 西幡豆町 | U66: 3600 | V66: 1754 | W66: 1846 | X66: 1406
A67: 081000 | B67: 丁田町 | C67: 1571 | D67: 813 | E67: 758 | F67: 739 | G67: 147005 | H67: 寺津５丁目 | I67: 76 | J67: 40 | K67: 36 | L67: 25 | S67: 198000 | T67: 東幡豆町 | U67: 3929 | V67: 1963 | W67: 1966 | X67: 1520
A68: 137000 | B68: 寄近町 | C68: 262 | D68: 131 | E68: 131 | F68: 88 | G68: 147006 | H68: 寺津６丁目 | I68: 110 | J68: 55 | K68: 55 | L68: 41
A69: 092000 | B69: 徳次町 | C69: 2198 | D69: 1183 | E69: 1015 | F69: 1073 | G69: 041000 | H69: 巨海町 | I69: 1649 | J69: 830 | K69: 819 | L69: 705
A70: 136000 | B70: 寄住町 | C70: 1684 | D70: 875 | E70: 809 | F70: 833 | G70: 030000 | H70: 刈宿町 | I70: 602 | J70: 296 | K70: 306 | L70: 243 | M70: 三和地区 計 | O70: 7888 | P70: 4124 | Q70: 3764 | R70: 3354
A71: 038000 | B71: 熊味町 | C71: 3231 | D71: 1740 | E71: 1491 | F71: 1544 | G71: 097000 | H71: 中根町 | I71: 57 | J71: 23 | K71: 34 | L71: 28 | M71: 米 津 地 区
A72: 130000 | B72: 八ツ面町 | C72: 1016 | D72: 489 | E72: 527 | F72: 484 | M72: 135000 | N72: 米津町 | O72: 5582 | P72: 2930 | Q72: 2652 | R72: 2454 | S72: 幡豆地区 計 | U72: 10207 | V72: 5028 | W72: 5179 | X72: 4066
A73: 052000 | B73: 志籠谷町 | C73: 334 | D73: 174 | E73: 160 | F73: 135 | G73: 寺津地区 計 | I73: 7338 | J73: 3701 | K73: 3637 | L73: 3044 | M73: 126000 | N73: 南中根町 | O73: 724 | P73: 363 | Q73: 361 | R73: 262 | S73: 旧西尾地区計 | U73: 103952 | V73: 52750 | W73: 51202 | X73: 43670
A74: 051000 | B74: 志貴野町 | C74: 304 | D74: 154 | E74: 150 | F74: 112 | G74: 福 地 地 区 | S74: 一色地区計 | U74: 20618 | V74: 10209 | W74: 10409 | X74: 7985
A75: 098000 | B75: 中原町 | C75: 691 | D75: 324 | E75: 367 | F75: 316 | G75: 043000 | H75: 小焼野町 | I75: 395 | J75: 187 | K75: 208 | L75: 122 | S75: 吉良地区計 | U75: 20252 | V75: 10079 | W75: 10173 | X75: 7885
A76: 096000 | B76: 道光寺町 | C76: 1064 | D76: 558 | E76: 506 | F76: 474 | G76: 078000 | H76: 宅野島町 | I76: 216 | J76: 109 | K76: 107 | L76: 68 | S76: 幡豆地区計 | U76: 10207 | V76: 5028 | W76: 5179 | X76: 4066
A77: 095001 | B77: 道光寺１丁目 | C77: 95 | D77: 48 | E77: 47 | F77: 40 | G77: 008000 | H77: 鵜ケ池町 | I77: 540 | J77: 277 | K77: 263 | L77: 215 | M77: 米津地区 計 | O77: 6306 | P77: 3293 | Q77: 3013 | R77: 2716 | S77: 合 計 | U77: 155029 | V77: 78066 | W77: 76963 | X77: 63606
V79: 78066 | W79: 76963 | X79: 63606

Sheet 外国人
G1: 公 称 町 名 別 集 計 表 （外国人） | T1: 46296 | V1: 現在 | W1: 西尾市 市民課
A3: 町名 | C3: 合計 | D3: 男 | E3: 女 | F3: 世帯 | G3: 町名 | I3: 合計 | J3: 男 | K3: 女 | L3: 世帯 | M3: 町名 | O3: 合計 | P3: 男 | Q3: 女 | R3: 世帯 | S3: 町名 | U3: 合計 | V3: 男 | W3: 女 | X3: 世帯
A4: 西 尾 地 区 | G4: 061000 | H4: 新渡場町 | I4: 166 | J4: 85 | K4: 81 | L4: 67 | M4: 022000 | N4: 鎌谷町 | O4: 40 | P4: 23 | Q4: 17 | R4: 21 | S4: 一 色 地 区
A5: 068000 | B5: 須田町 | C5: 4 | D5: 2 | E5: 2 | F5: 1 | G5: 060001 | H5: 新渡場一丁目 | I5: 17 | J5: 8 | K5: 9 | L5: 6 | M5: 064000 | N5: 十郎島町 | O5: 6 | P5: 3 | Q5: 3 | R5: 2 | S5: 149000 | T5: 一色町赤羽 | U5: 156 | V5: 84 | W5: 72 | X5: 63
A6: 121000 | B6: 本町 | C6: 5 | D6: 2 | E6: 3 | F6: 5 | G6: 060002 | H6: 新渡場二丁目 | I6: 1 | J6: 0 | K6: 1 | L6: 0 | M6: 120000 | N6: 細池町 | O6: 11 | P6: 7 | Q6: 4 | R6: 5 | S6: 150000 | T6: 一色町味浜 | U6: 195 | V6: 96 | W6: 99 | X6: 81
A7: 045000 | G7: 005000 | H7: 伊藤町 | I7: 72 | J7: 43 | K7: 29 | L7: 51 | M7: 031000 | N7: 川口町 | O7: 25 | P7: 13 | Q7: 12 | R7: 6 | S7: 151000 | T7: 一色町生田 | U7: 18 | V7: 11 | W7: 7 | X7: 10
A8: 046000 | B8: 肴町 | C8: 3 | D8: 1 | E8: 2 | F8: 2 | G8: 148001 | H8: 伊藤一丁目 | I8: 31 | J8: 16 | K8: 15 | L8: 17 | M8: 117000 | N8: 深池町 | O8: 18 | P8: 9 | Q8: 9 | R8: 5 | S8: 152000 | T8: 一色町池田 | U8: 14 | V8: 7 | W8: 7 | X8: 7
A9: 089000 | B9: 天王町 | C9: 3 | D9: 1 | E9: 2 | F9: 1 | G9: 148002 | H9: 伊藤二丁目 | I9: 8 | J9: 4 | K9: 4 | L9: 2 | M9: 114000 | N9: 菱池町 | O9: 15 | P9: 3 | Q9: 12 | R9: 11 | S9: 153000 | T9: 一色町一色 | U9: 624 | V9: 334 | W9: 290 | X9: 322
A10: 100000 | B10: 中町 | C10: 4 | D10: 2 | E10: 2 | F10: 2 | G10: 148003 | H10: 伊藤三丁目 | I10: 20 | J10: 9 | K10: 11 | L10: 5 | M10: 072000 | S10: 154000 | T10: 一色町大塚 | U10: 55 | V10: 43 | W10: 12 | X10: 37
