Workbook

Sheet ４月
A1: 日本人及び外国人人口
A2: 令和8年4月1日 現在 | G2: 単位（人）
C4: 本月人口内訳 | D4: 前月人口内訳 | E4: 前月比 | F4: 本月人口 | G4: 前月比
A5: 男 | B5: 日本人 | C5: 78324 | D5: 78507 | E5: =C5-D5 -> -183 | F5: =C5+C6 -> 85422 | G5: =F5-D5-D6 -> -158
B6: 外国人 | C6: 7098 | D6: 7073 | E6: =C6-D6 -> 25
A7: 女 | B7: 日本人 | C7: 77247 | D7: 77364 | E7: =C7-D7 -> -117 | F7: =C7+C8 -> 83195 | G7: =F7-D7-D8 -> -69
B8: 外国人 | C8: 5948 | D8: 5900 | E8: =C8-D8 -> 48
A9: 総数 | B9: 日本人 | C9: 155571 | D9: 155871 | E9: =C9-D9 -> -300 | F9: =C9+C10 -> 168617 | G9: =F9-D9-D10 -> -227
B10: 外国人 | C10: 13046 | D10: 12973 | E10: =C10-D10 -> 73
A11: 世帯数 | B11: 日本人 | C11: 63396 | D11: 63226 | E11: =C11-D11 -> 170 | F11: =C11+C12 -> 70302 | G11: =F11-D11-D12 -> 213
B12: 外国人 | C12: 6906 | D12: 6863 | E12: =C12-D12 -> 43
A14: 前月比（増減の内訳）
C15: 自然増減 | E15: 社会増減 | G15: 前月比
C16: 出生 | D16: 死亡 | E16: 転入など | F16: 転出など
A17: 男 | B17: 日本人 | C17: 31 | D17: -87 | E17: 318 | F17: -445 | G17: =SUM(C17:F17) -> -183
B18: 外国人 | C18: 4 | D18: -1 | E18: 216 | F18: -194 | G18: =SUM(C18:F18) -> 25
A19: 女 | B19: 日本人 | C19: 36 | D19: -72 | E19: 243 | F19: -324 | G19: =SUM(C19:F19) -> -117
B20: 外国人 | C20: 3 | D20: -1 | E20: 151 | F20: -105 | G20: =SUM(C20:F20) -> 48
A21: 総数 | B21: 日本人 | C21: =SUM(C17+C19) -> 67 | D21: =SUM(D17+D19) -> -159 | E21: =SUM(E17+E19) -> 561 | F21: =SUM(F17+F19) -> -769 | G21: =SUM(C21:F21) -> -300
B22: 外国人 | C22: =SUM(C18+C20) -> 7 | D22: =SUM(D18+D20) -> -2 | E22: =SUM(E18+E20) -> 367 | F22: =SUM(F18+F20) -> -299 | G22: =SUM(C22:F22) -> 73

Sheet ５月
A1: 日本人及び外国人人口
A2: 令和8年5月1日 現在 | G2: 単位（人）
C4: 本月人口内訳 | D4: 前月人口内訳 | E4: 前月比 | F4: 本月人口 | G4: 前月比
A5: 男 | B5: 日本人 | C5: 78375 | D5: 78324 | E5: =C5-D5 -> 51 | F5: =C5+C6 -> 85522 | G5: =F5-D5-D6 -> 100
B6: 外国人 | C6: 7147 | D6: 7098 | E6: =C6-D6 -> 49
A7: 女 | B7: 日本人 | C7: 77201 | D7: 77247 | E7: =C7-D7 -> -46 | F7: =C7+C8 -> 83183 | G7: =F7-D7-D8 -> -12
B8: 外国人 | C8: 5982 | D8: 5948 | E8: =C8-D8 -> 34
A9: 総数 | B9: 日本人 | C9: 155576 | D9: 155571 | E9: =C9-D9 -> 5 | F9: =C9+C10 -> 168705 | G9: =F9-D9-D10 -> 88
B10: 外国人 | C10: 13129 | D10: 13046 | E10: =C10-D10 -> 83
A11: 世帯数 | B11: 日本人 | C11: 63548 | D11: 63396 | E11: =C11-D11 -> 152 | F11: =C11+C12 -> 70520 | G11: =F11-D11-D12 -> 218
B12: 外国人 | C12: 6972 | D12: 6906 | E12: =C12-D12 -> 66
A14: 前月比（増減の内訳）
C15: 自然増減 | E15: 社会増減 | G15: 前月比
C16: 出生 | D16: 死亡 | E16: 転入など | F16: 転出など
A17: 男 | B17: 日本人 | C17: 34 | D17: -66 | E17: 277 | F17: -194 | G17: =SUM(C17:F17) -> 51
B18: 外国人 | C18: 6 | D18: -1 | E18: 217 | F18: -173 | G18: =SUM(C18:F18) -> 49
A19: 女 | B19: 日本人 | C19: 32 | D19: -67 | E19: 152 | F19: -163 | G19: =SUM(C19:F19) -> -46
B20: 外国人 | C20: 3 | D20: -3 | E20: 120 | F20: -86 | G20: =SUM(C20:F20) -> 34
A21: 総数 | B21: 日本人 | C21: =SUM(C17+C19) -> 66 | D21: =SUM(D17+D19) -> -133 | E21: =SUM(E17+E19) -> 429 | F21: =SUM(F17+F19) -> -357 | G21: =SUM(C21:F21) -> 5
B22: 外国人 | C22: =SUM(C18+C20) -> 9 | D22: =SUM(D18+D20) -> -4 | E22: =SUM(E18+E20) -> 337 | F22: =SUM(F18+F20) -> -259 | G22: =SUM(C22:F22) -> 83

Sheet ６月
A1: 日本人及び外国人人口
A2: 令和8年6月1日 現在 | G2: 単位（人）
C4: 本月人口内訳 | D4: 前月人口内訳 | E4: 前月比 | F4: 本月人口 | G4: 前月比
A5: 男 | B5: 日本人 | C5: 78370 | D5: 78375 | E5: =C5-D5 -> -5 | F5: =C5+C6 -> 85521 | G5: =F5-D5-D6 -> -1
B6: 外国人 | C6: 7151 | D6: 7147 | E6: =C6-D6 -> 4
A7: 女 | B7: 日本人 | C7: 77136 | D7: 77201 | E7: =C7-D7 -> -65 | F7: =C7+C8 -> 83114 | G7: =F7-D7-D8 -> -69
B8: 外国人 | C8: 5978 | D8: 5982 | E8: =C8-D8 -> -4
A9: 総数 | B9: 日本人 | C9: 155506 | D9: 155576 | E9: =C9-D9 -> -70 | F9: =C9+C10 -> 168635 | G9: =F9-D9-D10 -> -70
B10: 外国人 | C10: 13129 | D10: 13129 | E10: =C10-D10 -> 0
A11: 世帯数 | B11: 日本人 | C11: 63617 | D11: 63548 | E11: =C11-D11 -> 69 | F11: =C11+C12 -> 70577 | G11: =F11-D11-D12 -> 57
B12: 外国人 | C12: 6960 | D12: 6972 | E12: =C12-D12 -> -12
A14: 前月比（増減の内訳）
C15: 自然増減 | E15: 社会増減 | G15: 前月比
C16: 出生 | D16: 死亡 | E16: 転入など | F16: 転出など
A17: 男 | B17: 日本人 | C17: 27 | D17: -80 | E17: 181 | F17: -133 | G17: =SUM(C17:F17) -> -5
B18: 外国人 | C18: 4 | D18: -1 | E18: 148 | F18: -147 | G18: =SUM(C18:F18) -> 4
A19: 女 | B19: 日本人 | C19: 29 | D19: -65 | E19: 91 | F19: -120 | G19: =SUM(C19:F19) -> -65
B20: 外国人 | C20: 0 | D20: 0 | E20: 77 | F20: -81 | G20: =SUM(C20:F20) -> -4
A21: 総数 | B21: 日本人 | C21: =SUM(C17+C19) -> 56 | D21: =SUM(D17+D19) -> -145 | E21: =SUM(E17+E19) -> 272 | F21: =SUM(F17+F19) -> -253 | G21: =SUM(C21:F21) -> -70
B22: 外国人 | C22: =SUM(C18+C20) -> 4 | D22: =SUM(D18+D20) -> -1 | E22: =SUM(E18+E20) -> 225 | F22: =SUM(F18+F20) -> -228 | G22: =SUM(C22:F22) -> 0

Sheet ７月(訂正あり)
A1: 日本人及び外国人人口
A2: 令和8年7月1日 現在 | G2: 単位（人）
C4: 本月人口内訳 | D4: 前月人口内訳 | E4: 前月比 | F4: 本月人口 | G4: 前月比
A5: 男 | B5: 日本人 | C5: 78314 | D5: 78370 | E5: =C5-D5 -> -56 | F5: =C5+C6 -> 85504 | G5: =F5-D5-D6 -> -17
B6: 外国人 | C6: 7190 | D6: 7151 | E6: =C6-D6 -> 39
A7: 女 | B7: 日本人 | C7: 77124 | D7: 77136 | E7: =C7-D7 -> -12 | F7: =C7+C8 -> 83134 | G7: =F7-D7-D8 -> 20
B8: 外国人 | C8: 6010 | D8: 5978 | E8: =C8-D8 -> 32
A9: 総数 | B9: 日本人 | C9: 155438 | D9: 155506 | E9: =C9-D9 -> -68 | F9: =C9+C10 -> 168638 | G9: =F9-D9-D10 -> 3
B10: 外国人 | C10: 13200 | D10: 13129 | E10: =C10-D10 -> 71
A11: 世帯数 | B11: 日本人 | C11: 63661 | D11: 63617 | E11: =C11-D11 -> 44 | F11: =C11+C12 -> 70671 | G11: =F11-D11-D12 -> 94
B12: 外国人 | C12: 7010 | D12: 6960 | E12: =C12-D12 -> 50
A14: 前月比（増減の内訳）
C15: 自然増減 | E15: 社会増減 | G15: 前月比
C16: 出生 | D16: 死亡 | E16: 転入など | F16: 転出など
A17: 男 | B17: 日本人 | C17: 33 | D17: -80 | E17: 163 | F17: -172 | G17: =SUM(C17:F17) -> -56
B18: 外国人 | C18: 8 | D18: 0 | E18: 189 | F18: -158 | G18: =SUM(C18:F18) -> 39
A19: 女 | B19: 日本人 | C19: 49 | D19: -56 | E19: 130 | F19: -135 | G19: =SUM(C19:F19) -> -12
B20: 外国人 | C20: 2 | D20: 0 | E20: 140 | F20: -110 | G20: =SUM(C20:F20) -> 32
A21: 総数 | B21: 日本人 | C21: =SUM(C17+C19) -> 82 | D21: =SUM(D17+D19) -> -136 | E21: =SUM(E17+E19) -> 293 | F21: =SUM(F17+F19) -> -307 | G21: =SUM(C21:F21) -> -68
B22: 外国人 | C22: =SUM(C18+C20) -> 10 | D22: =SUM(D18+D20) -> 0 | E22: =SUM(E18+E20) -> 329 | F22: =SUM(F18+F20) -> -268 | G22: =SUM(C22:F22) -> 71
D23: ※数値を訂正しました （令和8年7月15日） | E23: 社会増減 転入など 男 日本人 164→163 社会増減 転出など 男 日本人 -173→-172

Sheet ８月
A1: 日本人及び外国人人口
A2: 令和8年8月1日 現在 | G2: 単位（人）
C4: 本月人口内訳 | D4: 前月人口内訳 | E4: 前月比 | F4: 本月人口 | G4: 前月比
A5: 男 | B5: 日本人 | C5: 78241 | D5: 78314 | E5: =C5-D5 -> -73 | F5: =C5+C6 -> 85459 | G5: =F5-D5-D6 -> -45
B6: 外国人 | C6: 7218 | D6: 7190 | E6: =C6-D6 -> 28
A7: 女 | B7: 日本人 | C7: 77059 | D7: 77124 | E7: =C7-D7 -> -65 | F7: =C7+C8 -> 83060 | G7: =F7-D7-D8 -> -74
B8: 外国人 | C8: 6001 | D8: 6010 | E8: =C8-D8 -> -9
A9: 総数 | B9: 日本人 | C9: 155300 | D9: 155438 | E9: =C9-D9 -> -138 | F9: =C9+C10 -> 168519 | G9: =F9-D9-D10 -> -119
B10: 外国人 | C10: 13219 | D10: 13200 | E10: =C10-D10 -> 19
A11: 世帯数 | B11: 日本人 | C11: 63662 | D11: 63661 | E11: =C11-D11 -> 1 | F11: =C11+C12 -> 70649 | G11: =F11-D11-D12 -> -22
B12: 外国人 | C12: 6987 | D12: 7010 | E12: =C12-D12 -> -23
A14: 前月比（増減の内訳）
C15: 自然増減 | E15: 社会増減 | G15: 前月比
C16: 出生 | D16: 死亡 | E16: 転入など | F16: 転出など
A17: 男 | B17: 日本人 | C17: 31 | D17: -70 | E17: 138 | F17: -172 | G17: =SUM(C17:F17) -> -73
B18: 外国人 | C18: 4 | D18: -1 | E18: 172 | F18: -147 | G18: =SUM(C18:F18) -> 28
A19: 女 | B19: 日本人 | C19: 35 | D19: -61 | E19: 103 | F19: -142 | G19: =SUM(C19:F19) -> -65
B20: 外国人 | C20: 5 | D20: 0 | E20: 88 | F20: -102 | G20: =SUM(C20:F20) -> -9
A21: 総数 | B21: 日本人 | C21: =SUM(C17+C19) -> 66 | D21: =SUM(D17+D19) -> -131 | E21: =SUM(E17+E19) -> 241 | F21: =SUM(F17+F19) -> -314 | G21: =SUM(C21:F21) -> -138
B22: 外国人 | C22: =SUM(C18+C20) -> 9 | D22: =SUM(D18+D20) -> -1 | E22: =SUM(E18+E20) -> 260 | F22: =SUM(F18+F20) -> -249 | G22: =SUM(C22:F22) -> 19

Sheet ９月
A1: 日本人及び外国人人口
A2: 令和8年9月1日 現在 | G2: 単位（人）
C4: 本月人口内訳 | D4: 前月人口内訳 | E4: 前月比 | F4: 本月人口 | G4: 前月比
A5: 男 | B5: 日本人 | C5: 78160 | D5: 78241 | E5: =C5-D5 -> -81 | F5: =C5+C6 -> 85390 | G5: =F5-D5-D6 -> -69
B6: 外国人 | C6: 7230 | D6: 7218 | E6: =C6-D6 -> 12
A7: 女 | B7: 日本人 | C7: 77018 | D7: 77059 | E7: =C7-D7 -> -41 | F7: =C7+C8 -> 83086 | G7: =F7-D7-D8 -> 26
B8: 外国人 | C8: 6068 | D8: 6001 | E8: =C8-D8 -> 67
A9: 総数 | B9: 日本人 | C9: 155178 | D9: 155300 | E9: =C9-D9 -> -122 | F9: =C9+C10 -> 168476 | G9: =F9-D9-D10 -> -43
B10: 外国人 | C10: 13298 | D10: 13219 | E10: =C10-D10 -> 79
A11: 世帯数 | B11: 日本人 | C11: 63612 | D11: 63662 | E11: =C11-D11 -> -50 | F11: =C11+C12 -> 70644 | G11: =F11-D11-D12 -> -5
B12: 外国人 | C12: 7032 | D12: 6987 | E12: =C12-D12 -> 45
A14: 前月比（増減の内訳）
C15: 自然増減 | E15: 社会増減 | G15: 前月比
C16: 出生 | D16: 死亡 | E16: 転入など | F16: 転出など
A17: 男 | B17: 日本人 | C17: 44 | D17: -80 | E17: 132 | F17: -177 | G17: =SUM(C17:F17) -> -81
B18: 外国人 | C18: 8 | D18: -1 | E18: 126 | F18: -121 | G18: =SUM(C18:F18) -> 12
A19: 女 | B19: 日本人 | C19: 48 | D19: -92 | E19: 114 | F19: -111 | G19: =SUM(C19:F19) -> -41
B20: 外国人 | C20: 8 | D20: 0 | E20: 111 | F20: -52 | G20: =SUM(C20:F20) -> 67
A21: 総数 | B21: 日本人 | C21: =SUM(C17+C19) -> 92 | D21: =SUM(D17+D19) -> -172 | E21: =SUM(E17+E19) -> 246 | F21: =SUM(F17+F19) -> -288 | G21: =SUM(C21:F21) -> -122
B22: 外国人 | C22: =SUM(C18+C20) -> 16 | D22: =SUM(D18+D20) -> -1 | E22: =SUM(E18+E20) -> 237 | F22: =SUM(F18+F20) -> -173 | G22: =SUM(C22:F22) -> 79

Sheet １０月
A1: 日本人及び外国人人口
A2: 令和8年10月1日 現在 | G2: 単位（人）
C4: 本月人口内訳 | D4: 前月人口内訳 | E4: 前月比 | F4: 本月人口 | G4: 前月比
A5: 男 | B5: 日本人 | C5: 78066 | D5: 78160 | E5: =C5-D5 -> -94 | F5: =C5+C6 -> 85307 | G5: =F5-D5-D6 -> -83
B6: 外国人 | C6: 7241 | D6: 7230 | E6: =C6-D6 -> 11
A7: 女 | B7: 日本人 | C7: 76963 | D7: 77018 | E7: =C7-D7 -> -55 | F7: =C7+C8 -> 83039 | G7: =F7-D7-D8 -> -47
B8: 外国人 | C8: 6076 | D8: 6068 | E8: =C8-D8 -> 8
A9: 総数 | B9: 日本人 | C9: 155029 | D9: 155178 | E9: =C9-D9 -> -149 | F9: =C9+C10 -> 168346 | G9: =F9-D9-D10 -> -130
B10: 外国人 | C10: 13317 | D10: 13298 | E10: =C10-D10 -> 19
A11: 世帯数 | B11: 日本人 | C11: 63606 | D11: 63612 | E11: =C11-D11 -> -6 | F11: =C11+C12 -> 70644 | G11: =F11-D11-D12 -> 0
B12: 外国人 | C12: 7038 | D12: 7032 | E12: =C12-D12 -> 6
A14: 前月比（増減の内訳）
C15: 自然増減 | E15: 社会増減 | G15: 前月比
C16: 出生 | D16: 死亡 | E16: 転入など | F16: 転出など
A17: 男 | B17: 日本人 | C17: 28 | D17: -77 | E17: 113 | F17: -158 | G17: =SUM(C17:F17) -> -94
B18: 外国人 | C18: 9 | D18: 0 | E18: 146 | F18: -144 | G18: =SUM(C18:F18) -> 11
A19: 女 | B19: 日本人 | C19: 37 | D19: -69 | E19: 102 | F19: -125 | G19: =SUM(C19:F19) -> -55
B20: 外国人 | C20: 2 | D20: 0 | E20: 88 | F20: -82 | G20: =SUM(C20:F20) -> 8
A21: 総数 | B21: 日本人 | C21: =SUM(C17+C19) -> 65 | D21: =SUM(D17+D19) -> -146 | E21: =SUM(E17+E19) -> 215 | F21: =SUM(F17+F19) -> -283 | G21: =SUM(C21:F21) -> -149
B22: 外国人 | C22: =SUM(C18+C20) -> 11 | D22: =SUM(D18+D20) -> 0 | E22: =SUM(E18+E20) -> 234 | F22: =SUM(F18+F20) -> -226 | G22: =SUM(C22:F22) -> 19

Sheet １１月
A1: 日本人及び外国人人口
A2: 令和8年11月1日 現在 | G2: 単位（人）
C4: 本月人口内訳 | D4: 前月人口内訳 | E4: 前月比 | F4: 本月人口 | G4: 前月比
A5: 男 | B5: 日本人 | E5: =C5-D5 -> 0 | F5: =C5+C6 -> 0 | G5: =F5-D5-D6 -> 0
B6: 外国人 | E6: =C6-D6 -> 0
A7: 女 | B7: 日本人 | E7: =C7-D7 -> 0 | F7: =C7+C8 -> 0 | G7: =F7-D7-D8 -> 0
B8: 外国人 | E8: =C8-D8 -> 0
A9: 総数 | B9: 日本人 | E9: =C9-D9 -> 0 | F9: =C9+C10 -> 0 | G9: =F9-D9-D10 -> 0
B10: 外国人 | E10: =C10-D10 -> 0
A11: 世帯数 | B11: 日本人 | E11: =C11-D11 -> 0 | F11: =C11+C12 -> 0 | G11: =F11-D11-D12 -> 0
B12: 外国人 | E12: =C12-D12 -> 0
A14: 前月比（増減の内訳）
C15: 自然増減 | E15: 社会増減 | G15: 前月比
C16: 出生 | D16: 死亡 | E16: 転入など | F16: 転出など
A17: 男 | B17: 日本人 | G17: =SUM(C17:F17) -> 0
B18: 外国人 | G18: =SUM(C18:F18) -> 0
A19: 女 | B19: 日本人 | G19: =SUM(C19:F19) -> 0
B20: 外国人 | G20: =SUM(C20:F20) -> 0
A21: 総数 | B21: 日本人 | C21: =SUM(C17+C19) -> 0 | D21: =SUM(D17+D19) -> 0 | E21: =SUM(E17+E19) -> 0 | F21: =SUM(F17+F19) -> 0 | G21: =SUM(C21:F21) -> 0
B22: 外国人 | C22: =SUM(C18+C20) -> 0 | D22: =SUM(D18+D20) -> 0 | E22: =SUM(E18+E20) -> 0 | F22: =SUM(F18+F20) -> 0 | G22: =SUM(C22:F22) -> 0

Sheet １２月
A1: 日本人及び外国人人口
A2: 令和8年12月1日 現在 | G2: 単位（人）
C4: 本月人口内訳 | D4: 前月人口内訳 | E4: 前月比 | F4: 本月人口 | G4: 前月比
A5: 男 | B5: 日本人 | E5: =C5-D5 -> 0 | F5: =C5+C6 -> 0 | G5: =F5-D5-D6 -> 0
B6: 外国人 | E6: =C6-D6 -> 0
A7: 女 | B7: 日本人 | E7: =C7-D7 -> 0 | F7: =C7+C8 -> 0 | G7: =F7-D7-D8 -> 0
B8: 外国人 | E8: =C8-D8 -> 0
A9: 総数 | B9: 日本人 | E9: =C9-D9 -> 0 | F9: =C9+C10 -> 0 | G9: =F9-D9-D10 -> 0
B10: 外国人 | E10: =C10-D10 -> 0
A11: 世帯数 | B11: 日本人 | E11: =C11-D11 -> 0 | F11: =C11+C12 -> 0 | G11: =F11-D11-D12 -> 0
B12: 外国人 | E12: =C12-D12 -> 0
A14: 前月比（増減の内訳）
C15: 自然増減 | E15: 社会増減 | G15: 前月比
C16: 出生 | D16: 死亡 | E16: 転入など | F16: 転出など
A17: 男 | B17: 日本人 | G17: =SUM(C17:F17) -> 0
B18: 外国人 | G18: =SUM(C18:F18) -> 0
A19: 女 | B19: 日本人 | G19: =SUM(C19:F19) -> 0
B20: 外国人 | G20: =SUM(C20:F20) -> 0
A21: 総数 | B21: 日本人 | C21: =SUM(C17+C19) -> 0 | D21: =SUM(D17+D19) -> 0 | E21: =SUM(E17+E19) -> 0 | F21: =SUM(F17+F19) -> 0 | G21: =SUM(C21:F21) -> 0
B22: 外国人 | C22: =SUM(C18+C20) -> 0 | D22: =SUM(D18+D20) -> 0 | E22: =SUM(E18+E20) -> 0 | F22: =SUM(F18+F20) -> 0 | G22: =SUM(C22:F22) -> 0

Sheet １月
A1: 日本人及び外国人人口
A2: 令和9年1月1日 現在 | G2: 単位（人）
C4: 本月人口内訳 | D4: 前月人口内訳 | E4: 前月比 | F4: 本月人口 | G4: 前月比
A5: 男 | B5: 日本人 | E5: =C5-D5 -> 0 | F5: =C5+C6 -> 0 | G5: =F5-D5-D6 -> 0
B6: 外国人 | E6: =C6-D6 -> 0
A7: 女 | B7: 日本人 | E7: =C7-D7 -> 0 | F7: =C7+C8 -> 0 | G7: =F7-D7-D8 -> 0
B8: 外国人 | E8: =C8-D8 -> 0
A9: 総数 | B9: 日本人 | E9: =C9-D9 -> 0 | F9: =C9+C10 -> 0 | G9: =F9-D9-D10 -> 0
B10: 外国人 | E10: =C10-D10 -> 0
A11: 世帯数 | B11: 日本人 | E11: =C11-D11 -> 0 | F11: =C11+C12 -> 0 | G11: =F11-D11-D12 -> 0
B12: 外国人 | E12: =C12-D12 -> 0
A14: 前月比（増減の内訳）
C15: 自然増減 | E15: 社会増減 | G15: 前月比
C16: 出生 | D16: 死亡 | E16: 転入など | F16: 転出など
A17: 男 | B17: 日本人 | G17: =SUM(C17:F17) -> 0
B18: 外国人 | G18: =SUM(C18:F18) -> 0
A19: 女 | B19: 日本人 | G19: =SUM(C19:F19) -> 0
B20: 外国人 | G20: =SUM(C20:F20) -> 0
A21: 総数 | B21: 日本人 | C21: =SUM(C17+C19) -> 0 | D21: =SUM(D17+D19) -> 0 | E21: =SUM(E17+E19) -> 0 | F21: =SUM(F17+F19) -> 0 | G21: =SUM(C21:F21) -> 0
B22: 外国人 | C22: =SUM(C18+C20) -> 0 | D22: =SUM(D18+D20) -> 0 | E22: =SUM(E18+E20) -> 0 | F22: =SUM(F18+F20) -> 0 | G22: =SUM(C22:F22) -> 0

Sheet ２月
A1: 日本人及び外国人人口
A2: 令和9年2月1日 現在 | G2: 単位（人）
C4: 本月人口内訳 | D4: 前月人口内訳 | E4: 前月比 | F4: 本月人口 | G4: 前月比
A5: 男 | B5: 日本人 | E5: =C5-D5 -> 0 | F5: =C5+C6 -> 0 | G5: =F5-D5-D6 -> 0
B6: 外国人 | E6: =C6-D6 -> 0
A7: 女 | B7: 日本人 | E7: =C7-D7 -> 0 | F7: =C7+C8 -> 0 | G7: =F7-D7-D8 -> 0
B8: 外国人 | E8: =C8-D8 -> 0
A9: 総数 | B9: 日本人 | E9: =C9-D9 -> 0 | F9: =C9+C10 -> 0 | G9: =F9-D9-D10 -> 0
B10: 外国人 | E10: =C10-D10 -> 0
A11: 世帯数 | B11: 日本人 | E11: =C11-D11 -> 0 | F11: =C11+C12 -> 0 | G11: =F11-D11-D12 -> 0
B12: 外国人 | E12: =C12-D12 -> 0
A14: 前月比（増減の内訳）
C15: 自然増減 | E15: 社会増減 | G15: 前月比
C16: 出生 | D16: 死亡 | E16: 転入など | F16: 転出など
A17: 男 | B17: 日本人 | G17: =SUM(C17:F17) -> 0
B18: 外国人 | G18: =SUM(C18:F18) -> 0
A19: 女 | B19: 日本人 | G19: =SUM(C19:F19) -> 0
B20: 外国人 | G20: =SUM(C20:F20) -> 0
A21: 総数 | B21: 日本人 | C21: =SUM(C17+C19) -> 0 | D21: =SUM(D17+D19) -> 0 | E21: =SUM(E17+E19) -> 0 | F21: =SUM(F17+F19) -> 0 | G21: =SUM(C21:F21) -> 0
B22: 外国人 | C22: =SUM(C18+C20) -> 0 | D22: =SUM(D18+D20) -> 0 | E22: =SUM(E18+E20) -> 0 | F22: =SUM(F18+F20) -> 0 | G22: =SUM(C22:F22) -> 0

Sheet ３月
A1: 日本人及び外国人人口
A2: 令和9年3月1日 現在 | G2: 単位（人）
C4: 本月人口内訳 | D4: 前月人口内訳 | E4: 前月比 | F4: 本月人口 | G4: 前月比
A5: 男 | B5: 日本人 | E5: =C5-D5 -> 0 | F5: =C5+C6 -> 0 | G5: =F5-D5-D6 -> 0
B6: 外国人 | E6: =C6-D6 -> 0
A7: 女 | B7: 日本人 | E7: =C7-D7 -> 0 | F7: =C7+C8 -> 0 | G7: =F7-D7-D8 -> 0
B8: 外国人 | E8: =C8-D8 -> 0
A9: 総数 | B9: 日本人 | E9: =C9-D9 -> 0 | F9: =C9+C10 -> 0 | G9: =F9-D9-D10 -> 0
B10: 外国人 | E10: =C10-D10 -> 0
A11: 世帯数 | B11: 日本人 | E11: =C11-D11 -> 0 | F11: =C11+C12 -> 0 | G11: =F11-D11-D12 -> 0
B12: 外国人 | E12: =C12-D12 -> 0
A14: 前月比（増減の内訳）
C15: 自然増減 | E15: 社会増減 | G15: 前月比
C16: 出生 | D16: 死亡 | E16: 転入など | F16: 転出など
A17: 男 | B17: 日本人 | G17: =SUM(C17:F17) -> 0
B18: 外国人 | G18: =SUM(C18:F18) -> 0
A19: 女 | B19: 日本人 | G19: =SUM(C19:F19) -> 0
B20: 外国人 | G20: =SUM(C20:F20) -> 0
A21: 総数 | B21: 日本人 | C21: =SUM(C17+C19) -> 0 | D21: =SUM(D17+D19) -> 0 | E21: =SUM(E17+E19) -> 0 | F21: =SUM(F17+F19) -> 0 | G21: =SUM(C21:F21) -> 0
B22: 外国人 | C22: =SUM(C18+C20) -> 0 | D22: =SUM(D18+D20) -> 0 | E22: =SUM(E18+E20) -> 0 | F22: =SUM(F18+F20) -> 0 | G22: =SUM(C22:F22) -> 0

Sheet 年度
A2: 令和8年度
A3: 月 | B3: 総人口 | E3: 日本人人口 | G3: 外国人人口 | I3: 世帯数
B4: 日本人人口 | C4: 外国人人口 | D4: 合計 | E4: 男 | F4: 女 | G4: 男 | H4: 女 | I4: 住民基本台帳世帯 | J4: 外国人登録世帯 | K4: 合計
A5: 4 | B5: =SUM(E5,F5) -> 155571 | C5: =SUM(H5,G5) -> 13046 | D5: =SUM(B5:C5) -> 168617 | E5: ='４月'!$C$5 -> 78324 | F5: ='４月'!$C$7 -> 77247 | G5: ='４月'!$C$6 -> 7098 | H5: ='４月'!$C$8 -> 5948 | I5: ='４月'!$C$11 -> 63396 | J5: ='４月'!$C$12 -> 6906 | K5: =SUM(I5:J5) -> 70302
A6: 5 | B6: =SUM(E6,F6) -> 155576 | C6: =SUM(H6,G6) -> 13129 | D6: =SUM(B6:C6) -> 168705 | E6: ='５月'!$C$5 -> 78375 | F6: ='５月'!$C$7 -> 77201 | G6: ='５月'!$C$6 -> 7147 | H6: ='５月'!$C$8 -> 5982 | I6: ='５月'!$C$11 -> 63548 | J6: ='５月'!$C$12 -> 6972 | K6: =SUM(I6:J6) -> 70520
A7: 6 | B7: =SUM(E7,F7) -> 155506 | C7: =SUM(H7,G7) -> 13129 | D7: =SUM(B7:C7) -> 168635 | E7: ='６月'!$C$5 -> 78370 | F7: ='６月'!$C$7 -> 77136 | G7: ='６月'!$C$6 -> 7151 | H7: ='６月'!$C$8 -> 5978 | I7: ='６月'!$C$11 -> 63617 | J7: ='６月'!$C$12 -> 6960 | K7: =SUM(I7:J7) -> 70577
A8: 7 | B8: =SUM(E8,F8) -> 155438 | C8: =SUM(H8,G8) -> 13200 | D8: =SUM(B8:C8) -> 168638 | E8: ='７月(訂正あり)'!$C$5 -> 78314 | F8: ='７月(訂正あり)'!$C$7 -> 77124 | G8: ='７月(訂正あり)'!$C$6 -> 7190 | H8: ='７月(訂正あり)'!$C$8 -> 6010 | I8: ='７月(訂正あり)'!$C$11 -> 63661 | J8: ='７月(訂正あり)'!$C$12 -> 7010 | K8: =SUM(I8:J8) -> 70671
A9: 8 | B9: =SUM(E9,F9) -> 155300 | C9: =SUM(H9,G9) -> 13219 | D9: =SUM(B9:C9) -> 168519 | E9: ='８月'!$C$5 -> 78241 | F9: ='８月'!$C$7 -> 77059 | G9: ='８月'!$C$6 -> 7218 | H9: ='８月'!$C$8 -> 6001 | I9: ='８月'!$C$11 -> 63662 | J9: ='８月'!$C$12 -> 6987 | K9: =SUM(I9:J9) -> 70649
A10: 9 | B10: =SUM(E10,F10) -> 155178 | C10: =SUM(H10,G10) -> 13298 | D10: =SUM(B10:C10) -> 168476 | E10: ='９月'!$C$5 -> 78160 | F10: ='９月'!$C$7 -> 77018 | G10: ='９月'!$C$6 -> 7230 | H10: ='９月'!$C$8 -> 6068 | I10: ='９月'!$C$11 -> 63612 | J10: ='９月'!$C$12 -> 7032 | K10: =SUM(I10:J10) -> 70644
A11: 10 | B11: =SUM(E11,F11) -> 155029 | C11: =SUM(H11,G11) -> 13317 | D11: =SUM(B11:C11) -> 168346 | E11: ='１０月'!$C$5 -> 78066 | F11: ='１０月'!$C$7 -> 76963 | G11: ='１０月'!$C$6 -> 7241 | H11: ='１０月'!$C$8 -> 6076 | I11: ='１０月'!$C$11 -> 63606 | J11: ='１０月'!$C$12 -> 7038 | K11: =SUM(I11:J11) -> 70644
A12: 11 | B12: =SUM(E12,F12) -> 0 | C12: =SUM(H12,G12) -> 0 | D12: =SUM(B12:C12) -> 0 | E12: ='１１月'!$C$5 -> 0 | F12: ='１１月'!$C$7 -> 0 | G12: ='１１月'!$C$6 -> 0 | H12: ='１１月'!$C$8 -> 0 | I12: ='１１月'!$C$11 -> 0 | J12: ='１１月'!$C$12 -> 0 | K12: =SUM(I12:J12) -> 0
A13: 12 | B13: =SUM(E13,F13) -> 0 | C13: =SUM(H13,G13) -> 0 | D13: =SUM(B13:C13) -> 0 | E13: ='１２月'!$C$5 -> 0 | F13: ='１２月'!$C$7 -> 0 | G13: ='１２月'!$C$6 -> 0 | H13: ='１２月'!$C$8 -> 0 | I13: ='１２月'!$C$11 -> 0 | J13: ='１２月'!$C$12 -> 0 | K13: =SUM(I13:J13) -> 0
A14: 1 | B14: =SUM(E14,F14) -> 0 | C14: =SUM(H14,G14) -> 0 | D14: =SUM(B14:C14) -> 0 | E14: ='１月'!$C$5 -> 0 | F14: ='１月'!$C$7 -> 0 | G14: ='１月'!$C$6 -> 0 | H14: 0 | I14: 0 | J14: 0 | K14: =SUM(I14:J14) -> 0
A15: 2 | B15: =SUM(E15,F15) -> 0 | C15: =SUM(H15,G15) -> 0 | D15: =SUM(B15:C15) -> 0 | E15: ='２月'!$C$5 -> 0 | F15: ='２月'!$C$7 -> 0 | G15: ='２月'!$C$6 -> 0 | H15: 0 | I15: 0 | J15: 0 | K15: =SUM(I15:J15) -> 0
A16: 3 | B16: =SUM(E16,F16) -> 0 | C16: =SUM(H16,G16) -> 0 | D16: =SUM(B16:C16) -> 0 | E16: ='３月'!$C$5 -> 0 | F16: ='３月'!$C$7 -> 0 | G16: ='３月'!$C$6 -> 0 | H16: ='３月'!$C$8 -> 0 | I16: ='３月'!$C$11 -> 0 | J16: ='３月'!$C$12 -> 0 | K16: =SUM(I16:J16) -> 0
A17: 増減 | B17: =B16-B5 -> -155571 | C17: =C16-C5 -> -13046 | D17: =D16-D5 -> -168617 | E17: =E16-E5 -> -78324 | F17: =F16-F5 -> -77247 | G17: =G16-G5 -> -7098 | H17: =H16-H5 -> -5948 | I17: =I16-I5 -> -63396 | ... K17: =K16-K5 -> -70302
